Workbook

Sheet Harm KK (2)
A1: Harmonogram 2015 - řešení sankcí u projektů EU - Karlovarský kraj
A2: číslo | B2: příjemce dotace | C2: název a registrační číslo projektu | D2: období realizace projektu | E2: operační program | F2: vyměřený nebo uhrazený platební výměr/ provedená korekce/ uhrazené penále | G2: očekávaná sankce - budoucí platební výměr/ korekce | H2: pokuta ÚOHS | I2: penále/ úrok z posečkání | J2: Stručný průběh | K2: Očekávaná událost | L2: leden - březen 2015 | M2: duben - červen 2015 | N2: červenec - září 2015 | O2: říjen - prosinec 2015 | P2: Poznámka
A3: 1 | B3: Karlovarský kraj | C3: Atlas zajímavostí v Karlovarském kraji - CZ.04.1.05/4.132.1/1795 | D3: 2005 - 2007 | E3: SROP | F3: 5518441 | G3: 5518441 | J3: Odvolání proti PV podáno 8.1.2014 - postoupeno 4. 3. 2014 na FŘ Brno | K3: * rozhodnutí o odvolání * může být vyměřeno penále ve výši dotace * uhrada odvodu a penále zajištěna usnesením ZKK 405/12/14 z 11.12.2014
A4: 2 | B4: Karlovarský kraj | C4: Modernizace Letiště K.Vary - III.etapa, 2. část - CZ.1.09/3.1.00/01.00005 | D4: 18.2.2008-30.5.2009 | E4: ROP | F4: 40674 | G4: 0 | J4: Rozhodnutí o částečném prominutí odvodu z 6.11.2014; odvolání proti PV odesláno 16. 10. 2014 | K4: * rozhodnutí o odvolání * uhrada odvodu
A5: 3 | B5: Karlovarský kraj | C5: Zvyšování kvality vzdělávání standardizací a zlepšováním řídících procesů - CZ.1.07/1.1.00/08.0080 | D5: 1.1.2010-31.12.2012 | E5: OP VK | F5: uhrazeno odvod + penále 2x - 253 214,00 | G5: 2400910 | I5: uhrazen úrok z posečkání 2 796,00 | J5: Protokol č. 220/2012 ze dne 16.1.2014 (odvod 2.654.124,-- Kč); námitky podány 25.2.2014; rozhodnutí o námitkách ze dne 16.6.2014; 16.1.2015 uhrazen úrok z posečkání | K5: * daňová kontrola z FÚ * následně platební výměry * žádost o prominutí odvodu daně a dosud nevyměřeného penále * odvolání proti platebním výměrům * ZKK schválit převod peněžních prostředků * (případně žádost o posečkání odvodu nebo penále)
A6: 4 | B6: Karlovarský kraj | C6: Krajské vzdělávací centrum pro další vzdělávání pedagogických pracovníků - CZ.1.07/1.3.00/14.0026 | D6: 1.4.2010-31.3.2013 | E6: OP VK | F6: uhrazeno odvod + penále 2x - 54 643,00 | G6: 474280.44 | J6: Protokol č. 222/M/2012 z 16.1.2014 (odvod 727.814,40 Kč); námitky; námitky podány 25.2.2014; rozhodnutí o námitkách ze dne 16.6.2014; 16.1.2015 uhrazen úrok z posečkání | K6: * daňová kontrola z FÚ * následně platební výměry * žádost o prominutí odvodu daně a dosud nevyměřeného penále * odvolání proti platebním výměrům * ZKK schválit převod peněžních prostředků * (případně žádost o posečkání odvodu nebo penále)
A7: 5 | B7: Karlovarský kraj | C7: Inovace školského portálu Karlovarského kraje - CZ.1.07/1.3.00/14.0024 | D7: 1.4.2010-31.3.2013 | E7: OP VK | F7: uhrazeno odvod + penále 2x - 54 937,00 | G7: 672878.4 | J7: Protokol č. 221/M/2012 ze dne 16.1.2014 (odvod 528.922,44 Kč); námitky; námitky podány 25.2.2014; rozhodnutí o námitkách ze dne 16.6.2014; 16.1.2015 uhrazen úrok z posečkání | K7: * daňová kontrola z FÚ * následně platební výměry * žádost o prominutí odvodu daně a dosud nevyměřeného penále * odvolání proti platebním výměrům * ZKK schválit převod peněžních prostředků * (případně žádost o posečkání odvodu nebo penále)
A8: 6 | B8: Karlovarský kraj | C8: Dopravní terminál Mariánské Lázně - CZ.1.09/3.2.00/27.00611 | D8: 16.3.2010-27.9.2012 | E8: ROP | G8: 5787124.8 | J8: Protokol o kontrole z 13.8.2014; námitky podány 4.9.2014; vyřízení námitek doručeno 4.11.2014 - zamítnuty | K8: * zahájení daňového řízení z ÚRR * následně platební výměr * žádost o prominutí odvodu daně a dosud nevyměřeného penále * podání odvolání * v ZKK není zajištěna úhrada odvodu
A9: 7 | B9: Karlovarský kraj | C9: Dopravní terminál Cheb - CZ.1.09/3.2.00/17.00610 | D9: 16.10.2010-21.2.2013 | E9: ROP | G9: 4715937.3 | J9: Protokol o kontrole z 12.8.2014 ve znění Dodatku z 20.8.2014; námitky podány 4.9.2014; vyřízení námitek doručeno 4.11.2014 - zamítnuty | K9: * zahájení daňového řízení z ÚRR * následně platební výměr * žádost o prominutí odvodu daně a dosud nevyměřeného penále * podání odvolání * v ZKK není zajištěna úhrada odvodu
A10: 8 | B10: Karlovarský kraj | C10: Personální audit Krajského úřadu Karlovarského kraje - CZ.1.04/4.1.01/57.00124 | D10: 1.9.2010-30.8.2012 | E10: OP LZZ | G10: 3289296 | J10: Námitky podány 30.12.2012; rozhodnutí o námitkách doručeno 22.1.2013 - zamítnuto | K10: * zahájení daňového řízení nebo daňová kontrola * následně platební výměr * žádost o prominutí odvodu daně a dosud nevyměřeného penále * podání odvolání * v ZKK není zajištěna úhrada odvodu
A11: 9 | B11: Karlovarský kraj | C11: Aplikace moderních metod zvyšování výkonnosti, kvality, efektivity a transparentnosti v Karlovarském kraji - CZ.1.04/4.1.00/42.00003 | D11: 1.5.2010-30.4.2013 | E11: OP LZZ | G11: 1007247.4 | J11: Rozhodnutí o námitkách ze dne 6.2.2014 - námitkám částěčně vyhověno - sankce ze 100 % snížena na 25 % | K11: * zahájení daňového řízení nebo daňová kontrola * následně platební výměr * žádost o prominutí odvodu daně a dosud nevyměřeného penále * podání odvolání * v ZKK není zajištěna úhrada odvodu
A12: 10 | B12: Karlovarský kraj | C12: Vytvoření sítě služeb péče o osoby s duševním onemocněním na území Karlovarského kraje - CZ.1.04/3.1.00/05.00062 | D12: 1.5.2012-30.4.2014 | E12: OP LZZ | G12: 26336.35 | J12: Protokol o výsledku kontroly č. 2013/1075 ze dne 7.1.2013; Oznámení o schválení závěrečné MZ a zjednod. ŽoP ze dne 25.7.2014 | K12: * v 7/2013 podány námitky - bez odezvy * zahájení daňového řízení nebo daňová kontrola * následně platební výměr * žádost o prominutí odvodu daně a dosud nevyměřeného penále * podání odvolání * v ZKK není zajištěna úhrada odvodu | P12: APDM
A13: 11 | B13: Karlovarský kraj | C13: V Karlovarském kraji společně plánujeme sociální služby - CZ.1.04/3.1.00/05.00060 | D13: 1.3.2012-28.2.2014 | E13: OP LZZ | G13: 676995 | J13: Protokol o výsledku kontroly č. 2013/628 ze dne 29.10.2013; Oznámení o schválení závěrečné MZ a zjednod. ŽoP ze dne 25.7.2014 | K13: * 31.1.2014 podány námitky - bez odezvy * zahájení daňového řízení nebo daňová kontrola * následně platební výměr * žádost o prominutí odvodu daně a dosud nevyměřeného penále * podání odvolání * v ZKK není zajištěna úhrada odvodu | P13: APDM
A14: 12 | B14: Karlovarský kraj | C14: Interaktivní galerie Karlovy Vary – Becherova vila - CZ.1.09/4.1.00/04.00021 | D14: 1.1.2007 - 28.7.2011 | E14: ROP | G14: 63267368 | J14: Zpráva o auditu operace č. 85 ze dne 6.4.2012; oznámení o zahájení daňového řízení z 19.9.2014; Podání ve věci daňového řízení odesláno 3.10.2014 | K14: * běží daňové řízení * následně platební výměr * žádost o prominutí odvodu daně a dosud nevyměřeného penále * podání odvolání * v ZKK není zajištěna úhrada odvodu | L14: daňové řízení
A15: 12 | B15: Karlovarský kraj | C15: Interaktivní galerie Karlovy Vary – Becherova vila - CZ.1.09/4.1.00/04.00021 | D15: 1.1.2007 - 28.7.2011 | E15: ROP | G15: 11336718 | J15: Zjednodušená žádost o platbu za II.etapu ze dne 28.7.2011; oznamovací dopis ÚRR z 28.2.2013 o pozastavení projektu | K15: * očekáváme zápis z administrativní kontroly ŽoP za II. etapu * neproplacení dotace za II.etapu * stanovit další postup s právníkem
A16: 13 | B16: Karlovarský kraj | C16: Vzdělávání v eGon Centru Karlovarského kraje CZ.1.04/4.1.00/40.00025 | D16: 1.7.2009-30.6.2012 | E16: OP LZZ | G16: 1105 | J16: Podnět k zahájení k prošetření podezření na porušení rozp.kázně ze dne 6.10.2014 | K16: * běží daňová kontrola | L16: daňová kontrola
A17: 15 | B17: Karlovarský kraj | C17: Podpora přírodovědného a technického vzdělávání v Karlovarském kraji CZ.1.07/1.1.00/44.0004 | D17: 1.9.2013-30.6.2015 | E17: OP VK | G17: 327897 | J17: Námitky zaslány dne 4.11.2014; Stanovisko k námitce ze dne 21.11.2014 - zamítnuto | K17: * projekt v realizaci * je možno očekávat kontroly | N17: námitky proti protokolům | O17: vyúčtování ZKK
A18: 16 | B18: Karlovarský kraj | C18: Omezení výskytu invazních rostlin v KK - CZ.1.09/3.1.00/01.00005 | D18: 9.8.2013-15.12.2015 | E18: OP ŽP | G18: 300000 | J18: Oznámení o udělení korekce z 22.9.2014; námitky podány 6.10.2014 | K18: * projekt v realizaci | P18: APDM
A19: 18 | B19: Karlovarský kraj | C19: Cyklostezka Ohře II - CZ.1.09/3.2.00/35.00801 | D19: 29.3.2011-30.5.2014 | E19: ROP | F19: pokráceno 9 250,01 | G19: 0 | J19: Námitky podány dne 28.10.2014, Vyřízení námitek doručeno 4.11.2014 -zamítnuty | K19: * ukončený projekt * k vyúčtování do ZKK | L19: vyúčtování ZKK | P19: APDM
A20: 19 | B20: Karlovarský kraj | C20: Cyklostezka Ohře III - CZ.1.09/3.2.00/66.01008 | D20: 26.11.2013-31.7.2015 | E20: ROP | G20: 16023.95 | J20: Námitky podány dne 28.10.2014; vyřízení námitek doručeno 10.11.2014 - částečně vyhověno | K20: * ukončení projektu 31.7.2015 * možné kontroly (přesuny do nezpůsobilých výdajů ) | N20: námitky proti protokolům | O20: vyúčtování ZKK | P20: APDM
A21: 21 | B21: Karlovarský kraj | C21: Rozvoj služby e-Governmentu na území Karlovarského kraje - část I. až VI. CZ.1.06/2.1.00/08.07146 | D21: 12.8.20011-31.12.2013 | E21: IOP | G21: 9222023.2 | J21: zaslání stanoviska ke zprávě o auditu dne 20.11.2014; Zpráva o auditu doručená dne 17.12.2014 | K21: * zahájení daňového řízení z ÚRR * následně platební výměr * žádost o prominutí odvodu daně a dosud nevyměřeného penále * podání odvolání * v ZKK není zajištěna úhrada odvodu
A22: 37 | B22: Karlovarský kraj | C22: Podpora sociálního začleňování příslušníků sociálně vyloučených lokalit v Karlovarském kraji - CZ.1.04/3.2.00/B4.00005 | D22: 1.1.2014-30.6.2015 | E22: OP LZZ | G22: 0 | J22: Protokol č 2014/0761 ze dne 21.10.2014; námitky podány 24.10.2014; rozhodnutí o námitkách ze dne 23.12.2014 - nevyhověno | K22: * podezření na správní delikt - MPSV předá na ÚOHS - možná pokuta * vyjádření pro ÚHOS, příp. rozklad | P22: APDM
B23: CELKEM | C23: v součtu jsou uvedené pouze neuhrazené finanční postihy | F23: =SUM(F3:F22) -> 5559115 | G23: =SUM(G3:G22) -> 1.0904058e+08 | I23: =SUM(I3:I22) -> 0
B32: Vyslětlivky
C33: očekáváme rozhodnutí o odvolání; uhrada odvodu
C34: očekáváme platební výměry; zpracovat žádost o posečkání a prominutí odvodu,odvolání proti PV, ZKK schválit převod peněžních prostředků
C35: daňové řízení, následně platební výměr - žádost o prominutí a podání odvolání, ZKK schválit převod peněžních prostředků
C36: ÚOHS - správní řízení, příprava vyjádření, rozkladu, správní žaloby
C37: očekávaná kontrola, příprava námitek proto kontrolním zjištěním z protokolů

Sheet Přehled celkem
A1: Přehled finančních postihů (odvodů, korekcí a pokut) u projektů spolufinancovaných z EU včetně jiných zdrojů od roku 2008
A3: Tabulka č. 1 | I3: v Kč
A4: Příjemce dotace | C4: Celkový objem dotčených projektů | D4: Původně zjištěné pochybení v plné výši vztaženo pouze k dotaci | E4: Aktuální výše zjištěného pochybení vztaženo pouze k dotaci | H4: Poměr aktuální výše zjištěného pochybení/ původní výše zjištěného pochybení vztaženo pouze k dotaci | I4: Poměr aktuální výše zjištěného pochybení/ celkový objem dotčených projektů
E5: Celkem | F5: z toho doručený platební výměr /provedená korekce/ vyměřená pokuta ÚOHS | G5: z toho očekávaný finanční postih - odvod (budoucí PV)/pokuta/ korekce
A6: sl. 1 | C6: sl. 2 | D6: sl. 3 | E6: sl. 4 (sl. 5 + sl. 6) | F6: sl. 5 | G6: sl. 6 | H6: sl. 7 (sl. 4/sl.3) | I6: sl. 8 (sl. 4/sl. 2)
A7: Karlovarský kraj - viz příloha č. 1 | C7: ='Projekty KK'!G117 -> 1.477279e+09 | D7: ='Projekty KK'!L117 -> 2.5869474e+08 | E7: ='Projekty KK'!M117 -> 1.5010534e+08 | F7: ='Projekty KK'!N117 -> 1.235325e+08 | G7: ='Projekty KK'!O117 -> 26572838 | H7: =E7/D7 -> 0.58024117 | I7: =E7/C7 -> 0.10160934
A8: Příspěvkové organizace a KKN a.s. - viz příloha č. 2 | C8: ='Projekty PO'!G73 -> 3.5490246e+09 | D8: ='Projekty PO'!L73 -> 8.9436181e+08 | E8: ='Projekty PO'!M73 -> 2.9481986e+08 | F8: ='Projekty PO'!N73 -> 3.3191825e+08 | G8: ='Projekty PO'!O73 -> 1994229.1 | H8: =E8/D8 -> 0.32964273 | I8: =E8/C8 -> 0.083070672
A9: Plošná korekce usnesení č. ZKK 196/08/13 ze dne 19. 8. 2013 | C9: x | D9: 2065000000 | E9: 307867530 | F9: 307867530 | G9: 0 | H9: =E9/D9 -> 0.14908839 | I9: x
A10: CELKEM | C10: =SUM(C7:C9) -> 5.0263036e+09 | D10: =SUM(D7:D9) -> 3.2180565e+09 | E10: =SUM(E7:E9) -> 7.5279273e+08 | F10: =SUM(F7:F9) -> 7.6331829e+08 | G10: =SUM(G7:G9) -> 28567067 | H10: =E10/D10 -> 0.23392775 | I10: =E10/C10 -> 0.14977064
A11: * Pozn.:
A12: u PO sl. 4 - nejedná se o součet sl. 5 a sl. 6, neboť u projektu PO_03 byl vyměřen a uhrazen odvod (sl. 5) ve vyšší částce, než je aktuální výše zjištěného pochybení (sl. 4), očekáváme vratku vratitelného přeplatku ve výši 39.092.619,25 Kč - z důvodu transparentnosti poskytovaných dat uvedeny veškeré údaje a částky, více k projektu v příloze č. 2
A13: Rekapitulace aktuální výše zjištěného pochybení
A15: Tabulka č. 2 | I15: v Kč
A16: Celkem aktuální výše finančních postihů projektů | E16: =E7+E8 -> 4.449252e+08
A17: z toho | B17: uhrazené platební výměry, provedené korekce, včetně vratitelného přeplatku ve výši 39.092.619,25 Kč | E17: ='Projekty KK'!N118+'Projekty PO'!N74+'Projekty PO'!N75 -> 2.4215847e+08 | F17: podrobněji viz příloha č. 1 a č. 2
B18: neuhrazeno - platební výměry nenabyly právní moci | E18: ='Projekty KK'!N119+'Projekty PO'!N76 -> 2.1329229e+08 | F18: podrobněji viz příloha č. 1 a č. 2
B19: maximální možný očekávaný finanční postih | E19: ='Projekty KK'!O119+'Projekty PO'!O76 -> 28567067 | F19: podrobněji viz příloha č. 1 a č. 2
A20: uhrazená plošná korekce | E20: =E9 -> 307867530 | F20: viz usnesení č. ZKK 196/08/13 ze dne 19. 8. 2013
A21: Celkem aktuální výše zjištěného pochybení za KK, příspěvkové organizace a KKN a.s. - vztaženo pouze k dotaci | E21: =E10 -> 7.5279273e+08 | F21: viz součet sl. 4 v tabulce č. 1 (v součtu není zahrnut vratitelný přeplatek ve výši 39 092 619.25 Kč)
A23: Vysvětlivky k tabulce č. 1:
A24: sl. 2 | B24: Celkový objem dotčených projektů | E24: Celkový objem vynaložených finančních prostředků na projekt, včetně způsobilých a nezpůsobilých výdajů, poskytnuté dotace a vlastní spoluúčasti na financování projektu. U ukončených projektů částka vychází z konečného finančního vypořádání projektu, předkládaného ZKK k projednání. Pokud je projekt v realizaci, vychází celkový objem projektu ze smlouvy/rozhodnutí o dotaci (modrý text v příloze č. 1 a č. 2).
A25: sl. 3 | B25: Původně zjištěné pochybení vztaženo pouze k dotaci | E25: Výše původně identifikovaného pochybení na základě protokolu z kontroly, zprávy z auditu operace nebo rozhodnutí o pokutě, případně jiných dokumentů. Proti kontrolním zjištěním byly příjemci dotace podávány námitky nebo stanoviska apod. Částka se vztahuje pouze k dotaci.
A26: sl. 4 | B26: Aktuální výše zjištěného pochybení vztaženo pouze k dotaci | E26: Součet sl. 5 a sl. 6.
A27: sl. 5 | B27: Doručený platební výměr (PV)/ provedená korekce/ vyměřená pokuta ÚOHS | E27: Částka odpovídá skutečně doručeným platebním výměrů a rozhodnutím o pokutě. Proti platebním výměrům/ rozhodnutím o pokutě podává příjemce dotace odvolání/rozklad. Odvod/pokuta je uhrazena až v okamžiku nabytí právní moci platebního výměru/rozhodnutí o pokutě (zelená barva v příloze č. 1 a 2). Dosud neuhrazené platební výměry/rozhodnutí o pokutě nenabyly právní moci a částky nemusejí být konečné (fialová barva v příloze č. 1 a č. 2).
A28: sl. 6 | B28: Očekávaný finanční postih - odvod (budoucí PV)/ korekce/pokuta | E28: U zjištěných pochybení není ukončeno řízení o námitkách, není k dispozici konečná zpráva z auditu operace, nebylo zahájeno nebo probíhá daňové řízení nebo správní řízení na ÚOHS. Částka za zjištěná pochybení nemusí být konečná.
A29: sl. 7 | B29: Poměr aktuální výše zjištěného pochybení/ původní výše zjištěného pochybení vztaženo pouze k dotaci | E29: Poměr aktuálních částek, které již byly vyměřeny nebo jsou očekávány po skončených námitkových řízeních, odvoláních a původně vyčíslených identifikovaných zjištění z kontrolních protokolů, auditních zpráv, rozhodnutí, případně jiných dokumentů (poměr sl. 4/sl. 3).
A30: sl. 8 | B30: Poměr aktuální výše zjištěného pochybení/ celkový objem dotčených projektů | E30: Poměr aktuálních částek, které již byly vyměřeny nebo jsou očekávány po skončených námitkových řízeních, odvoláních a celkový objem dotčeného projektu (poměr sl. 4/sl. 2).

Sheet Projekty KK
B1: Přehled finančních postihů u projektů financovaných z prostředků EU včetně jiných zdrojů - Karlovarský kraj | R1: Příloha č. 1
A2: Pořadové číslo | B2: Příjemce dotace/ garant projektu | C2: Název a registrační číslo projektu | D2: Oblast zacílení projektu | E2: Období realizace projektu | F2: Operační program | G2: Celkový objem projektu | H2: Administrátor projektu | I2: Garant projektu - člen RKK, ZKK dle Akčního plánu (garant pouze za dobu realizace projektu, ne pro případné řešení škody) | J2: Specifikace finančního postihu | K2: Identifikované zjištění | L2: Původně zjištěné pochybení v plné výši vztaženo pouze k dotaci | M2: Aktuální výše zjištěného pochybení vztaženo pouze k dotaci | P2: Poměr aktuální výše zjištěného pochybení/ původní výše zjištěného pochybení vztaženo pouze k dotaci | Q2: Poměr aktuální výše zjištěného pochybení/ celkový objem dotčeného projektu | R2: Aktuální stav | S2: Vyčíslení úspěchů obrany
M3: Celkem | N3: z toho doručený platební výměr/ vyměřená pokuta ÚOHS/ provedená korekce | O3: z toho očekávaný finanční postih - odvod/ pokuta nebo korekce | S3: v % | T3: v Kč
A4: sl.1 | B4: sl.2 | C4: sl.3 | D4: sl.4 | E4: sl.5 | F4: sl.6 | G4: sl.7 | H4: sl.8 | I4: sl.9 | J4: sl.10 | K4: sl.11 | L4: sl.12 | M4: sl.13 (sl. 14 + sl.15) | N4: sl.14 | O4: sl.15 | P4: sl.16 (sl.13/sl.12) | Q4: sl.17 (sl. 13/sl.7) | R4: sl.18 | S4: sl. 16 (sl.17/sl.10) | T4: sl. 17 (sl.11-sl.10)
A5: 1 | B5: Karlovarský kraj | C5: Atlas zajímavostí v Karlovarském kraji CZ.04.1.05/4.132.1/1795 v rámci grantového schématu Podpora místních a regionálních služeb cestovního ruchu v KK pro veřejné subjekty CZ.04.1.05/4.132.1 | D5: kultura | E5: 2005 - 2007 | F5: SROP | G5: 7683687 | H5: OIGS | I5: JUDr. Josef Pavel | J5: FÚ odvod za porušení rozp. kázně | K5: konečný uživatel nezadal zakázku transparentním a nediskriminačním způsobem (identifikováno kontrolou MMR+uložena nápravná opatření); kontrolou FÚ bylo zjištěno, že konečný příjemce nesplnil nápravná opatření uložená kontrolou MMR | L5: 5000 | M5: =N5+O5 -> 5000 | N5: 5000 | O5: 0 | P5: =M5/L5 -> 1 | Q5: =(M5+M6+M7)/G5 -> 0.0078328282 | R5: 10.1.2014 uhrazeno 5. 000 Kč; 8.1.2014 podáno odvolání proti platebnímu výměru, 5.6.2015 Rozhodnutím o odvolání snížena částka na 576.277 Kč (uhrazeno 12.6.2015); 16.6.2015 platební výměr na penále ve výši 576.277 Kč (uhrazeno 22.6.2015); RKK 676/07/15 z 13.7.2015 - příprava správní žaloby, správní žaloba podána 30.7.2015; 19.5.2016 Rozhodnutí o částečném prominutí odvodu ve výši 521.092 Kč a prominutí penále ve výši 576.277 Kč; 30.6.2016 - KK zaslal zpětvzetí správní žaloby a dne 11.7.2016 KK obdržel usnesení Krajského soudu v Plzni - řízení se zastavuje; 14.7.2016 vrácen soudní poplatek ve výši 2.000 Kč. Jedná se o konečnou výši finančního postihu dle aktuálně známých a předložených informací pracovní skupině. V současné době již další kroky obrany nebudou uplatňovány. KONEČNÝ STAV | S5: =T5/L5 -> 0 | T5: =L5-M5 -> 0
L6: 5518441 | M6: 55185 | N6: 55185 | O6: 0 | P6: =M6/L6 -> 0.010000107 | S6: =T6/L6 -> 0.98999989 | T6: =L6-M6 -> 5463256
J7: FÚ penále | L7: 576277 | M7: 0 | N7: 0 | O7: 0 | P7: =M7/L7 -> 0 | S7: =T7/L7 -> 1 | T7: =L7-M7 -> 576277
A9: 2 | B9: Karlovarský kraj | C9: Modernizace Letiště K.Vary - III.etapa, 2. část CZ.1.09/3.1.00/01.00005 | D9: doprava | E9: 18.2.2008-30.5.2009 | F9: ROP | G9: 98003445 | H9: OIGS | I9: Ing. Jan Zborník/ Ing. Petr Navrátil | J9: ÚRR odvod za porušení rozp. kázně | K9: neoprávněné použití JŘBU - změna řešení podlah; kratší lhůta pro podání nabídek u VZ (místo 15 dnů pouze 10 dnů); rozdíl mezi úhradou KK a Letiště KV s.r.o. a úhradou provedenou Letištěm KV s.r.o. za technický dozor stavby | L9: 5731781 | M9: =N9+O9 -> 1464072 | N9: 1464072 | O9: 0 | P9: =M9/L9 -> 0.25543055 | Q9: =(M9+M10+M11+M12+M13)/G9 -> 0.015624328 | R9: datum úhrady 2/2013 Jedná se o konečnou výši finančního postihu dle aktuálně známých a předložených informací pracovní skupině. V současné době již další kroky obrany nebudou uplatňovány. KONEČNÝ STAV | S9: =T9/L9 -> 0.74456945 | T9: =L9-M9 -> 4267709
J10: ÚRR penále | L10: 1464072 | M10: =N10+O10 -> 0 | N10: 0 | O10: 0 | P10: =M10/L10 -> 0 | R10: rozhodnutím z 29.7.2013 bylo penále prominuto v plné výši KONEČNÝ STAV - POSTIH ZRUŠEN | S10: =T10/L10 -> 1 | T10: =L10-M10 -> 1464072
J11: úrok z posečkání | L11: 26492 | M11: =N11+O11 -> 26492 | N11: 26492 | O11: 0 | P11: =M11/L11 -> 1 | R11: datum úhrady 3/2013 KONEČNÝ STAV - ÚROK Z POSEČKÁNÍ UHRAZEN | S11: =T11/L11 -> 0 | T11: =L11-M11 -> 0
J12: ÚRR odvod za porušení rozp. kázně | K12: majetek pořízený z dotace byl dán do pronájmu třetí osobě bez souhlasu poskytovatele dotace | L12: 81346508 | M12: =N12+O12 -> 40674 | N12: 40674 | O12: 0 | P12: =M12/L12 -> 0.00050000917 | R12: 17.3.2014 oznámení o zahájení daňového řízení, 22.4.2014 vyjádření ve věci daňového řízení, 16.9.2014 PV ve výši 81.346.508 Kč, 25.9.2014 žádost o prominutí odvodu a dosud nevym.penále, 13.10.2014 odesláno odvolání proti platebnímu výměru; 6.11.2014 Rozhodnutí o prominutí ve výši 99,95%, 25.5.1015 odvolání postoupeno na MF ČR (25.6.2015 výzva MF k doplnění, 2.7.2015 odesláno na MF vyjádření); 25.11.2015 Rozhodnutí MFČR - odvolání se zamítá; odvod uhrazen v 12/2015; usn.č.RK 46/01/16; KONEČNÝ STAV - SNÍŽENÝ ODVOD UHRAZEN | S12: =T12/L12 -> 0.99949999 | T12: =L12-M12 -> 81305834
J13: ÚRR penále | L13: 40674 | M13: 0 | N13: 0 | O13: 0 | P13: =M13/L13 -> 0 | R13: 12.1.2016 doručen platební výměr na penále; 24.9.2014 podána žádost o prominutí dosud nevyměřeného penále - ÚRR dosud nerozhodl; KK na ÚRR zaslal dne 20.1.2016 dotaz, kdy předseda RR rozhodne o prominutí penále 16.2.2016 doručeno Rozhodnutí o prominutí penále, prominuto ve 100% výši; schv.usn.č.RK 97/02/16 KONEČNÝ STAV - POSTIH ZRUŠEN
A14: 3 | B14: Karlovarský kraj | C14: Zvyšování kvality vzdělávání standardizací a zlepšováním řídících procesů CZ.1.07/1.1.00/08.0080 | D14: školství | E14: 1.1.2010-31.12.2012 | F14: OP VK | G14: 19287791 | H14: OŠMT | I14: PaedDr. Vratislav Emler/ JUDr. Václav Sloup | J14: FÚ odvod za porušení rozp. kázně | K14: mylná platba u finančního partnera Attest s.r.o. | L14: 2667 | M14: =N14+O14 -> 2667 | N14: 2667 | O14: 0 | P14: =M14/L14 -> 1 | Q14: =(M14+M15+M16+M17+M18+M19+M20+M21+M22)/G14 -> 0.0097121509 | R14: datum úhrady 7/2013 KONEČNÝ STAV - ODVOD UHRAZEN | S14: =T14/L14 -> 0 | T14: =L14-M14 -> 0
J15: FÚ penále | L15: 514 | M15: =N15+O15 -> 514 | N15: 514 | O15: 0 | P15: =M15/L15 -> 1 | R15: datum úhrady 9/2013 KONEČNÝ STAV - PENÁLE UHRAZENO | S15: =T15/L15 -> 0 | T15: =L15-M15 -> 0
J16: FÚ odvod za porušení rozp. kázně | K16: překročení jednotkových sazeb u mzdových nákladů na straně finančního partnera Attest s.r.o. | L16: 84471 | M16: =N16+O16 -> 25.16 | N16: 25.16 | O16: 0 | P16: =(M16+M17)/L16 -> 1.2502982 | R16: rozhodnutím z 28.4.2014 částečně prominuto, k úhradě 25,16 Kč - uhrazeno 6/2014; částka ve výši 30.515,44 Kč je dosud zadržována na MŠMT; 7.10.2015 odeslaná na MŠMT žádost o vratku, 10.2.2016 MŠMT předá nesrovnalost opětovně na FÚ - bude vráceno 9.396,50 Kč; dne 2.5.2016 vráceno na účet KK 9.396,50 Kč MŠMT ŘEŠÍ S FINANČNÍM ÚŘADEM | S16: =T16/L16 -> 0.99970215 | T16: =L16-M16 -> 84445.84
L17: 114985.28 | M17: 105588.78 | N17: 105588.78 | O17: 0 | S17: =T17/L17 -> 0.081719156 | T17: =L17-M17 -> 9396.5
J18: FÚ odvod za porušení rozp. kázně | K18: nejednoznačné vymezení kritérií (estetická a kvalitativní úroveň vzorků) | L18: 253214 | M18: 63304 | N18: 63304 | O18: 0 | P18: =M18/L18 -> 0.25000197 | R18: rozhodnutím z 27.8.2014 zamítnuto odvolání proti PV; datum úhrady 23.10.2014; 24.10.2014 byla podána správní žaloba; 9.10.2015 Rozsudek Krajského soudu v Plzni - správní žaloby se zamítají; kasační stížnost KK podávat nebude - viz RK 1145/11/15 z 2.11.2015; 24.3.2016 Gen.fin.řed.Praha - Rozhodnutí o prominutí odvodu ve výši 189.910 Kč, zaplaceno 253.214 Kč, prominutá část vrácena na účet KK v 4/2016 KONEČNÝ STAV - ČÁSTEČNÉ PROMINUTÍ ODVODU | S18: =T18/L18 -> 0.74999803 | T18: =L18-M18 -> 189910
J19: FÚ penále | L19: 246056 | M19: 10930 | N19: 10930 | O19: 0 | P19: =M19/L19 -> 0.044420782 | R19: datum úhrady 17.12.2014; 24.3.2016 Gen.fin.řed.Praha - Rozhodnutí o prominutí penále ve výši 235.126 Kč, uhrazeno 246.056 Kč, prominutá část vrácena na účet KK v 4/2016 KONEČNÝ STAV - ČÁSTEČNÉ PROMINUTÍ PENÁLE | S19: =T19/L19 -> 0.95557922 | T19: =L19-M19 -> 235126
J20: FÚ úrok z posečkání | K20: úrok z posečkání se vztahuje i k projektům s č. 4 a 5 | L20: 2796 | M20: =N20+O20 -> 2796 | N20: 2796 | O20: 0 | P20: =M20/L20 -> 1 | R20: datum úhrady 16.1.2015 KONEČNÝ STAV - ÚROK Z POSEČKÁNÍ UHRAZEN | S20: =T20/L20 -> 0 | T20: =L20-M20 -> 0
J21: FÚ odvod za porušení rozp. kázně | K21: porušení zákazu diskriminace - požadavek na dvoujádrový procesor a frekvenci procesorů - finanční úřad zjištění nepotvrdil; mylná platba ve výši 2 001 070,-- Kč | L21: 2400910 | M21: =N21+O21 -> 1501 | N21: 1501 | O21: 0 | P21: =M21/L21 -> 0.00062517962 | R21: 6.10.2014 byla zahájena daňová kontrola; 10.4.2015 doručen Protokol o ústním jednání z FÚ - oproti podání MŠMT finanční úřad nepotvrdil pochybení v Dodávce ICT a u dalšího zjištění (mylná platba) uplatnil sankci pouze ve výši 0,5 %; 15.5.2015 doručen platební výměr; 12.6.2015 podána odvolání proti platebním výměrům; 14.8.2015 odvolání postoupena na Odvolací fin.řed. v Brně; prodloužena lhůta pro vyřízení odvolání do 13.6.2016; 7.6.2016 Rozhodnutí o odvolání - zamítnuto, schv.usn.č.RK 672/06/16; 17.6.2016 PV uhrazen; 7.10.2016 odeslána na FÚ žádost o prominutí odvodu ve výši 8.505 Kč; 8.11.2016 FÚ vyrozumění o postoupení na Gener.fin.ředitelství; 12.9.2017 Rozhodnutí o prominutí daně - promíjí se odvod ve výši 8.505,- Kč; dne 7.11.2017 FÚ Rozhodnutí o přeplatku ve výši 8.50 Kč; dne 13.11.2017 FÚ vrátil prominutý odvod ve výši 8.505 Kč; škoda ve výši 1.501 Kč byla řešena jako škodní případ - nebude vymáháno KONEČNÝ STAV - ŠKODA NEBUDE VYMÁHÁNA | S21: =T21/L21 -> 0.99937482 | T21: =L21-M21 -> 2399409
J22: FÚ penále | L22: 10006 | M22: 0 | N22: 0 | O22: 0 | P22: =M22/L22 -> 0 | R22: 22.6.2016 doručeny PV na penále za prodlení s odvodem za porušení rozp.kázně; KK bude podávat odvolání do 22.7.2016; připravují se žádosti o prominutí penále; schv.usn.č.RK 755/07/16; 20.7.2016 KK odeslal odvolání proti PV; úhrada penále 18.7.2016; 5.9.2016 předáno odvolání Odvolacímu finančnímu ředitelství v Brně; 7.10.2016 na FÚ odeslána žádost o prominutí penále; 8.11.2016 FÚ vyrozumění o postoupení na Gener.fin.ředitelství; 3.2.2017 Sdělení o prodloužení lhůty k vyřízení odvolání do 20.6.2017; Dne 22.6.2017 Rozhodnutí o odvolání - zamítá se; 12.9.2017 Rozhodnutí o prominutí daně - penále ve výši 1.501 Kč a 8.505 Kč se promíjí; dne 7.11.2017 FÚ Rozhodnutí o přeplatku celkem ve výši 10.006 Kč; dne 13.11.2017 FÚ vrátil prominuté penále celkem ve výši 10.006 Kč KONEČNÝ STAV - PENÁLE VRÁCENO V PLNÉ VÝŠI
A23: 4 | B23: Karlovarský kraj | C23: Krajské vzdělávací centrum pro další vzdělávání pedagogických pracovníků CZ.1.07/1.3.00/14.0026 | D23: školství | E23: 1.4.2010-31.3.2013 | F23: OP VK | G23: 6805967.2 | H23: OŠMT | I23: PaedDr. Vratislav Emler/ JUDr. Václav Sloup | J23: FÚ odvod za porušení rozp. kázně | K23: mylná platba u finančního partnera Gymnázium Sokolov | L23: 5610 | M23: =N23+O23 -> 0 | N23: 0 | O23: 0 | P23: =M23/L23 -> 0 | Q23: =(M23+M24+M25+M26+M27+M28+M29+M30+M31+M32)/G23 -> 0.0048497148 | R23: uhrazeno v 12/2012 a 2/2013; rozhodnutím z 13.5.2013 prominuto v plné výši; vráceno v plné výši 8/2013 KONEČNÝ STAV - POSTIH ZRUŠEN | S23: =T23/L23 -> 1 | T23: =L23-M23 -> 5610
J24: FÚ penále | L24: 1356 | M24: =N24+O24 -> 0 | N24: 0 | O24: 0 | P24: =M24/L24 -> 0 | R24: uhrazeno v 3/2013; rozhodnutím z 13.5.2013 prominuto v plné výši; vráceno v plné výši 8/2013 KONEČNÝ STAV - POSTIH ZRUŠEN | S24: =T24/L24 -> 1 | T24: =L24-M24 -> 1356
J25: FÚ odvod za porušení rozp. kázně | K25: mylná platba u finančního partnera Gymnázium Sokolov | L25: 6317 | M25: =N25+O25 -> 0 | N25: 0 | O25: 0 | P25: =M25/L25 -> 0 | R25: uhrazeno v 1-2/2013; rozhodnutím z 17.7.2013 prominuto v plné výši; vráceno v plné výši 8/2013 KONEČNÝ STAV - POSTIH ZRUŠEN | S25: =T25/L25 -> 1 | T25: =L25-M25 -> 6317
J26: FÚ penále | L26: 1760 | M26: =N26+O26 -> 0 | N26: 0 | O26: 0 | P26: =M26/L26 -> 0 | R26: uhrazeno 3/2013; rozhodnutím z 17.7.2013 prominuto v plné výši; vráceno v plné výši 8/2013 KONEČNÝ STAV - POSTIH ZRUŠEN | S26: =T26/L26 -> 1 | T26: =L26-M26 -> 1760
J27: FÚ odvod za porušení rozp. kázně | K27: mylná platba u Karlovarského kraje | L27: 203970 | M27: =N27+O27 -> 1020 | N27: 1020 | O27: 0 | P27: =M27/L27 -> 0.0050007354 | R27: uhrazeno 7/2013; rozhodnutím z 20.3.2014 částečně prominuto; v 4/2014 vrácená částka ve výši 202 950,--Kč KONEČNÝ STAV - ODVOD ČÁSTEČNĚ PROMINUT | S27: =T27/L27 -> 0.99499926 | T27: =L27-M27 -> 202950
J28: FÚ penále | L28: 62628 | M28: =N28+O28 -> 0 | N28: 0 | O28: 0 | P28: =M28/L28 -> 0 | R28: uhrazeno 9/2013; rozhodnutím z 20.3.2014 prominuto v plné výši; vráceno v plné výši 4/2013 KONEČNÝ STAV - POSTIH ZRUŠEN | S28: =T28/L28 -> 1 | T28: =L28-M28 -> 62628
J29: FÚ odvod za porušení rozp. kázně | K29: nejednoznačné vymezení kritérií (estetická a kvalitativní úroveň vzorků) | L29: 54643 | M29: 13661 | N29: 13661 | O29: 0 | P29: =M29/L29 -> 0.25000458 | R29: rozhodnutím z 3.9.2014 zamítnuto odvolání proti PV; datum úhrady 23.10.2014; 29.10.2014 byla podána správní žaloba; 9.10.2015 Rozsudek Krajského soudu v Plzni - správní žaloba se zamítá (odvod do NF); kasační stížnost KK podávat nebude - viz RK 1145/11/15 z 2.11.2015; 15.3.2016 Rozsudek Krajského soudu v Plzni - správní žaloba se zamítá (odvod do SR); kasační stížnost KK podávat nebude; 24.3.2016 Gen.fin.řed.Praha - Rozhodnutí o prominutí odvodu ve výši 40.982 Kč, uhrazeno 54.643 Kč, prominutá část vrácena na účet KK v 4/2016 KONEČNÝ STAV - ČÁSTEČNÉ PROMINUTÍ ODVODU | S29: =T29/L29 -> 0.74999542 | T29: =L29-M29 -> 40982
J30: FÚ penále | L30: 54643 | M30: 2536 | N30: 2536 | O30: 0 | P30: =M30/L30 -> 0.046410336 | R30: datum úhrady 17.12.2014; 24.3.2016 Gen.fin.řed.Praha - Rozhodnutí o prominutí penále ve výši 52.107 Kč, uhrazeno 54.643 Kč, prominutá část vrácena na účet KK v 4/2016 KONEČNÝ STAV - ČÁSTEČNÉ PROMINUTÍ PENÁLE | S30: =T30/L30 -> 0.95358966 | T30: =L30-M30 -> 52107
J31: FÚ odvod za porušení rozp. kázně | K31: nejednoznačné vymezení kritérií (estetická a kvalitativní úroveň vzorků); porušení zákazu diskriminace - požadavek na dvoujádrový procesor a frekvenci procesorů - finanční úřad zjištění nepotvrdil | L31: 474280.44 | M31: =N31+O31 -> 13849 | N31: 13849 | O31: 0 | P31: =M31/L31 -> 0.029200024 | R31: 6.10.2014 byla zahájena daňová kontrola; 10.4.2015 doručen Protokol o ústním jednání z FÚ - oproti podání MŠMT finanční úřad nepotvrdil pochybení v Dodávce ICT a u dalšího (Rekl.předměty) uplatnil sankci pouze ve výši 25 %; 15.5.2015 doručen platební výměr; 12.6.2015 podána odvolání proti platebním výměrům; 14.8.2015 odvolání postoupena na Odvolací fin.řed. v Brně; lhůta pro vyřízení odvolání prodloužena do 13.6.2016; 13.6.2016 Rozhodnutí o odvolání - zamítnuto, schv.usn.č.RK 719/06/16; 23.6.2016 PV uhrazen; 7.10.2016 odeslána na FÚ žádost o prominutí odvodu ve výši 11.771 Kč; 8.11.2016 FÚ vyrozumění o postoupení na Gener.fin.ředitelství; 12.9.2017 Rozhodnutí o prominutí daně - nepromíjí se odvod ve výši 11.771 Kč; ve výši 2.078 Kč - nebyla podávána žádost o prominutí z důvodu hospodárnosti; částka ve výši 13.849 Kč byla řešena jako škodní případ - nebude vymáháno KONEČNÝ STAV - ŠKODA NEBUDE VYMÁHÁNA | S31: =T31/L31 -> 0.97079998 | T31: =L31-M31 -> 460431.44
J32: FÚ penále | L32: 13849 | M32: 1941 | N32: 1941 | O32: 0 | P32: =M32/L32 -> 0.14015452 | R32: 27.6.2016 doručeny PV na penále za prodlení s odvodem za porušení rozpočtové kázně; KK bude podávat odvolání do 27.7.2016; připravuje se žádost o prominutí penále; schv.usn.č.RK 756/07/16; 20.7.2016 KK odeslal odvolání proti PV; úhrada penále 18.7.2016; dne 5.9.2016 předáno odvolání Odvolacímu finančnímu ředitelství v Brně; 7.10.2016 odeslána na FÚ žádost o prominutí penále; 8.11.2016 FÚ vyrozumění o postoupení na Gener.fin.ředitelství; 3.2.2017 Sdělení o prodloužení lhůty k vyřízení odvolání do 20.6.2017; Dne 22.6.2017 Rozhodnutí o odvolání - zamítá se; 12.9.2017 Rozhodnutí o prominutí daně - promíjí se penále ve výši 2.078,- Kč a 9.830,- Kč z částky 11.771,- Kč; dne 7.11.2017 FÚ Rozhodnutí o přeplatku celkem ve výši 11.908,- Kč; dne 13.11.2017 FÚ vrátil prominuté penále ve výši 11.908,- Kč, částka ve výši 1.941,- Kč byla řešena jako škodní případ - nebude vymáháno KONEČNÝ STAV - ŠKODA NEBUDE VYMÁHÁNA
A33: 5 | B33: Karlovarský kraj | C33: Inovace školského portálu Karlovarského kraje CZ.1.07/1.3.00/14.0024 | D33: školství | E33: 1.4.2010-31.3.2013 | F33: OP VK | G33: 6348047.6 | H33: OŠMT | I33: PaedDr. Vratislav Emler/ JUDr. Václav Sloup | J33: FÚ odvod za porušení rozp. kázně | K33: mylná platba u Karlovarského kraje | L33: 66 | M33: =N33+O33 -> 66 | N33: 66 | O33: 0 | P33: =M33/L33 -> 1 | Q33: =(M33+M34+M35+M36+M37+M38)/G33 -> 0.099453822 | R33: datum úhrady 5/2012 KONEČNÝ STAV - ODVOD UHRAZEN | S33: =T33/L33 -> 0 | T33: =L33-M33 -> 0
J34: FÚ odvod za porušení rozp. kázně | K34: nejednoznačné vymezení kritérií (estetická a kvalitativní úroveň vzorků) | L34: 54937 | M34: 13734 | N34: 13734 | O34: 0 | P34: =M34/L34 -> 0.24999545 | R34: rozhodnutím z 3.9.2014 zamítnuto odvolání proti PV; datum úhrady 23.10.2014; 29.10.2014 byla podána správní žaloba; 26.10.2015 a 14.1.2016 Rozsudek zamítnutí správních žalob, kasační stížnosti KK podávat nebude - viz RK 1145/11/15 a RK 18/01/16; 24.3.2016 Gen.fin.řed.Praha-Rozhodnutí o prominutí odvodu ve výši 41.203 Kč, uhrazeno 54.937 Kč, prominutá část vrácena na účet KK v 4/2016 KONEČNÝ STAV - ODVOD ČÁSTEČNÉ PROMINUT | S34: =T34/L34 -> 0.75000455 | T34: =L34-M34 -> 41203
J35: FÚ penále | L35: 54937 | M35: 2550 | N35: 2550 | O35: 0 | P35: =M35/L35 -> 0.046416805 | R35: datum úhrady 17.12.2014; 24.3.2016 Gen.fin.řed.Praha-Rozhodnutí o prominutí penále ve výši 52.387 Kč, uhrazeno 54.937 Kč, prominutá část vrácena na účet KK v 4/2016 KONEČNÝ STAV - PENÁLE ČÁSTEČNĚ PROMINUTO | S35: =T35/L35 -> 0.9535832 | T35: =L35-M35 -> 52387
J36: MŠMT nesrovnalost/ FÚ odvod za porušení rozp. kázně | K36: nejednoznačné vymezení kritérií (estetická a kvalitativní úroveň vzorků); porušení zákazu diskriminace § 6 ZVZ - požadavek na dvoujádrový procesor a frekvenci procesorů - finanční úřad zjištění nepotvrdil | L36: 672878.4 | M36: =SUM(N36+O36) -> 597901.6 | N36: 0 | O36: 597901.6 | P36: =(M36+M37)/L36 -> 0.91085938 | R36: 6.10.2014 byla zahájena daňová kontrola a 20.11.2014 rozšíření předmětu daňové kontroly; 10.4.2015 doručen Protokol o ústním jednání z FÚ - oproti podání MŠMT finanční úřad nepotvrdil pochybení v Dodávce ICT a u dalšího (rekl.předměty) uplatnil sankci pouze ve výši 25 %; 15.5.2015 doručen platební výměr; 12.6.2015 podána odvolání proti platebním výměrům; 14.8.2015 odvolání postoupena na Odvolací fin.řed. v Brně; prodloužena lhůta pro vyřízení odvolání do 13.6.2016; 19.4.2016 Oznámení MŠMT o trvání na nesrovnalosti ve výši 612.897,60 Kč a opětovně se obrátí na FÚ; 13.6.2016 Rozhodnutí o odvolání - zamítnuto; schv.usn.č.RK 720/06/16 23.6.2016 PV uhrazen; 7.10.2016 odeslána na FÚ žádost o prominutí odvodu ve výši 12.746,-Kč; 8.11.2016 FÚ vyrozuměn oí postoupení na Gener.fin.ředitelství; 12.9.2017 Rozhodnutí o prominutí daně - nepromíjí se odvod ve výši 12.746 Kč, ve výši 2.250 Kč se nepodávala žádost o prominutí z důvodu hospodárnosti, částka ve výši 14.996 Kč byla řešena jako škodní případ - nebude vymáhána MŠMT ŘEŠÍ S FINANČNÍM ÚŘADEM (částku ve výši 597.901,60 Kč); ČÁSTKA VE VÝŠI 14.996 Kč NEBUDE VYMÁHANA | S36: =T36/L36 -> 0.11142697 | T36: =L36-M36 -> 74976.8
M37: =N37+O37 -> 14996 | N37: 14996 | O37: 0
J38: FÚ penále | L38: 14996 | M38: 2090 | N38: 2090 | O38: 0 | P38: =M38/L38 -> 0.1393705 | R38: 27.6.2016 doručeny PV na penále za prodlení s odvodem za porušení rozpočtové kázně; KK bude podávat odvolání do 27.7.2016; připravuje se žádost o prominutí penále; schv.usn.č.RK 757/07/16; 20.7.2016 KK odeslal odvolání proti PV; úhrada penále 18.7.2016; dne 5.9.2016 předáno odvolání Odvolacímu finančnímu ředitelství v Brně; 7.10.2016 odeslána na FÚ žádost o prominutí penále; 8.11.2016 FÚ vyrozumění o postoupení na Gener.fin.ředitelství; 3.2.2017 Sdělení o prodloužení lhůty k vyřízení odvolání do 20.6.2017; Dne 22.6.2017 Rozhodnutí o odvolání - zamítá se; 12.9.2017 Rozhodnutí o prominutí daně - promíjí se penále ve výši 2.250 Kč a 10.656 Kč z částky 12.746 Kč; dne 7.11.2017 FÚ Rozhodnutí o přeplatku celkem ve výši 12.906 Kč; dne 13.11.2017 FÚ vrátil prominuté penále ve výši 12.906 Kč, částka ve výši 2.090 Kč byla řešena jako škodní případ - nebude vymáháno KONEČNÝ STAV - ŠKODA NEBUDE VYMÁHÁNA
A39: 6 | B39: Karlovarský kraj | C39: Dopravní terminál Mariánské Lázně CZ.1.09/3.2.00/27.00611 | D39: doprava | E39: 16.3.2010-27.9.2012 | F39: ROP | G39: 67542348 | H39: APDM | I39: Ing. Petr Navrátil | J39: ÚRR odvod za porušení rozp. kázně | K39: porušení zásady transparentnosti § 6 ZVZ - požadavek na dispozici s obalovnou | L39: 5787124.8 | M39: =N39+O39 -> 5759375 | N39: 5759375 | O39: 0 | P39: =M39/L39 -> 0.99520492 | Q39: =(M39+M40)/G39 -> 0.085270577 | R39: 4.11.2014 ukončena veřejnosprávní kontrola - námitky zamítnuty; 15.5.2015 zahájeno daňové řízení; 1.6.2015 a 10.6.2015 zasláno na ÚRR stanovisko a dokumentace k veřejné zakázce Dne 15.7.2015 doručen PV č.j. RRSZ 15409/2015 na odvod za PRK ve výši 10 % ze získané dotace; 13.8.2015 bylo podáno odvolání proti platebnímu výměru; 7.4.2017 z ÚRR Protokol o kontrole - bez zjištění ODVOLÁNÍ PROTI PV | S39: =T39/L39 -> 0.0047950841 | T39: =L39-M39 -> 27749.75
J40: ÚOHS | K40: porušení zásady transparentnosti § 6 ZVZ - požadavek na dispozici s obalovnou - 10 % z VZ | L40: 0 | M40: 0 | N40: 0 | O40: 0 | P40: 0 | R40: dne 5.12.2017 KK podal podnět na ÚOHS, správní poplatek ve výši 10.000 Kč uhrazen dne 22.11.2017; dne 4.1.2018 z ÚOHS - Oznámení o výsledku šetření podnětu - nezahájí správní řízení NEBUDE ZAHÁJENO SPRÁVNÍ ŘÍZENÍ
A41: 7 | B41: Karlovarský kraj | C41: Dopravní terminál Cheb CZ.1.09/3.2.00/17.00610 | D41: doprava | E41: 16.10.2010-21.2.2013 | F41: ROP | G41: 1.0980929e+08 | H41: APDM | I41: Ing. Petr Navrátil | J41: ÚRR odvod za porušení rozp. kázně | K41: porušení zásady transparentnosti § 6 ZVZ - požadavek na dispozici s obalovnou | L41: 4715937.3 | M41: =N41+O41 -> 4711313 | N41: 4711313 | O41: 0 | P41: =M41/L41 -> 0.99901943 | Q41: =(M41+M42)/G41 -> 0.042904501 | R41: 4.11.2014 ukončena veřejnosprávní kontrola - námitky zamítnuty; 15.5.2015 zahájeno daňové řízení; 1.6.2015 a 10.6.2015 zasláno na ÚRR stanovisko a dokumentace k veřejné zakázce; Dne 15.7.2015 doručen PV č.j. 15402/2015 na odvod za PRK ve výši 5 % ze získané dotace; 13.8.2015 bylo podáno odvolání proti platebnímu výměru ODVOLÁNÍ PROTI PV | S41: =T41/L41 -> 0.00098057283 | T41: =L41-M41 -> 4624.32
...

Sheet Projekty PO
B1: Přehled finančních postihů u projektů financovaných z prostředků EU včetně jiných zdrojů - příspěvkové organizace a KKN a.s. | R1: Příloha č.2
A2: Pořadové číslo | B2: Příjemce dotace/ garant projektu | C2: Název a registrační číslo projektu | D2: Oblast zacílení projektu | E2: Období realizace projektu | F2: Operační program | G2: Celkový objem projektu | H2: Administrátor projektu | I2: Garant projektu - člen RKK, ZKK dle Akčního plánu (garant pouze za dobu realizace projektu, ne pro případné řešení škody) | J2: Specifikace finančního postihu | K2: Identifikované zjištění | L2: Původně zjištěné pochybení v plné výši vztaženo pouze k dotaci | M2: Aktuální výše zjištěného pochybení vztaženo pouze k dotaci | P2: Poměr aktuální výše zjištěného pochybení/ původní výše zjištěného pochybení vztaženo pouze k dotaci | Q2: Poměr aktuální výše zjištěného pochybení/ celkový objem dotčeného projektu | R2: Aktuální stav | S2: Vyčíslení úspěchů obrany
M3: Celkem | N3: z toho doručený platební výměr/ vyměřená pokuta ÚOHS/ provedená korekce | O3: z toho očekávaný finanční postih - odvod, pokuta nebo korekce | S3: v % | T3: v Kč
A4: sl.1 | B4: sl.2 | C4: sl.3 | D4: sl.4 | E4: sl.5 | F4: sl.6 | G4: sl.7 | H4: sl.8 | I4: sl.9 | J4: sl.10 | K4: sl.11 | L4: sl.12 | M4: sl.13 (sl. 14 + sl.15) | N4: sl.14 | O4: sl.15 | P4: sl.16 (sl.13/sl.12) | Q4: sl.17 (sl. 13/sl.7) | R4: sl.18 | S4: sl. 16 (sl.17/sl.10) | T4: sl. 17 (sl.11-sl.10)
A5: 1 | B5: KSÚS, p.o. | C5: Rozvoj dopravní infrastruktury silnic II. a III. třídy v Karlovarském kraji - I. etapa - CZ.1.09/3.1.00/07.00014 | D5: doprava | E5: 2.1.2007 - 29.10.2010 | F5: ROP | G5: 3.6237517e+08 | H5: KSÚS, p.o. | I5: Ing. Jan Zborník/ Ing. Petr Navrátil | J5: ÚRR odvod za porušení rozp. kázně | K5: pochybení v 6 veřejných zakázkách - chybné technické kvalifikační předpoklady -zadavatel požadoval seznam referencí za 3 roky (v ZVZ je 5 let); chybné posouzení a hodnocení nabídek, které mělo vliv na výběr dodavatele; chybný postup při zadávání víceprací; dělení veřejných zakázek | L5: 101386743 | M5: 1004341.5 | N5: 1004341.5 | O5: 0 | P5: =M5/L5 -> 0.0099060436 | Q5: =(M5+M8+M9)/G5 -> 0.0027715516 | R5: Platební výměry doručeny 1/2014; 6.2.2014 podaná odvolání proti platebním výměrům; 25.6.2014 odeslány finanční prostředky na úhradu PV na KSÚS. 25.5.2017 doručeno rozhodnutí o odvolání - odvod snížen v rámci odvolání o 75% ze 7.378.215 Kč na 1.844.554 Kč; v důsledku předchozího rozhodnutí o částečném prominutí odvodu za PV č. 3/2014 je aktuální výše odvodu ve výši 6,25% původně vyměřeného důvodu. 24.5.2017 požádalo MF o doplnění informací k odvolání proti PV č.4/2014; 6.6.2017 rozhodlo MF o odvolání proti PV č. 2/2014 a snížilo ho 90%. V důsledku předchozího rozhodnutí o prominutí v téže věci činí aktuální výše odvodu 1% původně vyměřeného odvodu, tedy 438.135 Kč. 28.6.2017 zrušilo MF na základě odvolání PV č. 4/2014. Zrušený PV činil po částečném prominutí 258 600 Kč. 4.8.2017 rozhodlo MF o odvolání proti PV č. 5/2014 a snížilo ho na částku 420.270 Kč, v důsledku předchozího rozhodnutí o prominutí by aktuální částka odvodu měla činit 105.068 Kč; dne 1.12. rozhodl ovolací orgán o zrušení PV 6/2014, který činil po prominutí 1.699.600 Kč; dne 12.12. rozhodl odvolací orgán o zrušení PV 7/2014, který činil po částečném prominutí 7.050.874 Kč; za PV celkem uhrazeno 6.646.174 Kč, tj. za PV č. 2/2014 uhrazeno 4.381.350 Kč za PV č. 3/2014 uhrazeno 1.844.554 Kč za PV č. 5/2014 uhrazeno 420 270 Kč; KSÚS požádala o vrácení přeplatku 5.641.832,50 Kč (3.943.215 Kč + 1.383.415,50 Kč + 315.202 Kč); dne 19.12.2017 zaslala RRSZ přípis s informací o rozhodnutí VRR o nevrácení vratitelného přeplatku u PV č.2/2014,3/2014 a 5/2014 dne 2.1.2018 podala KSÚS proti obdrženým informacím odvolání OČEKÁVÁME ROZHODNUTÍ MF O ODVOLÁNÍ PROTI PV Č.2/2014, 3/2014 A 5/2014 | S5: =T5/L5 -> 0.99009396 | T5: =L5-M5 -> 1.003824e+08
N6: celkem uhrazeno 6.646.174,00 požádáno o vratku přeplatku v celkové výši
N7: 5641832.5
J8: pokuta ÚOHS | K8: správní delikt - zadavatel nedodržel postup stanovený ZVZ, požadoval seznam referencí za 3 roky (v ZVZ je 5 let) | L8: 1000000 | M8: =N8+O8 -> 0 | N8: 0 | O8: 0 | P8: =M8/L8 -> 0 | R8: ÚOHS 24.11.2014 zamítnul rozklad, rozhodnutí o pokutě nabylo právní, pokuta uhrazena 22.12.2014; 23.1.2015 podaná správní žaloba na Krajský soud v Brně; 9.3.2016 rozsudek soudu - rozhodnutí předsedy ze dne 24.11.2014 se zrušuje a věc se vrací k dalšímu řízení 28.6.2016 rozsudek NSS o kasační stížnosti - NSS zrušil rozhodnutí KS v Brně a vrátil mu věc k dalšímu řízení 17.8.2016 rozsudek KS v Brně - rozhodnutí předsedy ze dne 24.11.2014 se zrušuje a věc se vrací k dalšímu řízení 3. 11. 2016 rozsudek NSS o kasační stížnosti - NSS zrušil rozhodnutí KS v Brně a vrátil mu věc k dalšímu řízení 6. 1 . 2017 rozsudek KS v Brně - rozhodnutí předsedy ze dne 24.11.2014 se zrušuje a věc se vrací k dalšímu řízení první instanci 17. 1. 2017 ÚOHS podal kasační stížnost proti rozsudku KS 17. 1. 2017 KSÚS zažádala o vrácení pokuty ve výši 1 mil. Kč 23. 1. 2017 ÚOHS vrátil správní pokutu ve výši 1 mil Kč 15. 2. 2017 ÚOHS zastavil správní řízení 20. 4. 2017 NSS vydal rozsudek, ve kterém zamítl kasační stížnost podanou ÚOHS, dle rozhodl o náhradě výloh ve prospěch KSÚS KONČENÝ STAV - POSTIH ZRUŠEN | S8: =T8/L8 -> 1 | T8: =L8-M8 -> 1000000
J9: pokuta ÚOHS | K9: správní delikt - zadavatel nedodržel postup stanovený ZVZ, požadoval seznam referencí za 3 roky (v ZVZ je 5 let) | L9: 600000 | M9: 0 | N9: 0 | O9: 0 | P9: =M9/L9 -> 0 | R9: rozhodnutím ÚOHS z 15.1.2015 snížena pokuta na 200 000,-- Kč; 28.1.2015 podán proti rozhodnutí rozklad; 4.1.2016 Rozhodnutí ÚOHS - zrušena pokuta, zastaveno správní řízení KONEČNÝ STAV - POSTIH ZRUŠEN | S9: =T9/L9 -> 1 | T9: =L9-M9 -> 600000
A10: 2 | B10: KSÚS, p.o. | C10: Rozvoj dopravní infrastruktury silnic II. a III. třídy v Karlovarském kraji - II. etapa CZ.1.09/3.1.00/19.00524 | D10: doprava | E10: 2.1.2007 - 28.2.2011 | F10: ROP | G10: 4.627248e+08 | H10: KSÚS, p.o. | I10: Ing. Jan Zborník/ Ing. Petr Navrátil | J10: ÚRR odvod za porušení rozp. kázně | K10: pochybení ve 3 veřejných zakázkách - dělení veřejných zakázek; chybný postup při zadávání víceprací | L10: 13225052 | M10: 96798.25 | N10: 96798.25 | O10: 0 | P10: =M10/L10 -> 0.0073193096 | Q10: =M10/G10 -> 0.00020919184 | R10: platební výměry doručeny 1/2014; 6.2.2014 podaná odvolání proti platebním výměrům; platební výměry dosud nenabyly právní moci 25.6.2014 odeslány finanční prostředky na úhradu PV na KSÚS 30. 5. 2017 PV č. 8/2014 zrušen, PV č. 9/2014 snížen na 387.193 Kč, PV č. 10 /2014 zrušen 30. 5. 2017 DORUČENY ROZHODNUTÍ O ODVOLÁNí PROTI PV Č. 8/2014, 9/2014, 10/2014 dne 19.12.2017 zaslala RRSZ přípis s informací o rozhodnutí VRR o nevrácení vratitelného přeplatku u PV č.9/2014 dne 2.1.2018 podala KSÚS proti obdržené informace odvolání OČEKÁVÁME ROZHODNUTÍ MF O ODVOLÁNÍ PROTI PV Č.9/2014 | S10: =T10/L10 -> 0.99268069 | T10: =L10-M10 -> 13128254
N11: uhrazeno 387.193,00 podaná žádost o vratku ve výši
N12: 290394.75 | O12: 0
A13: 3 | B13: ISŠTE Sokolov | C13: Projekt revitalizace Centra vzdělávání ISŠTE Sokolov CZ.1.09/1.3.00/18.00376 | D13: školství | E13: 2.1.2007 - 30.7.2012 | F13: ROP | G13: 4.0041899e+08 | H13: APDM, p.o. | I13: Ing. Kamil Řezníček/ PaedDr. Vratislav Emler | J13: ÚRR odvod za porušení rozp. kázně | K13: pochybení ve 4 veřejných zakázkách -netransparentní hodnotící kritéria; netransparentní hodnocení nabídek a jeho nepřezkoumatelnost; dodatečné stavební práce realizované bez zadávacího řízení; neoprávněné použití JŘBU | L13: 178471075 | M13: =N13 -> 11053466 | N13: 11053466 | O13: 0 | P13: =M13/L13 -> 0.061934215 | Q13: =(M13+M16+M17)/G13 -> 0.15450713 | R13: platební výměry doručeny 10/2013; 6.11.2013 podaná odvolání proti platebním výměrům; odvod uhrazen 4.11.2013 dne 9.6.2016 doručeno rozhodnutí MFČR o odvolání proti PV č.19/2013 a č.20/2013; MFČR snížilo odvod u těchto dvou PV na 25%. Díky rozhodnutí o částečném prominutí odvodu 10/2013 je aktuální výše odvodu ve výši 6,25% původně vyměřeného důvodu. ÚRR je povinen vrátit 33.160.392 Kč na účet školy - 21.6.2016 ISŠTE podala žádost o vratku vratitelného přeplatku - prozatím správce daně částku nevrátil 26.7.2016 ÚRR informoval ISŠTE o tom, že si k věci vyžádal stanovisko právní a stanovisko MFČR dne 15.8.2016 odeslala ISŠTE žádost o písemné rozhodnutí ÚRR 22.9.2016 doručeno rozhodnutí o zrušení PV 22/2013 (původní výše PV 98.050,- Kč, snížená a uhrazená výše PV 24.513 Kč), požádáno o provedení vratky včetně úroků 18.10.2016 doručeno rozhodnutí o zamítnutí vratky přeplatku ve výši 33.160.392 Kč 20.10.2016 doručeno rozhodnutí o zrušení PV 21/2013 (původní výše PV 1.517.597 Kč, snížená a uhrazená výše PV 379.400 Kč) 31. 10.2016 odesláno odvolání proti rozhodnutí o zamítnutí vrácení vratitelného přeplatku ve výši 33.160.392 Kč Dne 13.11.2016 podána žádost o vratku výdajů za PV 21/2013 ve výši 379.400 Kč včetně úroků Dne 6. 12. 2016 ÚRR částečně uhradil vratku za zrušené PV 21/2013 a PV 22/2013, vratka je nedoplacena o 1,39 Kč Dne 12. 6. 2017 rozhodnutí MF, kterým prohlašuje nicotnost rozhodnutí Úřadu Regionální rady regionu soudržnosti Severozápad ze dne 17.10.2016, o žádosti o vrácení vratitelného přeplatku 19.7.2017 žádost ÚRR o zaslání podkladů, na základě kterých žádá škola o vratku 33,16 mil. Kč 28.7.2017 odeslány dokumenty na základě žádosti ze dne 19.7.2017 dne 5.12. rozhodl výbor RR, o zamítnutí žádosti ISŠTE a RRSZ o tomto rozhodnutí školu informoval dne 18.12.2017 dne 22.12.2017 odbržela škola rozhodnutí o úroku z vratitelného přeplatku a sdělení o nepřiznání úroku z neoprávněného jednání správce daně dne 2.1.2018 škola podala odvolání proti zamítnutí žádosti 22.1.2018 odeslala škola námitku proti sdělení z 22.12.2017 a dále odvolání proti chybně určenému úroku z vratitelného přeplatku OČEKÁVÁME ROZHODNUTÍ MF O ODVOLÁNÍ PROTI NEPŘIZNÁNÍ VRATITELNÉHO PŘEPLATKU, PROTI CHYBNÉ VÝŠI ÚROKU Z VRATITELNÉHO PŘELATKU A PROTI NEPŘIZNÁNÍ ÚROKU Z NEOPRÁVNĚNÉHO JEDNÁNÍ SPRÁVCE DANĚ
N14: uhrazeno celkem 44.213.858,00 doplatek URR za chybně vrácené vratky 1,39 podána žádost o vratku přeplatku ve výši
N15: 33160392
J16: ÚRR zkrácení dotace | L16: 40518450 | M16: =N16+O16 -> 39887711 | N16: 39887711 | P16: =M16/L16 -> 0.98443329 | R16: proveden přesun do nezpůsobilých výdajů- není pokryto dotací; zbývající část dotace byla poskytnuta v 9/2014; 30.3.2015 odeslán Návrh na zahájení sporu z VPS; 12.5.2015 doručen platební výměr na správní poplatek ve výši 2.000 Kč za nepeněžité plnění (uhrazen 3.5.2015); vyplacení zadržené části dotace ve výši 40.518.449,97 Kč bude řešeno v samostatném řízení; 16.6.2015 doručeno vyjádření ÚRR ve věci sporu, 24.6.2015 odesláno na MF ČR stanovisko ISŠTE; 11.5.2015 zahájen MF ČR audit operace za II.etapu projektu; 31.8.2015 doručeno rozhodnutí MF ČR ve prospěch ISŠTE v rámci nepeněžitého plnění; aktuálně probíhá spor z veřejnoprávní smlouvy ve věci peněžitého plnění dne 12.9.2016 zaslala ISŠTE na MFČR doplnění informací do sporu, ve kterém informovala MFČR o faktickém snížení sankce u téhož pochybení na 6,25 % a dále upozornila na zásadu, podle které nemá docházet v daňovém řízení k bezdůvodným rozdílům Dne 29.11.2016 obdržela ISŠTE vyjádření ÚRR ke sporu, ve lhůtě do 12.12.2016 škola odeslala repliku k vyjádření; 19.12.2017 rozhodnutí o MF a sporu - částečný úspěch ve sporu, krácení sníženo o 630.739 Kč. 19.2.2018 podána správní žaloba proti rozhodnutí o sporu OČEKÁVÁME ROZHODNUTÍ O SPORU | S16: =T16/L16 -> 0.015566711 | T16: =L16-M16 -> 630739
J17: ÚRR odvod za porušení rozp. Kázně dle MFCR audit operace č: ROPSZ/2015/O/015 | K17: neprovedení VŘ na dodavatele - vícepráce nad rámec smlouvy | L17: 10926411 | M17: =N17+O17 -> 10926411 | N17: 10926411 | O17: =10926411.03-N17 -> 0 | P17: =M17/L17 -> 1 | R17: 14.12.2015 doručena Zpráva o auditu operace za II. etapu projektu, MF ČR navrhlo nezpůsobilé výdaje a předalo zprávu ÚRR, k pochybením uvedeno, že ovlivňují i certifikované výdaje I.etapy projektu, 21.1.2016 ÚRR doručil Výzvy k vrácení dotace dle § 22 odst. 6 zák. 250/2000 Sb., tj. nejedná se o daňové řízení, výzvy z důvodu předpokladu chybně stanovených částek nebyly uhrazeny, očekáváme zahájení daňového řízení, kde je možné se proti stanoveným nesrovnalostem bránit Dne 20.8.2016 bylo ISŠTE doručeno oznámení o zahájení daňového řízení, do 19.9.2016 zašle ISŠTE k dané věci stanovisko 19.9.2016 odesláno stanovisko k daňovému řízení 1.11.2016 ISŠTE obdržela výzvu k doplnění informací do daňového řízení, se lhůtou 15 pracovních dní 9.11.2016 ISŠTE odeslala žádost o prodloužení lhůty pro doplnění informací, které bylo dne 16.11.2016. Lhůta byla prodloužena do 30.12.2016 22.12.2016 odeslána doplnění k daňovému řízení 16.3.2017 vystaven platební výměr č.3/2017 na 823.671 Kč za zjištění č.2 ze zprávy o auditu 13. 4. 2017 podáno odvolání proti PV č. 3/2017 OČEKÁVÁME VYDÁNÍ PLATEBNÍCH VÝMĚRŮ PRO DALŠÍ ZJIŠTĚNÍ; OČEKÁVÁME ROZHODNUTÍ O ODVOLÁNÍ PROTI PLATEBNÍMU VÝMĚRU Č. 3/2017 | S17: =T17/L17 -> 0 | T17: =L17-M17 -> 0
J18: pokuta ÚOHS | K18: správní delikt - zadavatel stanovili způsob hodnocení nabídek v rozporu se zásadou transparentnosti | L18: 150000 | M18: =N18+O18 -> 150000 | N18: 150000 | P18: =M18/L18 -> 1 | R18: ÚOHS 10.4.2014 zamítnul rozklad, rozhodnutí o pokutě nabylo právní moci, pokuta uhrazena; 10.6.2014 podaná správní žaloba, na 20.6.2016 předvolána ISŠTE k soudu v Brně; 30 Af 42/2014 - 71 ze dne 20.6.2016 rozsudek soudu ve věci správní žaloby - zamítnuto 19.7.2016 podala AK kasační stížnost 3. 4. 2017 NSS zamítl kasační stížnost podanou ISŠTE 9.6.2017 podala ISŠTE Sokolov prostřednictvím advokáta JUDr. Mgr. Slavomíra Hrinka ústavní stížnost. Advokát zastupoval školu bezplatně 20.6.2017 Ústavní soud rozhodl o bezdůvodnosti ústavní žaloby KONEČNÝ STAV - PROTI ULOŽENÉ POKUTĚ JIŽ NENÍ MOŽNÉ UŽÍT ŽÁDNÝCH ŘÁDNÝCH OPRAVNÝCH PROSTŘEDKŮ | S18: =T18/L18 -> 0 | T18: =L18-M18 -> 0
A19: 4 | B19: SPŠ Ostrov | C19: Centrum technického vzdělávání Ostrov CZ.1.09/1.3.00/10.00163 | D19: školství | E19: 12.3.2007 - 29.7.2011 | F19: ROP | G19: 4.3301326e+08 | H19: APDM, p.o. | I19: Ing. Kamil Řezníček/ PaedDr. Vratislav Emler | J19: ÚRR odvod za porušení rozp. kázně | K19: pochybení ve 2 veřejných zakázkách -netransparentní hodnotící kritéria; netransparentní hodnocení nabídek; netransparentní a diskriminační hodnotící kritéria | L19: 354887803 | M19: =N19+O19 -> 88721951 | N19: 88721951 | O19: 0 | P19: =M19/L19 -> 0.25 | Q19: =(M19+M20)/G19 -> 0.20558713 | R19: 30.7.2014 ÚRR zahájil daňové řízení, 19.8.2014 zasláno na ÚRR podání ve věci daňového řízení; 6.11.2015 doručeny platební výměry v celkové částce 354.887.803,-- Kč, korespondence s ÚRR (RRSZ) o důvodech změny dosavadní rozhodovací praxe. 3.12.2015 podána proti platebním výměrům odvolání a žádosti o posečkání s úhradou odvodu, 11.1.2016 doručeno Rozhodnutí o zamítnutí žádostí o posečkání, 3.2.2016 odesláno Odvolání proti Rozhodnutí o posečkání 14.4.2016 doručena Rozhodnutí o odvolání - částečně vyhověno - snížen odvod z 354 mil. Kč na 88 mil. Kč, 12.5.2016 podána odvolání proti sníženému odvodu 16.11.2016 - MFČR rozhodlo o posečkání úhrady odvodu do doby vydání rozhodnutí o prominutí 15.12.2016 - odeslala SPŠ Ostrov žádost o vydání opravného rozhodnutí o posečkání úhrady 2.1.2017 - doručeno opravné rozhodnutí o posečkání úhrady OČEKÁVÁME ROZHODNUTÍ POSKYTOVATELE DOTACE O PROMINUTÍ ODVODU A ROZHODNUTÍ MINISTERSTVA FINANCÍ O ODVOLÁNÍ PROTI PLATEBNÍMU VÝMĚRU | S19: =T19/L19 -> 0.75 | T19: =L19-M19 -> 266165852
J20: pokuta ÚOHS | K20: správní delikt - zadavatel nedodržel postup stanovený ZVZ a zásadu transparentnosti, když nestanovil v hodnotícím kritériu minimální požadavky | L20: 300000 | M20: =N20+O20 -> 300000 | N20: 300000 | O20: 0 | P20: =M20/L20 -> 1 | R20: ÚOHS 29.12.2014 zamítnul rozklad, rozhodnutí o pokutě nabylo právní moci, pokuta uhrazena 23.2.2015; 24.2.2015 podaná správní žaloba na Krajský soud v Brně 24.6.2015 doručeno stanovisko žalované strany; 8.7. 2015 byla odeslána replika na Krajský soud v Brně 30.6.2016 doručen rozsudek Krajského soudu v Brně o zamítnutí správní žaloby; RKK rozhodla, že kasační stížnost nebude podána KONEČNÝ STAV - ULOŽENÁ POKUTA JE DEFINITIVNÍ OLP a KŽÚ VYHODNOCUJE ZÁVAZEK SPOLEČNOSTI VEŘEJNÉ ZAKÁZKY S.R.O., NÉST PŘÍPADNÝ POSTIH ZPŮSOBENÝ NESPRÁVNÝM POSTUPEM PŘI REALIZACI ZADAVATELSKÝCH ČINNOSTÍ VE SMYSLU ZÁKONA Č. 137/2006 Sb. | S20: =T20/L20 -> 0 | T20: =L20-M20 -> 0
A21: 5 | B21: KSÚS, p.o. | C21: II/214 Jihovýchodní obchvat Cheb CZ.1.09/3.1.00/64.01004 | D21: doprava | E21: 6.11.2013 - 30.11.2015 | F21: ROP | G21: 3.9263382e+08 | H21: KSÚS, p.o. | I21: Ing. Petr Navrátil/ Jakub Pánik | J21: ÚRR zkrácení dotace | K21: porušení zásady transparentnosti, rovného zacházení a diskriminace § 6 ZVZ - požadavek na dispozici s obalovnou | L21: 31074718 | M21: =N21+O21 -> 31074718 | N21: 31074718 | O21: 0 | P21: =M21/L21 -> 1 | Q21: =(M21+M22+M23)/G21 -> 0.080217415 | R21: 6.11.2014 ukončena veřejnosprávní kontrola - námitkám nebylo vyhověno 15.4.2015; Oznámení výsledku šetření podnětu ÚOHS-P39/2015/VZ-7503/2015/551/Sbe - bez sankce; 20.4.2015 zahájen MF ČR audit operace 17.12.2015 projekt finančně ukončen - položka na VZ stavební práce nedočerpána, proto snížena původně očekávaná částka korekce aktuálně probíhá příprava sporu z veřejnoprávní smlouvy 3.10.2016 MFČR rozhodlo ve sporu pro nepeněžité plnění KSÚS a ÚRR ve prospěch KSÚS a přikázalo ÚRR, aby KSÚS písemně informoval o krácení a o důvodech krácení 10.10.2016 ÚRR podala odpor proti rozhodnutí MFČR 24.10.2016 KSÚS zaslala prostřednictvím advokátní kanceláře stanovisko k odporu 15.12.2016 doručeno Oznámení o krácení způsobilých výdajů 24.4.2017 RKK vzala na vědomí přípravu sporu pro peněžité plnění pro 31.074.718,08 Kč 8.9.2017 zahájen spor pro peněžité plnění OČEKÁVÁME ROZHODNUTÍ VE SPORU | S21: =T21/L21 -> 0 | T21: =L21-M21 -> 0
J22: odvod na základě auditu operace | K22: neponížení požadovaných nákladů o výzisky z prodeje vyfrézovaného materiálu neprovedené korekce ŘO za VŘ 003 a 004 | L22: =134201.25*0.85 -> 114071.06 | M22: =N22+O22 -> 114071.06 | N22: 0 | O22: =134201.25*0.85 -> 114071.06 | P22: =M22/L22 -> 1 | R22: 14.9.2016 doručena Zpráva o auditu operace ROPSZ/2016/O/012 ze dne 31.8.2016, auditované prostředky byly ve výši 171.293.570,94 Kč, identifikované NV ve výši 134.201,25 Kč ( z toho 29.221,50 Kč za neprovedené korekce za VŘ 003 a VŘ 004 a 104.979,75 Kč za výzisky) 6.3.2017 vystavil ÚRR výzvu k vrácení 393 222,74 Kč za neodečtené výzisky za prodej vyfrézovaného materiálu a dřevin 9.1.2018 zahájil ÚRR daňové řízení OČEKÁVÁME VYSTAVENÍ PLATEBNÍHO VÝMĚRU
J23: odvod na základě auditu operace | K23: neponížení požadovaných nákladů o výzisky z prodeje vyfrézovaného materiálu neprovedené korekce ŘO za VŘ 004 | L23: =361507.25*0.85 -> 307281.16 | M23: =N23+O23 -> 307281.16 | N23: 0 | O23: =361507.25*0.85 -> 307281.16 | P23: =M23/L23 -> 1 | R23: 6.12.2016 doručena Zpráva o auditu operace ROPSZ/2016/O/020 ze dne 30.11.2016, auditované prostředky byly ve výši 132.428.457,27 Kč (z toho 3.872 Kč za neprovedenou korekci za VŘ 004 a 357.635,25 Kč) 6.3.2017 vystavil ÚRR výzvu k vrácení 393 222,74 Kč za neodečtené výzisky za prodej vyfrézovaného materiálu a dřevin 9.1.2018 zahájil ÚRR daňové řízení OČEKÁVÁME VYSTAVENÍ PLATEBNÍCH VÝMĚRŮ
