Workbook

Sheet Harm KK (2)
A1: Harmonogram 2015 - řešení sankcí u projektů EU - Karlovarský kraj
A2: číslo | B2: příjemce dotace | C2: název a registrační číslo projektu | D2: období realizace projektu | E2: operační program | F2: vyměřený nebo uhrazený platební výměr/ provedená korekce/ uhrazené penále | G2: očekávaná sankce - budoucí platební výměr/ korekce | H2: pokuta ÚOHS | I2: penále/ úrok z posečkání | J2: Stručný průběh | K2: Očekávaná událost | L2: leden - březen 2015 | M2: duben - červen 2015 | N2: červenec - září 2015 | O2: říjen - prosinec 2015 | P2: Poznámka
A3: 1 | B3: Karlovarský kraj | C3: Atlas zajímavostí v Karlovarském kraji - CZ.04.1.05/4.132.1/1795 | D3: 2005 - 2007 | E3: SROP | F3: 5518441 | G3: 5518441 | J3: Odvolání proti PV podáno 8.1.2014 - postoupeno 4. 3. 2014 na FŘ Brno | K3: * rozhodnutí o odvolání * může být vyměřeno penále ve výši dotace * uhrada odvodu a penále zajištěna usnesením ZKK 405/12/14 z 11.12.2014
A4: 2 | B4: Karlovarský kraj | C4: Modernizace Letiště K.Vary - III.etapa, 2. část - CZ.1.09/3.1.00/01.00005 | D4: 18.2.2008-30.5.2009 | E4: ROP | F4: 40674 | G4: 0 | J4: Rozhodnutí o částečném prominutí odvodu z 6.11.2014; odvolání proti PV odesláno 16. 10. 2014 | K4: * rozhodnutí o odvolání * uhrada odvodu
A5: 3 | B5: Karlovarský kraj | C5: Zvyšování kvality vzdělávání standardizací a zlepšováním řídících procesů - CZ.1.07/1.1.00/08.0080 | D5: 1.1.2010-31.12.2012 | E5: OP VK | F5: uhrazeno odvod + penále 2x - 253 214,00 | G5: 2400910 | I5: uhrazen úrok z posečkání 2 796,00 | J5: Protokol č. 220/2012 ze dne 16.1.2014 (odvod 2.654.124,-- Kč); námitky podány 25.2.2014; rozhodnutí o námitkách ze dne 16.6.2014; 16.1.2015 uhrazen úrok z posečkání | K5: * daňová kontrola z FÚ * následně platební výměry * žádost o prominutí odvodu daně a dosud nevyměřeného penále * odvolání proti platebním výměrům * ZKK schválit převod peněžních prostředků * (případně žádost o posečkání odvodu nebo penále)
A6: 4 | B6: Karlovarský kraj | C6: Krajské vzdělávací centrum pro další vzdělávání pedagogických pracovníků - CZ.1.07/1.3.00/14.0026 | D6: 1.4.2010-31.3.2013 | E6: OP VK | F6: uhrazeno odvod + penále 2x - 54 643,00 | G6: 474280.44 | J6: Protokol č. 222/M/2012 z 16.1.2014 (odvod 727.814,40 Kč); námitky; námitky podány 25.2.2014; rozhodnutí o námitkách ze dne 16.6.2014; 16.1.2015 uhrazen úrok z posečkání | K6: * daňová kontrola z FÚ * následně platební výměry * žádost o prominutí odvodu daně a dosud nevyměřeného penále * odvolání proti platebním výměrům * ZKK schválit převod peněžních prostředků * (případně žádost o posečkání odvodu nebo penále)
A7: 5 | B7: Karlovarský kraj | C7: Inovace školského portálu Karlovarského kraje - CZ.1.07/1.3.00/14.0024 | D7: 1.4.2010-31.3.2013 | E7: OP VK | F7: uhrazeno odvod + penále 2x - 54 937,00 | G7: 672878.4 | J7: Protokol č. 221/M/2012 ze dne 16.1.2014 (odvod 528.922,44 Kč); námitky; námitky podány 25.2.2014; rozhodnutí o námitkách ze dne 16.6.2014; 16.1.2015 uhrazen úrok z posečkání | K7: * daňová kontrola z FÚ * následně platební výměry * žádost o prominutí odvodu daně a dosud nevyměřeného penále * odvolání proti platebním výměrům * ZKK schválit převod peněžních prostředků * (případně žádost o posečkání odvodu nebo penále)
A8: 6 | B8: Karlovarský kraj | C8: Dopravní terminál Mariánské Lázně - CZ.1.09/3.2.00/27.00611 | D8: 16.3.2010-27.9.2012 | E8: ROP | G8: 5787124.8 | J8: Protokol o kontrole z 13.8.2014; námitky podány 4.9.2014; vyřízení námitek doručeno 4.11.2014 - zamítnuty | K8: * zahájení daňového řízení z ÚRR * následně platební výměr * žádost o prominutí odvodu daně a dosud nevyměřeného penále * podání odvolání * v ZKK není zajištěna úhrada odvodu
A9: 7 | B9: Karlovarský kraj | C9: Dopravní terminál Cheb - CZ.1.09/3.2.00/17.00610 | D9: 16.10.2010-21.2.2013 | E9: ROP | G9: 4715937.3 | J9: Protokol o kontrole z 12.8.2014 ve znění Dodatku z 20.8.2014; námitky podány 4.9.2014; vyřízení námitek doručeno 4.11.2014 - zamítnuty | K9: * zahájení daňového řízení z ÚRR * následně platební výměr * žádost o prominutí odvodu daně a dosud nevyměřeného penále * podání odvolání * v ZKK není zajištěna úhrada odvodu
A10: 8 | B10: Karlovarský kraj | C10: Personální audit Krajského úřadu Karlovarského kraje - CZ.1.04/4.1.01/57.00124 | D10: 1.9.2010-30.8.2012 | E10: OP LZZ | G10: 3289296 | J10: Námitky podány 30.12.2012; rozhodnutí o námitkách doručeno 22.1.2013 - zamítnuto | K10: * zahájení daňového řízení nebo daňová kontrola * následně platební výměr * žádost o prominutí odvodu daně a dosud nevyměřeného penále * podání odvolání * v ZKK není zajištěna úhrada odvodu
A11: 9 | B11: Karlovarský kraj | C11: Aplikace moderních metod zvyšování výkonnosti, kvality, efektivity a transparentnosti v Karlovarském kraji - CZ.1.04/4.1.00/42.00003 | D11: 1.5.2010-30.4.2013 | E11: OP LZZ | G11: 1007247.4 | J11: Rozhodnutí o námitkách ze dne 6.2.2014 - námitkám částěčně vyhověno - sankce ze 100 % snížena na 25 % | K11: * zahájení daňového řízení nebo daňová kontrola * následně platební výměr * žádost o prominutí odvodu daně a dosud nevyměřeného penále * podání odvolání * v ZKK není zajištěna úhrada odvodu
A12: 10 | B12: Karlovarský kraj | C12: Vytvoření sítě služeb péče o osoby s duševním onemocněním na území Karlovarského kraje - CZ.1.04/3.1.00/05.00062 | D12: 1.5.2012-30.4.2014 | E12: OP LZZ | G12: 26336.35 | J12: Protokol o výsledku kontroly č. 2013/1075 ze dne 7.1.2013; Oznámení o schválení závěrečné MZ a zjednod. ŽoP ze dne 25.7.2014 | K12: * v 7/2013 podány námitky - bez odezvy * zahájení daňového řízení nebo daňová kontrola * následně platební výměr * žádost o prominutí odvodu daně a dosud nevyměřeného penále * podání odvolání * v ZKK není zajištěna úhrada odvodu | P12: APDM
A13: 11 | B13: Karlovarský kraj | C13: V Karlovarském kraji společně plánujeme sociální služby - CZ.1.04/3.1.00/05.00060 | D13: 1.3.2012-28.2.2014 | E13: OP LZZ | G13: 676995 | J13: Protokol o výsledku kontroly č. 2013/628 ze dne 29.10.2013; Oznámení o schválení závěrečné MZ a zjednod. ŽoP ze dne 25.7.2014 | K13: * 31.1.2014 podány námitky - bez odezvy * zahájení daňového řízení nebo daňová kontrola * následně platební výměr * žádost o prominutí odvodu daně a dosud nevyměřeného penále * podání odvolání * v ZKK není zajištěna úhrada odvodu | P13: APDM
A14: 12 | B14: Karlovarský kraj | C14: Interaktivní galerie Karlovy Vary – Becherova vila - CZ.1.09/4.1.00/04.00021 | D14: 1.1.2007 - 28.7.2011 | E14: ROP | G14: 63267368 | J14: Zpráva o auditu operace č. 85 ze dne 6.4.2012; oznámení o zahájení daňového řízení z 19.9.2014; Podání ve věci daňového řízení odesláno 3.10.2014 | K14: * běží daňové řízení * následně platební výměr * žádost o prominutí odvodu daně a dosud nevyměřeného penále * podání odvolání * v ZKK není zajištěna úhrada odvodu | L14: daňové řízení
A15: 12 | B15: Karlovarský kraj | C15: Interaktivní galerie Karlovy Vary – Becherova vila - CZ.1.09/4.1.00/04.00021 | D15: 1.1.2007 - 28.7.2011 | E15: ROP | G15: 11336718 | J15: Zjednodušená žádost o platbu za II.etapu ze dne 28.7.2011; oznamovací dopis ÚRR z 28.2.2013 o pozastavení projektu | K15: * očekáváme zápis z administrativní kontroly ŽoP za II. etapu * neproplacení dotace za II.etapu * stanovit další postup s právníkem
A16: 13 | B16: Karlovarský kraj | C16: Vzdělávání v eGon Centru Karlovarského kraje CZ.1.04/4.1.00/40.00025 | D16: 1.7.2009-30.6.2012 | E16: OP LZZ | G16: 1105 | J16: Podnět k zahájení k prošetření podezření na porušení rozp.kázně ze dne 6.10.2014 | K16: * běží daňová kontrola | L16: daňová kontrola
A17: 15 | B17: Karlovarský kraj | C17: Podpora přírodovědného a technického vzdělávání v Karlovarském kraji CZ.1.07/1.1.00/44.0004 | D17: 1.9.2013-30.6.2015 | E17: OP VK | G17: 327897 | J17: Námitky zaslány dne 4.11.2014; Stanovisko k námitce ze dne 21.11.2014 - zamítnuto | K17: * projekt v realizaci * je možno očekávat kontroly | N17: námitky proti protokolům | O17: vyúčtování ZKK
A18: 16 | B18: Karlovarský kraj | C18: Omezení výskytu invazních rostlin v KK - CZ.1.09/3.1.00/01.00005 | D18: 9.8.2013-15.12.2015 | E18: OP ŽP | G18: 300000 | J18: Oznámení o udělení korekce z 22.9.2014; námitky podány 6.10.2014 | K18: * projekt v realizaci | P18: APDM
A19: 18 | B19: Karlovarský kraj | C19: Cyklostezka Ohře II - CZ.1.09/3.2.00/35.00801 | D19: 29.3.2011-30.5.2014 | E19: ROP | F19: pokráceno 9 250,01 | G19: 0 | J19: Námitky podány dne 28.10.2014, Vyřízení námitek doručeno 4.11.2014 -zamítnuty | K19: * ukončený projekt * k vyúčtování do ZKK | L19: vyúčtování ZKK | P19: APDM
A20: 19 | B20: Karlovarský kraj | C20: Cyklostezka Ohře III - CZ.1.09/3.2.00/66.01008 | D20: 26.11.2013-31.7.2015 | E20: ROP | G20: 16023.95 | J20: Námitky podány dne 28.10.2014; vyřízení námitek doručeno 10.11.2014 - částečně vyhověno | K20: * ukončení projektu 31.7.2015 * možné kontroly (přesuny do nezpůsobilých výdajů ) | N20: námitky proti protokolům | O20: vyúčtování ZKK | P20: APDM
A21: 21 | B21: Karlovarský kraj | C21: Rozvoj služby e-Governmentu na území Karlovarského kraje - část I. až VI. CZ.1.06/2.1.00/08.07146 | D21: 12.8.20011-31.12.2013 | E21: IOP | G21: 9222023.2 | J21: zaslání stanoviska ke zprávě o auditu dne 20.11.2014; Zpráva o auditu doručená dne 17.12.2014 | K21: * zahájení daňového řízení z ÚRR * následně platební výměr * žádost o prominutí odvodu daně a dosud nevyměřeného penále * podání odvolání * v ZKK není zajištěna úhrada odvodu
A22: 37 | B22: Karlovarský kraj | C22: Podpora sociálního začleňování příslušníků sociálně vyloučených lokalit v Karlovarském kraji - CZ.1.04/3.2.00/B4.00005 | D22: 1.1.2014-30.6.2015 | E22: OP LZZ | G22: 0 | J22: Protokol č 2014/0761 ze dne 21.10.2014; námitky podány 24.10.2014; rozhodnutí o námitkách ze dne 23.12.2014 - nevyhověno | K22: * podezření na správní delikt - MPSV předá na ÚOHS - možná pokuta * vyjádření pro ÚHOS, příp. rozklad | P22: APDM
B23: CELKEM | C23: v součtu jsou uvedené pouze neuhrazené finanční postihy | F23: =SUM(F3:F22) -> 5559115 | G23: =SUM(G3:G22) -> 1.0904058e+08 | I23: =SUM(I3:I22) -> 0
B32: Vyslětlivky
C33: očekáváme rozhodnutí o odvolání; uhrada odvodu
C34: očekáváme platební výměry; zpracovat žádost o posečkání a prominutí odvodu,odvolání proti PV, ZKK schválit převod peněžních prostředků
C35: daňové řízení, následně platební výměr - žádost o prominutí a podání odvolání, ZKK schválit převod peněžních prostředků
C36: ÚOHS - správní řízení, příprava vyjádření, rozkladu, správní žaloby
C37: očekávaná kontrola, příprava námitek proto kontrolním zjištěním z protokolů

Sheet Přehled celkem
A1: Přehled finančních postihů (odvodů, korekcí a pokut) u projektů spolufinancovaných z EU včetně jiných zdrojů od roku 2008
A3: Tabulka č. 1 | I3: v Kč
A4: Příjemce dotace | C4: Celkový objem dotčených projektů | D4: Původně zjištěné pochybení v plné výši vztaženo pouze k dotaci | E4: Aktuální výše zjištěného pochybení vztaženo pouze k dotaci | H4: Poměr aktuální výše zjištěného pochybení/ původní výše zjištěného pochybení vztaženo pouze k dotaci | I4: Poměr aktuální výše zjištěného pochybení/ celkový objem dotčených projektů
E5: Celkem | F5: z toho doručený platební výměr /provedená korekce/ vyměřená pokuta ÚOHS | G5: z toho očekávaný finanční postih - odvod (budoucí PV)/pokuta/ korekce
A6: sl. 1 | C6: sl. 2 | D6: sl. 3 | E6: sl. 4 (sl. 5 + sl. 6) | F6: sl. 5 | G6: sl. 6 | H6: sl. 7 (sl. 4/sl.3) | I6: sl. 8 (sl. 4/sl. 2)
A7: Karlovarský kraj - viz příloha č. 1 | C7: ='Projekty KK'!G117 -> 1.477279e+09 | D7: ='Projekty KK'!L117 -> 2.5869474e+08 | E7: ='Projekty KK'!M117 -> 1.5010534e+08 | F7: ='Projekty KK'!N117 -> 1.235325e+08 | G7: ='Projekty KK'!O117 -> 26572838 | H7: =E7/D7 -> 0.58024117 | I7: =E7/C7 -> 0.10160934
A8: Příspěvkové organizace a KKN a.s. - viz příloha č. 2 | C8: ='Projekty PO'!G73 -> 3.5490246e+09 | D8: ='Projekty PO'!L73 -> 8.9436181e+08 | E8: ='Projekty PO'!M73 -> 2.9481986e+08 | F8: ='Projekty PO'!N73 -> 3.3191825e+08 | G8: ='Projekty PO'!O73 -> 1994229.1 | H8: =E8/D8 -> 0.32964273 | I8: =E8/C8 -> 0.083070672
A9: Plošná korekce usnesení č. ZKK 196/08/13 ze dne 19. 8. 2013 | C9: x | D9: 2065000000 | E9: 307867530 | F9: 307867530 | G9: 0 | H9: =E9/D9 -> 0.14908839 | I9: x
A10: CELKEM | C10: =SUM(C7:C9) -> 5.0263036e+09 | D10: =SUM(D7:D9) -> 3.2180565e+09 | E10: =SUM(E7:E9) -> 7.5279273e+08 | F10: =SUM(F7:F9) -> 7.6331829e+08 | G10: =SUM(G7:G9) -> 28567067 | H10: =E10/D10 -> 0.23392775 | I10: =E10/C10 -> 0.14977064
A11: * Pozn.:
A12: u PO sl. 4 - nejedná se o součet sl. 5 a sl. 6, neboť u projektu PO_03 byl vyměřen a uhrazen odvod (sl. 5) ve vyšší částce, než je aktuální výše zjištěného pochybení (sl. 4), očekáváme vratku vratitelného přeplatku ve výši 39.092.619,25 Kč - z důvodu transparentnosti poskytovaných dat uvedeny veškeré údaje a částky, více k projektu v příloze č. 2
A13: Rekapitulace aktuální výše zjištěného pochybení
A15: Tabulka č. 2 | I15: v Kč
A16: Celkem aktuální výše finančních postihů projektů | E16: =E7+E8 -> 4.449252e+08
A17: z toho | B17: uhrazené platební výměry, provedené korekce, včetně vratitelného přeplatku ve výši 39.092.619,25 Kč | E17: ='Projekty KK'!N118+'Projekty PO'!N74+'Projekty PO'!N75 -> 2.4215847e+08 | F17: podrobněji viz příloha č. 1 a č. 2
B18: neuhrazeno - platební výměry nenabyly právní moci | E18: ='Projekty KK'!N119+'Projekty PO'!N76 -> 2.1329229e+08 | F18: podrobněji viz příloha č. 1 a č. 2
B19: maximální možný očekávaný finanční postih | E19: ='Projekty KK'!O119+'Projekty PO'!O76 -> 28567067 | F19: podrobněji viz příloha č. 1 a č. 2
A20: uhrazená plošná korekce | E20: =E9 -> 307867530 | F20: viz usnesení č. ZKK 196/08/13 ze dne 19. 8. 2013
A21: Celkem aktuální výše zjištěného pochybení za KK, příspěvkové organizace a KKN a.s. - vztaženo pouze k dotaci | E21: =E10 -> 7.5279273e+08 | F21: viz součet sl. 4 v tabulce č. 1 (v součtu není zahrnut vratitelný přeplatek ve výši 39 092 619.25 Kč)
A23: Vysvětlivky k tabulce č. 1:
A24: sl. 2 | B24: Celkový objem dotčených projektů | E24: Celkový objem vynaložených finančních prostředků na projekt, včetně způsobilých a nezpůsobilých výdajů, poskytnuté dotace a vlastní spoluúčasti na financování projektu. U ukončených projektů částka vychází z konečného finančního vypořádání projektu, předkládaného ZKK k projednání. Pokud je projekt v realizaci, vychází celkový objem projektu ze smlouvy/rozhodnutí o dotaci (modrý text v příloze č. 1 a č. 2).
A25: sl. 3 | B25: Původně zjištěné pochybení vztaženo pouze k dotaci | E25: Výše původně identifikovaného pochybení na základě protokolu z kontroly, zprávy z auditu operace nebo rozhodnutí o pokutě, případně jiných dokumentů. Proti kontrolním zjištěním byly příjemci dotace podávány námitky nebo stanoviska apod. Částka se vztahuje pouze k dotaci.
A26: sl. 4 | B26: Aktuální výše zjištěného pochybení vztaženo pouze k dotaci | E26: Součet sl. 5 a sl. 6.
A27: sl. 5 | B27: Doručený platební výměr (PV)/ provedená korekce/ vyměřená pokuta ÚOHS | E27: Částka odpovídá skutečně doručeným platebním výměrů a rozhodnutím o pokutě. Proti platebním výměrům/ rozhodnutím o pokutě podává příjemce dotace odvolání/rozklad. Odvod/pokuta je uhrazena až v okamžiku nabytí právní moci platebního výměru/rozhodnutí o pokutě (zelená barva v příloze č. 1 a 2). Dosud neuhrazené platební výměry/rozhodnutí o pokutě nenabyly právní moci a částky nemusejí být konečné (fialová barva v příloze č. 1 a č. 2).
A28: sl. 6 | B28: Očekávaný finanční postih - odvod (budoucí PV)/ korekce/pokuta | E28: U zjištěných pochybení není ukončeno řízení o námitkách, není k dispozici konečná zpráva z auditu operace, nebylo zahájeno nebo probíhá daňové řízení nebo správní řízení na ÚOHS. Částka za zjištěná pochybení nemusí být konečná.
A29: sl. 7 | B29: Poměr aktuální výše zjištěného pochybení/ původní výše zjištěného pochybení vztaženo pouze k dotaci | E29: Poměr aktuálních částek, které již byly vyměřeny nebo jsou očekávány po skončených námitkových řízeních, odvoláních a původně vyčíslených identifikovaných zjištění z kontrolních protokolů, auditních zpráv, rozhodnutí, případně jiných dokumentů (poměr sl. 4/sl. 3).
A30: sl. 8 | B30: Poměr aktuální výše zjištěného pochybení/ celkový objem dotčených projektů | E30: Poměr aktuálních částek, které již byly vyměřeny nebo jsou očekávány po skončených námitkových řízeních, odvoláních a celkový objem dotčeného projektu (poměr sl. 4/sl. 2).

Sheet Projekty KK
B1: Přehled finančních postihů u projektů financovaných z prostředků EU včetně jiných zdrojů - Karlovarský kraj | R1: Příloha č. 1
A2: Pořadové číslo | B2: Příjemce dotace/ garant projektu | C2: Název a registrační číslo projektu | D2: Oblast zacílení projektu | E2: Období realizace projektu | F2: Operační program | G2: Celkový objem projektu | H2: Administrátor projektu | I2: Garant projektu - člen RKK, ZKK dle Akčního plánu (garant pouze za dobu realizace projektu, ne pro případné řešení škody) | J2: Specifikace finančního postihu | K2: Identifikované zjištění | L2: Původně zjištěné pochybení v plné výši vztaženo pouze k dotaci | M2: Aktuální výše zjištěného pochybení vztaženo pouze k dotaci | P2: Poměr aktuální výše zjištěného pochybení/ původní výše zjištěného pochybení vztaženo pouze k dotaci | Q2: Poměr aktuální výše zjištěného pochybení/ celkový objem dotčeného projektu | R2: Aktuální stav | S2: Vyčíslení úspěchů obrany
M3: Celkem | N3: z toho doručený platební výměr/ vyměřená pokuta ÚOHS/ provedená korekce | O3: z toho očekávaný finanční postih - odvod/ pokuta nebo korekce | S3: v % | T3: v Kč
A4: sl.1 | B4: sl.2 | C4: sl.3 | D4: sl.4 | E4: sl.5 | F4: sl.6 | G4: sl.7 | H4: sl.8 | I4: sl.9 | J4: sl.10 | K4: sl.11 | L4: sl.12 | M4: sl.13 (sl. 14 + sl.15) | N4: sl.14 | O4: sl.15 | P4: sl.16 (sl.13/sl.12) | Q4: sl.17 (sl. 13/sl.7) | R4: sl.18 | S4: sl. 16 (sl.17/sl.10) | T4: sl. 17 (sl.11-sl.10)
A5: 1 | B5: Karlovarský kraj | C5: Atlas zajímavostí v Karlovarském kraji CZ.04.1.05/4.132.1/1795 v rámci grantového schématu Podpora místních a regionálních služeb cestovního ruchu v KK pro veřejné subjekty CZ.04.1.05/4.132.1 | D5: kultura | E5: 2005 - 2007 | F5: SROP | G5: 7683687 | H5: OIGS | I5: JUDr. Josef Pavel | J5: FÚ odvod za porušení rozp. kázně | K5: konečný uživatel nezadal zakázku transparentním a nediskriminačním způsobem (identifikováno kontrolou MMR+uložena nápravná opatření); kontrolou FÚ bylo zjištěno, že konečný příjemce nesplnil nápravná opatření uložená kontrolou MMR | L5: 5000 | M5: =N5+O5 -> 5000 | N5: 5000 | O5: 0 | P5: =M5/L5 -> 1 | Q5: =(M5+M6+M7)/G5 -> 0.0078328282 | R5: 10.1.2014 uhrazeno 5. 000 Kč; 8.1.2014 podáno odvolání proti platebnímu výměru, 5.6.2015 Rozhodnutím o odvolání snížena částka na 576.277 Kč (uhrazeno 12.6.2015); 16.6.2015 platební výměr na penále ve výši 576.277 Kč (uhrazeno 22.6.2015); RKK 676/07/15 z 13.7.2015 - příprava správní žaloby, správní žaloba podána 30.7.2015; 19.5.2016 Rozhodnutí o částečném prominutí odvodu ve výši 521.092 Kč a prominutí penále ve výši 576.277 Kč; 30.6.2016 - KK zaslal zpětvzetí správní žaloby a dne 11.7.2016 KK obdržel usnesení Krajského soudu v Plzni - řízení se zastavuje; 14.7.2016 vrácen soudní poplatek ve výši 2.000 Kč. Jedná se o konečnou výši finančního postihu dle aktuálně známých a předložených informací pracovní skupině. V současné době již další kroky obrany nebudou uplatňovány. KONEČNÝ STAV | S5: =T5/L5 -> 0 | T5: =L5-M5 -> 0
L6: 5518441 | M6: 55185 | N6: 55185 | O6: 0 | P6: =M6/L6 -> 0.010000107 | S6: =T6/L6 -> 0.98999989 | T6: =L6-M6 -> 5463256
J7: FÚ penále | L7: 576277 | M7: 0 | N7: 0 | O7: 0 | P7: =M7/L7 -> 0 | S7: =T7/L7 -> 1 | T7: =L7-M7 -> 576277
A9: 2 | B9: Karlovarský kraj | C9: Modernizace Letiště K.Vary - III.etapa, 2. část CZ.1.09/3.1.00/01.00005 | D9: doprava | E9: 18.2.2008-30.5.2009 | F9: ROP | G9: 98003445 | H9: OIGS | I9: Ing. Jan Zborník/ Ing. Petr Navrátil | J9: ÚRR odvod za porušení rozp. kázně | K9: neoprávněné použití JŘBU - změna řešení podlah; kratší lhůta pro podání nabídek u VZ (místo 15 dnů pouze 10 dnů); rozdíl mezi úhradou KK a Letiště KV s.r.o. a úhradou provedenou Letištěm KV s.r.o. za technický dozor stavby | L9: 5731781 | M9: =N9+O9 -> 1464072 | N9: 1464072 | O9: 0 | P9: =M9/L9 -> 0.25543055 | Q9: =(M9+M10+M11+M12+M13)/G9 -> 0.015624328 | R9: datum úhrady 2/2013 Jedná se o konečnou výši finančního postihu dle aktuálně známých a předložených informací pracovní skupině. V současné době již další kroky obrany nebudou uplatňovány. KONEČNÝ STAV | S9: =T9/L9 -> 0.74456945 | T9: =L9-M9 -> 4267709
J10: ÚRR penále | L10: 1464072 | M10: =N10+O10 -> 0 | N10: 0 | O10: 0 | P10: =M10/L10 -> 0 | R10: rozhodnutím z 29.7.2013 bylo penále prominuto v plné výši KONEČNÝ STAV - POSTIH ZRUŠEN | S10: =T10/L10 -> 1 | T10: =L10-M10 -> 1464072
J11: úrok z posečkání | L11: 26492 | M11: =N11+O11 -> 26492 | N11: 26492 | O11: 0 | P11: =M11/L11 -> 1 | R11: datum úhrady 3/2013 KONEČNÝ STAV - ÚROK Z POSEČKÁNÍ UHRAZEN | S11: =T11/L11 -> 0 | T11: =L11-M11 -> 0
J12: ÚRR odvod za porušení rozp. kázně | K12: majetek pořízený z dotace byl dán do pronájmu třetí osobě bez souhlasu poskytovatele dotace | L12: 81346508 | M12: =N12+O12 -> 40674 | N12: 40674 | O12: 0 | P12: =M12/L12 -> 0.00050000917 | R12: 17.3.2014 oznámení o zahájení daňového řízení, 22.4.2014 vyjádření ve věci daňového řízení, 16.9.2014 PV ve výši 81.346.508 Kč, 25.9.2014 žádost o prominutí odvodu a dosud nevym.penále, 13.10.2014 odesláno odvolání proti platebnímu výměru; 6.11.2014 Rozhodnutí o prominutí ve výši 99,95%, 25.5.1015 odvolání postoupeno na MF ČR (25.6.2015 výzva MF k doplnění, 2.7.2015 odesláno na MF vyjádření); 25.11.2015 Rozhodnutí MFČR - odvolání se zamítá; odvod uhrazen v 12/2015; usn.č.RK 46/01/16; KONEČNÝ STAV - SNÍŽENÝ ODVOD UHRAZEN | S12: =T12/L12 -> 0.99949999 | T12: =L12-M12 -> 81305834
J13: ÚRR penále | L13: 40674 | M13: 0 | N13: 0 | O13: 0 | P13: =M13/L13 -> 0 | R13: 12.1.2016 doručen platební výměr na penále; 24.9.2014 podána žádost o prominutí dosud nevyměřeného penále - ÚRR dosud nerozhodl; KK na ÚRR zaslal dne 20.1.2016 dotaz, kdy předseda RR rozhodne o prominutí penále 16.2.2016 doručeno Rozhodnutí o prominutí penále, prominuto ve 100% výši; schv.usn.č.RK 97/02/16 KONEČNÝ STAV - POSTIH ZRUŠEN
A14: 3 | B14: Karlovarský kraj | C14: Zvyšování kvality vzdělávání standardizací a zlepšováním řídících procesů CZ.1.07/1.1.00/08.0080 | D14: školství | E14: 1.1.2010-31.12.2012 | F14: OP VK | G14: 19287791 | H14: OŠMT | I14: PaedDr. Vratislav Emler/ JUDr. Václav Sloup | J14: FÚ odvod za porušení rozp. kázně | K14: mylná platba u finančního partnera Attest s.r.o. | L14: 2667 | M14: =N14+O14 -> 2667 | N14: 2667 | O14: 0 | P14: =M14/L14 -> 1 | Q14: =(M14+M15+M16+M17+M18+M19+M20+M21+M22)/G14 -> 0.0097121509 | R14: datum úhrady 7/2013 KONEČNÝ STAV - ODVOD UHRAZEN | S14: =T14/L14 -> 0 | T14: =L14-M14 -> 0
J15: FÚ penále | L15: 514 | M15: =N15+O15 -> 514 | N15: 514 | O15: 0 | P15: =M15/L15 -> 1 | R15: datum úhrady 9/2013 KONEČNÝ STAV - PENÁLE UHRAZENO | S15: =T15/L15 -> 0 | T15: =L15-M15 -> 0
J16: FÚ odvod za porušení rozp. kázně | K16: překročení jednotkových sazeb u mzdových nákladů na straně finančního partnera Attest s.r.o. | L16: 84471 | M16: =N16+O16 -> 25.16 | N16: 25.16 | O16: 0 | P16: =(M16+M17)/L16 -> 1.2502982 | R16: rozhodnutím z 28.4.2014 částečně prominuto, k úhradě 25,16 Kč - uhrazeno 6/2014; částka ve výši 30.515,44 Kč je dosud zadržována na MŠMT; 7.10.2015 odeslaná na MŠMT žádost o vratku, 10.2.2016 MŠMT předá nesrovnalost opětovně na FÚ - bude vráceno 9.396,50 Kč; dne 2.5.2016 vráceno na účet KK 9.396,50 Kč MŠMT ŘEŠÍ S FINANČNÍM ÚŘADEM | S16: =T16/L16 -> 0.99970215 | T16: =L16-M16 -> 84445.84
L17: 114985.28 | M17: 105588.78 | N17: 105588.78 | O17: 0 | S17: =T17/L17 -> 0.081719156 | T17: =L17-M17 -> 9396.5
J18: FÚ odvod za porušení rozp. kázně | K18: nejednoznačné vymezení kritérií (estetická a kvalitativní úroveň vzorků) | L18: 253214 | M18: 63304 | N18: 63304 | O18: 0 | P18: =M18/L18 -> 0.25000197 | R18: rozhodnutím z 27.8.2014 zamítnuto odvolání proti PV; datum úhrady 23.10.2014; 24.10.2014 byla podána správní žaloba; 9.10.2015 Rozsudek Krajského soudu v Plzni - správní žaloby se zamítají; kasační stížnost KK podávat nebude - viz RK 1145/11/15 z 2.11.2015; 24.3.2016 Gen.fin.řed.Praha - Rozhodnutí o prominutí odvodu ve výši 189.910 Kč, zaplaceno 253.214 Kč, prominutá část vrácena na účet KK v 4/2016 KONEČNÝ STAV - ČÁSTEČNÉ PROMINUTÍ ODVODU | S18: =T18/L18 -> 0.74999803 | T18: =L18-M18 -> 189910
J19: FÚ penále | L19: 246056 | M19: 10930 | N19: 10930 | O19: 0 | P19: =M19/L19 -> 0.044420782 | R19: datum úhrady 17.12.2014; 24.3.2016 Gen.fin.řed.Praha - Rozhodnutí o prominutí penále ve výši 235.126 Kč, uhrazeno 246.056 Kč, prominutá část vrácena na účet KK v 4/2016 KONEČNÝ STAV - ČÁSTEČNÉ PROMINUTÍ PENÁLE | S19: =T19/L19 -> 0.95557922 | T19: =L19-M19 -> 235126
J20: FÚ úrok z posečkání | K20: úrok z posečkání se vztahuje i k projektům s č. 4 a 5 | L20: 2796 | M20: =N20+O20 -> 2796 | N20: 2796 | O20: 0 | P20: =M20/L20 -> 1 | R20: datum úhrady 16.1.2015 KONEČNÝ STAV - ÚROK Z POSEČKÁNÍ UHRAZEN | S20: =T20/L20 -> 0 | T20: =L20-M20 -> 0
J21: FÚ odvod za porušení rozp. kázně | K21: porušení zákazu diskriminace - požadavek na dvoujádrový procesor a frekvenci procesorů - finanční úřad zjištění nepotvrdil; mylná platba ve výši 2 001 070,-- Kč | L21: 2400910 | M21: =N21+O21 -> 1501 | N21: 1501 | O21: 0 | P21: =M21/L21 -> 0.00062517962 | R21: 6.10.2014 byla zahájena daňová kontrola; 10.4.2015 doručen Protokol o ústním jednání z FÚ - oproti podání MŠMT finanční úřad nepotvrdil pochybení v Dodávce ICT a u dalšího zjištění (mylná platba) uplatnil sankci pouze ve výši 0,5 %; 15.5.2015 doručen platební výměr; 12.6.2015 podána odvolání proti platebním výměrům; 14.8.2015 odvolání postoupena na Odvolací fin.řed. v Brně; prodloužena lhůta pro vyřízení odvolání do 13.6.2016; 7.6.2016 Rozhodnutí o odvolání - zamítnuto, schv.usn.č.RK 672/06/16; 17.6.2016 PV uhrazen; 7.10.2016 odeslána na FÚ žádost o prominutí odvodu ve výši 8.505 Kč; 8.11.2016 FÚ vyrozumění o postoupení na Gener.fin.ředitelství; 12.9.2017 Rozhodnutí o prominutí daně - promíjí se odvod ve výši 8.505,- Kč; dne 7.11.2017 FÚ Rozhodnutí o přeplatku ve výši 8.50 Kč; dne 13.11.2017 FÚ vrátil prominutý odvod ve výši 8.505 Kč; škoda ve výši 1.501 Kč byla řešena jako škodní případ - nebude vymáháno KONEČNÝ STAV - ŠKODA NEBUDE VYMÁHÁNA | S21: =T21/L21 -> 0.99937482 | T21: =L21-M21 -> 2399409
J22: FÚ penále | L22: 10006 | M22: 0 | N22: 0 | O22: 0 | P22: =M22/L22 -> 0 | R22: 22.6.2016 doručeny PV na penále za prodlení s odvodem za porušení rozp.kázně; KK bude podávat odvolání do 22.7.2016; připravují se žádosti o prominutí penále; schv.usn.č.RK 755/07/16; 20.7.2016 KK odeslal odvolání proti PV; úhrada penále 18.7.2016; 5.9.2016 předáno odvolání Odvolacímu finančnímu ředitelství v Brně; 7.10.2016 na FÚ odeslána žádost o prominutí penále; 8.11.2016 FÚ vyrozumění o postoupení na Gener.fin.ředitelství; 3.2.2017 Sdělení o prodloužení lhůty k vyřízení odvolání do 20.6.2017; Dne 22.6.2017 Rozhodnutí o odvolání - zamítá se; 12.9.2017 Rozhodnutí o prominutí daně - penále ve výši 1.501 Kč a 8.505 Kč se promíjí; dne 7.11.2017 FÚ Rozhodnutí o přeplatku celkem ve výši 10.006 Kč; dne 13.11.2017 FÚ vrátil prominuté penále celkem ve výši 10.006 Kč KONEČNÝ STAV - PENÁLE VRÁCENO V PLNÉ VÝŠI
A23: 4 | B23: Karlovarský kraj | C23: Krajské vzdělávací centrum pro další vzdělávání pedagogických pracovníků CZ.1.07/1.3.00/14.0026 | D23: školství | E23: 1.4.2010-31.3.2013 | F23: OP VK | G23: 6805967.2 | H23: OŠMT | I23: PaedDr. Vratislav Emler/ JUDr. Václav Sloup | J23: FÚ odvod za porušení rozp. kázně | K23: mylná platba u finančního partnera Gymnázium Sokolov | L23: 5610 | M23: =N23+O23 -> 0 | N23: 0 | O23: 0 | P23: =M23/L23 -> 0 | Q23: =(M23+M24+M25+M26+M27+M28+M29+M30+M31+M32)/G23 -> 0.0048497148 | R23: uhrazeno v 12/2012 a 2/2013; rozhodnutím z 13.5.2013 prominuto v plné výši; vráceno v plné výši 8/2013 KONEČNÝ STAV - POSTIH ZRUŠEN | S23: =T23/L23 -> 1 | T23: =L23-M23 -> 5610
J24: FÚ penále | L24: 1356 | M24: =N24+O24 -> 0 | N24: 0 | O24: 0 | P24: =M24/L24 -> 0 | R24: uhrazeno v 3/2013; rozhodnutím z 13.5.2013 prominuto v plné výši; vráceno v plné výši 8/2013 KONEČNÝ STAV - POSTIH ZRUŠEN | S24: =T24/L24 -> 1 | T24: =L24-M24 -> 1356
J25: FÚ odvod za porušení rozp. kázně | K25: mylná platba u finančního partnera Gymnázium Sokolov | L25: 6317 | M25: =N25+O25 -> 0 | N25: 0 | O25: 0 | P25: =M25/L25 -> 0 | R25: uhrazeno v 1-2/2013; rozhodnutím z 17.7.2013 prominuto v plné výši; vráceno v plné výši 8/2013 KONEČNÝ STAV - POSTIH ZRUŠEN | S25: =T25/L25 -> 1 | T25: =L25-M25 -> 6317
J26: FÚ penále | L26: 1760 | M26: =N26+O26 -> 0 | N26: 0 | O26: 0 | P26: =M26/L26 -> 0 | R26: uhrazeno 3/2013; rozhodnutím z 17.7.2013 prominuto v plné výši; vráceno v plné výši 8/2013 KONEČNÝ STAV - POSTIH ZRUŠEN | S26: =T26/L26 -> 1 | T26: =L26-M26 -> 1760
J27: FÚ odvod za porušení rozp. kázně | K27: mylná platba u Karlovarského kraje | L27: 203970 | M27: =N27+O27 -> 1020 | N27: 1020 | O27: 0 | P27: =M27/L27 -> 0.0050007354 | R27: uhrazeno 7/2013; rozhodnutím z 20.3.2014 částečně prominuto; v 4/2014 vrácená částka ve výši 202 950,--Kč KONEČNÝ STAV - ODVOD ČÁSTEČNĚ PROMINUT | S27: =T27/L27 -> 0.99499926 | T27: =L27-M27 -> 202950
J28: FÚ penále | L28: 62628 | M28: =N28+O28 -> 0 | N28: 0 | O28: 0 | P28: =M28/L28 -> 0 | R28: uhrazeno 9/2013; rozhodnutím z 20.3.2014 prominuto v plné výši; vráceno v plné výši 4/2013 KONEČNÝ STAV - POSTIH ZRUŠEN | S28: =T28/L28 -> 1 | T28: =L28-M28 -> 62628
J29: FÚ odvod za porušení rozp. kázně | K29: nejednoznačné vymezení kritérií (estetická a kvalitativní úroveň vzorků) | L29: 54643 | M29: 13661 | N29: 13661 | O29: 0 | P29: =M29/L29 -> 0.25000458 | R29: rozhodnutím z 3.9.2014 zamítnuto odvolání proti PV; datum úhrady 23.10.2014; 29.10.2014 byla podána správní žaloba; 9.10.2015 Rozsudek Krajského soudu v Plzni - správní žaloba se zamítá (odvod do NF); kasační stížnost KK podávat nebude - viz RK 1145/11/15 z 2.11.2015; 15.3.2016 Rozsudek Krajského soudu v Plzni - správní žaloba se zamítá (odvod do SR); kasační stížnost KK podávat nebude; 24.3.2016 Gen.fin.řed.Praha - Rozhodnutí o prominutí odvodu ve výši 40.982 Kč, uhrazeno 54.643 Kč, prominutá část vrácena na účet KK v 4/2016 KONEČNÝ STAV - ČÁSTEČNÉ PROMINUTÍ ODVODU | S29: =T29/L29 -> 0.74999542 | T29: =L29-M29 -> 40982
J30: FÚ penále | L30: 54643 | M30: 2536 | N30: 2536 | O30: 0 | P30: =M30/L30 -> 0.046410336 | R30: datum úhrady 17.12.2014; 24.3.2016 Gen.fin.řed.Praha - Rozhodnutí o prominutí penále ve výši 52.107 Kč, uhrazeno 54.643 Kč, prominutá část vrácena na účet KK v 4/2016 KONEČNÝ STAV - ČÁSTEČNÉ PROMINUTÍ PENÁLE | S30: =T30/L30 -> 0.95358966 | T30: =L30-M30 -> 52107
J31: FÚ odvod za porušení rozp. kázně | K31: nejednoznačné vymezení kritérií (estetická a kvalitativní úroveň vzorků); porušení zákazu diskriminace - požadavek na dvoujádrový procesor a frekvenci procesorů - finanční úřad zjištění nepotvrdil | L31: 474280.44 | M31: =N31+O31 -> 13849 | N31: 13849 | O31: 0 | P31: =M31/L31 -> 0.029200024 | R31: 6.10.2014 byla zahájena daňová kontrola; 10.4.2015 doručen Protokol o ústním jednání z FÚ - oproti podání MŠMT finanční úřad nepotvrdil pochybení v Dodávce ICT a u dalšího (Rekl.předměty) uplatnil sankci pouze ve výši 25 %; 15.5.2015 doručen platební výměr; 12.6.2015 podána odvolání proti platebním výměrům; 14.8.2015 odvolání postoupena na Odvolací fin.řed. v Brně; lhůta pro vyřízení odvolání prodloužena do 13.6.2016; 13.6.2016 Rozhodnutí o odvolání - zamítnuto, schv.usn.č.RK 719/06/16; 23.6.2016 PV uhrazen; 7.10.2016 odeslána na FÚ žádost o prominutí odvodu ve výši 11.771 Kč; 8.11.2016 FÚ vyrozumění o postoupení na Gener.fin.ředitelství; 12.9.2017 Rozhodnutí o prominutí daně - nepromíjí se odvod ve výši 11.771 Kč; ve výši 2.078 Kč - nebyla podávána žádost o prominutí z důvodu hospodárnosti; částka ve výši 13.849 Kč byla řešena jako škodní případ - nebude vymáháno KONEČNÝ STAV - ŠKODA NEBUDE VYMÁHÁNA | S31: =T31/L31 -> 0.97079998 | T31: =L31-M31 -> 460431.44
J32: FÚ penále | L32: 13849 | M32: 1941 | N32: 1941 | O32: 0 | P32: =M32/L32 -> 0.14015452 | R32: 27.6.2016 doručeny PV na penále za prodlení s odvodem za porušení rozpočtové kázně; KK bude podávat odvolání do 27.7.2016; připravuje se žádost o prominutí penále; schv.usn.č.RK 756/07/16; 20.7.2016 KK odeslal odvolání proti PV; úhrada penále 18.7.2016; dne 5.9.2016 předáno odvolání Odvolacímu finančnímu ředitelství v Brně; 7.10.2016 odeslána na FÚ žádost o prominutí penále; 8.11.2016 FÚ vyrozumění o postoupení na Gener.fin.ředitelství; 3.2.2017 Sdělení o prodloužení lhůty k vyřízení odvolání do 20.6.2017; Dne 22.6.2017 Rozhodnutí o odvolání - zamítá se; 12.9.2017 Rozhodnutí o prominutí daně - promíjí se penále ve výši 2.078,- Kč a 9.830,- Kč z částky 11.771,- Kč; dne 7.11.2017 FÚ Rozhodnutí o přeplatku celkem ve výši 11.908,- Kč; dne 13.11.2017 FÚ vrátil prominuté penále ve výši 11.908,- Kč, částka ve výši 1.941,- Kč byla řešena jako škodní případ - nebude vymáháno KONEČNÝ STAV - ŠKODA NEBUDE VYMÁHÁNA
A33: 5 | B33: Karlovarský kraj | C33: Inovace školského portálu Karlovarského kraje CZ.1.07/1.3.00/14.0024 | D33: školství | E33: 1.4.2010-31.3.2013 | F33: OP VK | G33: 6348047.6 | H33: OŠMT | I33: PaedDr. Vratislav Emler/ JUDr. Václav Sloup | J33: FÚ odvod za porušení rozp. kázně | K33: mylná platba u Karlovarského kraje | L33: 66 | M33: =N33+O33 -> 66 | N33: 66 | O33: 0 | P33: =M33/L33 -> 1 | Q33: =(M33+M34+M35+M36+M37+M38)/G33 -> 0.099453822 | R33: datum úhrady 5/2012 KONEČNÝ STAV - ODVOD UHRAZEN | S33: =T33/L33 -> 0 | T33: =L33-M33 -> 0
J34: FÚ odvod za porušení rozp. kázně | K34: nejednoznačné vymezení kritérií (estetická a kvalitativní úroveň vzorků) | L34: 54937 | M34: 13734 | N34: 13734 | O34: 0 | P34: =M34/L34 -> 0.24999545 | R34: rozhodnutím z 3.9.2014 zamítnuto odvolání proti PV; datum úhrady 23.10.2014; 29.10.2014 byla podána správní žaloba; 26.10.2015 a 14.1.2016 Rozsudek zamítnutí správních žalob, kasační stížnosti KK podávat nebude - viz RK 1145/11/15 a RK 18/01/16; 24.3.2016 Gen.fin.řed.Praha-Rozhodnutí o prominutí odvodu ve výši 41.203 Kč, uhrazeno 54.937 Kč, prominutá část vrácena na účet KK v 4/2016 KONEČNÝ STAV - ODVOD ČÁSTEČNÉ PROMINUT | S34: =T34/L34 -> 0.75000455 | T34: =L34-M34 -> 41203
J35: FÚ penále | L35: 54937 | M35: 2550 | N35: 2550 | O35: 0 | P35: =M35/L35 -> 0.046416805 | R35: datum úhrady 17.12.2014; 24.3.2016 Gen.fin.řed.Praha-Rozhodnutí o prominutí penále ve výši 52.387 Kč, uhrazeno 54.937 Kč, prominutá část vrácena na účet KK v 4/2016 KONEČNÝ STAV - PENÁLE ČÁSTEČNĚ PROMINUTO | S35: =T35/L35 -> 0.9535832 | T35: =L35-M35 -> 52387
J36: MŠMT nesrovnalost/ FÚ odvod za porušení rozp. kázně | K36: nejednoznačné vymezení kritérií (estetická a kvalitativní úroveň vzorků); porušení zákazu diskriminace § 6 ZVZ - požadavek na dvoujádrový procesor a frekvenci procesorů - finanční úřad zjištění nepotvrdil | L36: 672878.4 | M36: =SUM(N36+O36) -> 597901.6 | N36: 0 | O36: 597901.6 | P36: =(M36+M37)/L36 -> 0.91085938 | R36: 6.10.2014 byla zahájena daňová kontrola a 20.11.2014 rozšíření předmětu daňové kontroly; 10.4.2015 doručen Protokol o ústním jednání z FÚ - oproti podání MŠMT finanční úřad nepotvrdil pochybení v Dodávce ICT a u dalšího (rekl.předměty) uplatnil sankci pouze ve výši 25 %; 15.5.2015 doručen platební výměr; 12.6.2015 podána odvolání proti platebním výměrům; 14.8.2015 odvolání postoupena na Odvolací fin.řed. v Brně; prodloužena lhůta pro vyřízení odvolání do 13.6.2016; 19.4.2016 Oznámení MŠMT o trvání na nesrovnalosti ve výši 612.897,60 Kč a opětovně se obrátí na FÚ; 13.6.2016 Rozhodnutí o odvolání - zamítnuto; schv.usn.č.RK 720/06/16 23.6.2016 PV uhrazen; 7.10.2016 odeslána na FÚ žádost o prominutí odvodu ve výši 12.746,-Kč; 8.11.2016 FÚ vyrozuměn oí postoupení na Gener.fin.ředitelství; 12.9.2017 Rozhodnutí o prominutí daně - nepromíjí se odvod ve výši 12.746 Kč, ve výši 2.250 Kč se nepodávala žádost o prominutí z důvodu hospodárnosti, částka ve výši 14.996 Kč byla řešena jako škodní případ - nebude vymáhána MŠMT ŘEŠÍ S FINANČNÍM ÚŘADEM (částku ve výši 597.901,60 Kč); ČÁSTKA VE VÝŠI 14.996 Kč NEBUDE VYMÁHANA | S36: =T36/L36 -> 0.11142697 | T36: =L36-M36 -> 74976.8
M37: =N37+O37 -> 14996 | N37: 14996 | O37: 0
J38: FÚ penále | L38: 14996 | M38: 2090 | N38: 2090 | O38: 0 | P38: =M38/L38 -> 0.1393705 | R38: 27.6.2016 doručeny PV na penále za prodlení s odvodem za porušení rozpočtové kázně; KK bude podávat odvolání do 27.7.2016; připravuje se žádost o prominutí penále; schv.usn.č.RK 757/07/16; 20.7.2016 KK odeslal odvolání proti PV; úhrada penále 18.7.2016; dne 5.9.2016 předáno odvolání Odvolacímu finančnímu ředitelství v Brně; 7.10.2016 odeslána na FÚ žádost o prominutí penále; 8.11.2016 FÚ vyrozumění o postoupení na Gener.fin.ředitelství; 3.2.2017 Sdělení o prodloužení lhůty k vyřízení odvolání do 20.6.2017; Dne 22.6.2017 Rozhodnutí o odvolání - zamítá se; 12.9.2017 Rozhodnutí o prominutí daně - promíjí se penále ve výši 2.250 Kč a 10.656 Kč z částky 12.746 Kč; dne 7.11.2017 FÚ Rozhodnutí o přeplatku celkem ve výši 12.906 Kč; dne 13.11.2017 FÚ vrátil prominuté penále ve výši 12.906 Kč, částka ve výši 2.090 Kč byla řešena jako škodní případ - nebude vymáháno KONEČNÝ STAV - ŠKODA NEBUDE VYMÁHÁNA
A39: 6 | B39: Karlovarský kraj | C39: Dopravní terminál Mariánské Lázně CZ.1.09/3.2.00/27.00611 | D39: doprava | E39: 16.3.2010-27.9.2012 | F39: ROP | G39: 67542348 | H39: APDM | I39: Ing. Petr Navrátil | J39: ÚRR odvod za porušení rozp. kázně | K39: porušení zásady transparentnosti § 6 ZVZ - požadavek na dispozici s obalovnou | L39: 5787124.8 | M39: =N39+O39 -> 5759375 | N39: 5759375 | O39: 0 | P39: =M39/L39 -> 0.99520492 | Q39: =(M39+M40)/G39 -> 0.085270577 | R39: 4.11.2014 ukončena veřejnosprávní kontrola - námitky zamítnuty; 15.5.2015 zahájeno daňové řízení; 1.6.2015 a 10.6.2015 zasláno na ÚRR stanovisko a dokumentace k veřejné zakázce Dne 15.7.2015 doručen PV č.j. RRSZ 15409/2015 na odvod za PRK ve výši 10 % ze získané dotace; 13.8.2015 bylo podáno odvolání proti platebnímu výměru; 7.4.2017 z ÚRR Protokol o kontrole - bez zjištění ODVOLÁNÍ PROTI PV | S39: =T39/L39 -> 0.0047950841 | T39: =L39-M39 -> 27749.75
J40: ÚOHS | K40: porušení zásady transparentnosti § 6 ZVZ - požadavek na dispozici s obalovnou - 10 % z VZ | L40: 0 | M40: 0 | N40: 0 | O40: 0 | P40: 0 | R40: dne 5.12.2017 KK podal podnět na ÚOHS, správní poplatek ve výši 10.000 Kč uhrazen dne 22.11.2017; dne 4.1.2018 z ÚOHS - Oznámení o výsledku šetření podnětu - nezahájí správní řízení NEBUDE ZAHÁJENO SPRÁVNÍ ŘÍZENÍ
A41: 7 | B41: Karlovarský kraj | C41: Dopravní terminál Cheb CZ.1.09/3.2.00/17.00610 | D41: doprava | E41: 16.10.2010-21.2.2013 | F41: ROP | G41: 1.0980929e+08 | H41: APDM | I41: Ing. Petr Navrátil | J41: ÚRR odvod za porušení rozp. kázně | K41: porušení zásady transparentnosti § 6 ZVZ - požadavek na dispozici s obalovnou | L41: 4715937.3 | M41: =N41+O41 -> 4711313 | N41: 4711313 | O41: 0 | P41: =M41/L41 -> 0.99901943 | Q41: =(M41+M42)/G41 -> 0.042904501 | R41: 4.11.2014 ukončena veřejnosprávní kontrola - námitky zamítnuty; 15.5.2015 zahájeno daňové řízení; 1.6.2015 a 10.6.2015 zasláno na ÚRR stanovisko a dokumentace k veřejné zakázce; Dne 15.7.2015 doručen PV č.j. 15402/2015 na odvod za PRK ve výši 5 % ze získané dotace; 13.8.2015 bylo podáno odvolání proti platebnímu výměru ODVOLÁNÍ PROTI PV | S41: =T41/L41 -> 0.00098057283 | T41: =L41-M41 -> 4624.32
J42: ÚOHS | K42: porušení zásady transparentnosti § 6 ZVZ - požadavek na dispozici s obalovnou - 5 % Z VZ | L42: 0 | M42: 0 | N42: 0 | O42: 0 | P42: 0 | R42: dne 5.12.2017 KK podal podnět na ÚOHS, správní poplatek ve výši 10 tis. Kč uhrazen dne 22.11.2017; dne 4.1.2018 z ÚOHS - Oznámení o výsledku šetření podnětu - nezahájí správní řízení NEBUDE ZAHÁJENO SPRÁVNÍ ŘÍZENÍ
A43: 8 | B43: Karlovarský kraj | C43: Personální audit Krajského úřadu Karlovarského kraje CZ.1.04/4.1.01/57.00124 | D43: lidské zdroje | E43: 1.9.2010-30.8.2012 | F43: OP LZZ | G43: 5213341.6 | H43: OKŘÚ | I43: JUDr. Martin Havel | J43: FÚ odvod za porušení rozp. kázně | K43: diskriminační nastavení kvalifikačních předpokladů; nedodržení povinnosti zadat zakázku v souladu se zadávací dokumentací; uzavřena smlouva s uchazečem, který neprokázal splnění kvalifikačních předpokladů; nedisponoval obálkou společ.NeXA, s.r.o. požadoval v zad.dokumentaci v rámci jednoho předmětu dva různé druhy plnění | L43: 3263660 | M43: =N43+O43 -> 979098 | N43: 979098 | O43: 0 | P43: =M43/L43 -> 0.3 | Q43: =(M43+M45)/G43 -> 0.19413614 | R43: 22.1.2013 ukončena veřejnosprávní kontrola - námitky zamítnuty; 24.3.2015 Karlovarskému kraji doručeno na vědomí oznámení z MPSV na MV k podání podnětu na FÚ a ÚOHS. V oznámení byla upřesněna hodnota veřejné zakázky (3.839. 600,-- Kč, proplacená dotace je ve výši 3.263.660,-- Kč) a nesrovnalost ve výši 100 % z hodnoty veřejné zakázky byla změněna na 25%. Očekávaný postih z částky dotace je nyní ve výši 815. 915,-- Kč; 7.5.2015 zahájeno daňové řízení; 12.5.2015 předána dokumentace na FÚ; 17.12.2015 Protokol o ústním jednání (daňové řízení); 27.1.2016 KK odeslal na FÚ KK vyjádření k Protokolu o ústním jednání; očekáváme konečnou zprávu z daňového řízení; 30.3.2016 Zpráva o daňové kontrole - 30% odvod za porušení rozpočt.kázně; 31.3.2016 doručen PV č.j. 280079/16/2400-31471-402240 na odvod za PRK; KK dne 29.4.2016 podal odvolání; schv.usn.č.RK 406/04/16, č. ZK 229/06/16; 21.7.2016 postoupení odvolání Odvolacímu fin.ředitelství v Brně; 7.10.2016 odeslána na FÚ žádost o prominutí odvodu a dosud nevym.penále; 8.11.2016 FÚ vyrozumění o postoupení na Gener.fin.řed. 5.1.2017 Odvolací fin.řed. prodloužena lhůta do 30.3.2017; 31.3.2017 Rozhodnutí o odvolání - zamítnuto, PV na odvod ve výši 979.098 Kč uhrazen dne 11.4.2017; správní žaloba podána dne 31.5.2017; 21.4.2017 z FÚ platební výměr na penále ve výši 979.098 Kč, uhrazen dne 26.4.2017 ŽÁDOST O PROMINUTÍ ODVODU A DOSUD NEVYM.PENÁLE NA GENER.FIN.ŘED. SPRÁVNÍ ŽALOBA PROTI ROZHODNUTÍ O ODVOLÁNÍ - PV NA ODVOD | S43: =T43/L43 -> 0.7 | T43: =L43-M43 -> 2284562
J44: FÚ penále | L44: 979098 | M44: 979098 | N44: 979098 | O44: 0 | P44: =SUM(M44/L44) -> 1
J45: pokuta ÚOHS | K45: správní delikt dle = 120 odst.1 písm.a) ZVZ - předmět VZ byl vymezen příliš široce, požadování předložení certifikátu systému managementu bezpečnosti informací | L45: 35000 | M45: 33000 | N45: 33000 | P45: =M45/L45 -> 0.94285714 | R45: 11.9.2015 doručeno Rozhodnutí o pokutě z ÚOHS; 25.9.2015 KK podal rozklad k předsedovi ÚOHS;; 22.11.2016 z ÚOHS Rozhodnutí ÚOHS ruší a předává 1.instanci k došetření; 2.12.2016 ÚOHS oznámení o pokračování ve správním řízení a usnesení - lhůta 10 dnů k podání stanoviska; 12.12.2016 na ÚOHS podáno stanovisko; 5.1.2017 ÚOHS Usnesení - vyjádřit se k podkladům rozhodnutí 27.1.2017 ÚOHS rozhodnutí o pokutě, snížení na 33.000,-Kč, dne 13.2.2017 podán proti rozhodnutí rozklad; 18.4.2017 Rozhodnutí o rozkladu - zamítá se, RKK usnesením č. RK 518/05/17 ze dne 10.5.2017 schválila nepodání správní žaloby proti rozhodnutí o zamítnutí rozkladu, úhrada penále ve výši 33.000,- Kč dne 18.5.2017 ŠKODNÍ PŘÍPAD - UKONČEN (škoda nebude vymáhána) | S45: =T45/L45 -> 0.057142857 | T45: =L45-M45 -> 2000
A46: 9 | B46: Karlovarský kraj | C46: Aplikace moderních metod zvyšování výkonnosti, kvality, efektivity a transparentnosti v Karlovarském kraji CZ.1.04/4.1.00/42.00003 | D46: lidské zdroje | E46: 1.5.2010-30.4.2013 | F46: OP LZZ | G46: 7683717.5 | H46: OKŘÚ | I46: JUDr. Martin Havel | J46: FÚ odvod za porušení rozp. kázně | K46: nedodržení maximální jednotkové ceny dle rozpočtu; nezpůsobilý cestovní výdaj | L46: 994 | M46: =N46+O46 -> 994 | N46: 994 | P46: =M46/L46 -> 1 | Q46: =(M46+M47+M48)/G46 -> 0.13147646 | R46: 27.2.2014 odesláno odvolání proti platebnímu výměru; 7.5.2015 odvolání postoupeno na Odvolací fin.ředitelství v Brně; 19.8.2015 Rozhodnutí o odvolání - zamítnuto; 2.9.2015 doručen platební výměr na penále ve výši 924,-- Kč; 23.9.2015 podána žádost o prominutí penále ; 30.1.2017 Rozhodnutí o prominutí daně (penále) - zamítnuto KONEČNÝ STAV - ODVOD A PENÁLE UHRAZENO, PROMINUTÍ ZAMÍTNUTO | S46: =T46/L46 -> 0 | T46: =L46-M46 -> 0
J47: FÚ penále | L47: 924 | M47: 924 | N47: 924 | P47: =M47/L47 -> 1 | S47: =T47/L47 -> 0 | T47: =L47-M47 -> 0
J48: FÚ odvod za porušení rozp. kázně | K48: zadavatel požadoval prokázání splnění kvalifikace nad rámec ZVZ | L48: 4033239.7 | M48: =N48+O48 -> 1008310 | N48: 1008310 | O48: 0 | P48: =M48/L48 -> 0.25000002 | R48: 6.2.2014 ukončena veřejnosprávní kontrola - rozhodnutím o námitkách prominuto 75 %; očekáváme zahájení daňového řízení; 1.7.2016 - MPSV potvrzení nesrovnalosti, MV předá podnět na ÚOHS a FÚ; 28.7.2016 MV předalo podnět na ÚOHS a FÚ; 8.8.2016 ÚOHS žádost o předložení smlouvy; 10.8.2016 odeslána smlouva na ÚOHS; 18.8.2016 sdělení ÚOHS, že se podnětem nebude zabývat; 1.9.2016 FÚ Protokol o ústním jednání, dodat podklady do 23.9.2016; dne 22.9.2016 předány doklady na FÚ; 24.3.2017 z FÚ Protokol o ústním jednání, vyjádření k Protokolu dne 10.4.2017; dne 5.6.2017 zpráva o daňové kontrole a dne 6.6.2017 doručen PV na odvod, odvolání odesláno dne 29.6.2017; dne 4.9.2017 postoupení odvolání na Odvolací fin.řed. ODVOLÁNÍ PROTI PV | S48: =T48/L48 -> 0.74999998 | T48: =L48-M48 -> 3024929.7
J49: ÚOHS pokuta | K49: zadavatel požadoval prokázání splnění kvalifikace nad rámec ZVZ | L49: 0 | M49: 0 | N49: 0 | O49: 0 | P49: 0 | R49: 28.7.2016 MV předalo podnět na ÚOHS, 8.8.2016 ÚOHS žádost o zaslání dokumentace, 10.8.2016 odeslána na ÚOHS dokumentace, 18.8.2016 sdělení ÚOHS, že se nebude podnětem zabývat ÚOHS - BEZ ZJIŠTĚNÍ
A50: 10 | B50: Karlovarský kraj | C50: Vytvoření sítě služeb péče o osoby s duševním onemocněním na území Karlovarského kraje CZ.1.04/3.1.00/05.00062 | D50: sociální oblast | E50: 1.5.2012-30.4.2014 | F50: OP LZZ | G50: 13179425 | H50: APDM | I50: Bc. Miloslav Čermák | J50: FÚ odvod za porušení rozp. kázně | K50: zadavatel nepožadoval po uchazečích prokázání splnění kvalifikace ve lhůtě pro podání nabídek | L50: 101336.35 | M50: 20269 | N50: 20269 | O50: 0 | P50: =M50/L50 -> 0.20001707 | Q50: =M50/G50 -> 0.0015379274 | R50: 25.7.2014 schválená poskytovatelem závěrečná zpráva; 30.6.2015 zahájení daňového řízení; 10.3.2016 Výzva z FÚ KK k prokázání skutečností; 14.3.2016 KK odeslal na FÚ KK důkazní prostředky; 12.7.2016 FÚ zaslal Protokol o ústním jednání a Rozhodnutí o stanovení lhůty k vyjádření do 9.8.2016; 5.8.2016 Vyjádření k protokolu 28.11.2016 FÚ Zpráva o daňové kontrole, očekáváme zahájení daňového řízení; 7.12.2016 Platební výměr ve výši 17.228 Kč a 3.041 Kč, KK podal na FÚ odvolání 6.1.2017; z FÚ dne 22.3.2017 postoupení odvolání Odvolacímu fin.řed.; dne 2.8.2017 z Odvol.fin.řed. prodloužení termínu k rozhodnutí o odvolání do 6.11.2017; dne 7.2.2017 doručeno rozhodnutí o odvolání - zamítnuto; dne 13.2.2018 platební výměry na odvod uhrazeny; 19.3.2018 schválila RKK nepodání správní žaloby proti rozhodnutí Odv. finančního ředitelství - viz RK 273/03/18. KK BUDE PODÁVAT ŽÁDOST O PROMIN.ODVODU A PENÁLE | S50: =T50/L50 -> 0.79998293 | T50: =L50-M50 -> 81067.35
J51: FÚ penále | L51: 20269 | M51: 20269 | N51: 20269 | O51: 0 | P51: =M51/L51 -> 1 | R51: dne 22.2.2018 z FÚ platební výměry na penále ve výši 17.228 Kč a 3.041 Kč; dne 5.3.2018 KK PV na penále uhradil; 19.3.2018 schválila RKK nepodání odvolání proti PV na penále - viz RK 273/03/18. KK BUDE PODÁVAT ŽÁDOST O PROMIN.ODVODU A PENÁLE | S51: =T51/L51 -> 0 | T51: =L51-M51 -> 0
J52: pokuta ÚOHS | L52: 0 | M52: 0 | N52: 0 | O52: 0 | P52: 0 | R52: 27.11.2015 odeslána dokumentace na ÚOHS; 16.12.2015 Výsledek šetření ÚOHS - neshledal důvody pro zahájení správního řízení ÚOHS - BEZ ZJIŠTĚNÍ | S52: =T52/L52 -> #DIV/0! | T52: =L52-M52 -> 0
A53: 11 | B53: Karlovarský kraj | C53: V Karlovarském kraji společně plánujeme sociální služby CZ.1.04/3.1.00/05.00060 | D53: sociální oblast | E53: 1.3.2012-28.2.2014 | F53: OP LZZ | G53: 11568527 | H53: APDM | I53: Bc. Miloslav Čermák | J53: FÚ odvod za porušení rozp. kázně | K53: zadavatel nepožadoval po uchazečích prokázání splnění kvalifikace ve lhůtě pro podání nabídek; pochybení při nastavení hodnotících kritérií | L53: 2675450.1 | M53: 2318724 | N53: 2318724 | O53: 0 | P53: =M53/L53 -> 0.86666688 | Q53: =M53/G53 -> 0.20043382 | R53: 25.7.2014 schválená poskytovatelem závěrečná zpráva; 15.6.2015 zahájení auditu operace MF ČR; 30.6.2015 zahájení daňového řízení; 30.7.2015 doručen návrh Zprávy o auditu; 7.8.2015 odesláno stanovisko KK; 15.9.2015 konečná Zpráva o auditu, ve které je stanovena sankce nižší, stanovení konečné částky sankce vzejde z daňového řízení; 30.6.2015 zahájení daňového řízení; 10.3.2016 Výzva z FÚ KK k prokázání skutečností; 14.3.2016 KK odeslal na FÚ KK důkazní prostředky 12.7.2016 FÚ zaslal Protokol o ústním jednání a Rozhodnutí o stanovení lhůty k vyjádření do 9.8.2016; 5.8.2016 Vyjádření k protokolu 28.11.2016 FÚ Zpráva o daňové kontrole, očekáváme zahájení daňového řízení; 7.12.2016 Platební výměry ve výši 347.809 Kč a 1.970.915 Kč, KK podal na FÚ 6.1.2017 odvolání; z FÚ dne 22.3.2017 postoupení odvolání Odvolacímu fin.řed.; dne 2.8.2017 z Odvol.fin.řed. prodloužení termínu k rozhodnutí o odvolání do 6.11.2017; dne 7.2.2017 doručeno rozhodnutí o odvolání - zamítnuto, platební výměry na odvod uhrazeny dne 13.2.2018; 19.3.2018 schválila RKK podání správní žaloby proti rozhodnutí Odv. finančního ředitelství - viz RK 274/03/18. KK PODÁ SPRÁVNÍ ŽALOBU A ŽÁDOST O PROMIN.ODVODU A PENÁLE | S53: =T53/L53 -> 0.13333312 | T53: =L53-M53 -> 356726.1
J54: FÚ penále | L54: 2318724 | M54: 2318724 | N54: 2318724 | O54: 0 | P54: =M54/L54 -> 1 | R54: dne 22.2.2018 z FÚ platební výměry na penále ve výši 1.970.915 Kč a 347.809 Kč; dne 5.3.2018 KK PV na penále uhradil; 19.3.2018 schválila RKK nepodání odvolání proti PV na penále - viz RK 274/03/18. KK BUDE PODÁVAT ŽÁDOST O PROMIN.ODVODU A PENÁLE | S54: =T54/L54 -> 0 | T54: =L54-M54 -> 0
J55: pokuta ÚOHS | L55: 0 | M55: 0 | N55: 0 | O55: 0 | P55: 0 | R55: 24.6.2015 zasláno vyjádření a dokumentace na ÚOHS; 30.10.2015 Oznámení ÚOHS - neshledal důvody pro zahájení správního řízení ÚOHS - BEZ ZJIŠTĚNÍ | S55: =T55/L55 -> #DIV/0! | T55: =L55-M55 -> 0
A56: 12 | B56: Karlovarský kraj | C56: Interaktivní galerie Karlovy Vary – Becherova vila CZ.1.09/4.1.00/04.00021 | D56: kultura | E56: 1.1.2007 - 28.7.2011 pozastaven | F56: ROP | G56: 87687163 | H56: APDM | I56: JUDr. Josef Pavel/ PaedDr. Josef Novotný/ JUDr. Martin Havel | J56: ÚRR zkrácení dotace | K56: příjemce dotace dostatečně neprokázal náklady na energie související s realizací stavby; neprovedení JŘBU na dodatečné stavební práce | L56: 4318559.5 | M56: =N56+O56 -> 0 | N56: 0 | O56: 0 | P56: =M56/L56 -> 0 | Q56: =(M56+M57+M58+M59+M60+M61+M62+M63)/G56 -> 0.8510925 | R56: 23.1.2012 podány námitky proti kontrolním zjištěním z veřejnosprávní kontroly; finanční postih nebyl uplatněn | S56: =T56/L56 -> 1 | T56: =L56-M56 -> 4318559.5
J57: ÚRR penále | L57: 797744 | M57: =N57+O57 -> 0 | N57: 0 | O57: 0 | P57: =M57/L57 -> 0 | R57: penále uhrazeno 8/2013; po prominutí byly v plné výši vráceny 9/2013 | S57: =T57/L57 -> 1 | T57: =L57-M57 -> 797744
J58: ÚRR úrok z posečkání | L58: 25801 | M58: 25801 | N58: 25801 | O58: 0 | P58: =M58/L58 -> 1 | R58: datum úhrady 12/2012 | S58: =T58/L58 -> 0 | T58: =L58-M58 -> 0
J59: ÚRR odvod za porušení rozp. kázně | K59: rozdíly mezi proplacenými výdaji a dodaným zařízením; dodané zařízení neodpovídalo položkovému rozpočtu a fakturám; Zpráva z auditu operace č. 85 z 6.4.2012 (Deloitte) nebyly zjištěny žádné způsobilé výdaje pouze nezpůsobilé; Závěrečná zpráva OLAF z 11.1.2013 - obchodní reference dokazující splnění požadovaných kvalifikačních kritérií u VZ na stavební práce byly nepravdivé; Výzva k vrácení dotace dotčené nesrovnalostí z 10.5.2016 | L59: 63267368 | M59: 1225412 | N59: 1225412 | O59: 0 | P59: =(M59+M60+M61)/L59 -> 1 | R59: zjištění ze Zprávy z auditu operace č.OP/15/2011 z 19.8.2011; odvolání z 12/2011 proti platebnímu výměru zamítnuto; datum úhrady 9/2012
M60: =N60+O60 -> 62039805 | N60: 62039805 | O60: 0 | R60: Zpráva z auditu operace č. 85 z 6.4.2012 (Deloitte); Závěrečná zpráva OLAF z 11.1.2013; 19.9.2014 bylo zahájeno daňové řízení; 2.6.2016 Oznámení o zahájení kontroly z ÚRR; 22.7.2016 sdělení z ÚRR, že bude použita fin.oprava ve výši 100% způsobilých výdajů; 25.8.2016 PV od ÚRR ve výši 62.039.804,60 Kč (100% odvod z částky 63.267.368 Kč ponížený o PV ve výši 1.225.412 Kč a výzvu ve výši 2.151,22 Kč), proto uhrazený PV a výzva zařazeny do této buňky; odvolání podal na ÚRR KK dne 26.9.2016; 15.11.2016 odeslána na ÚRR žádost o prominutí odvodu a dosud nevym.penále ODVOLÁNÍ PROTI PV NA ÚRR ŽÁDOST O PROMINUTÍ ODVODU A DOSUD NEVYM.PENÁLE U ÚRR | S60: =T60/L59 -> 0.019402789 | T60: =L59-M60 -> 1227563.4
M61: 2151.22 | N61: 2151.22 | O61: 0 | R61: 10.5.2016 ÚRR Výzva k vrácení dotace dotčené nesrovnalostí, uhrazeno 24.5.2016; schv.usn.č.RK 586/05/16 VÝZVA UHRAZENA
J62: ÚRR neproplacení dotace | K62: neproplacená dotace za II. etapu projektu; žádost o platbu podaná dne 28.7.2011 | L62: 11336718 | M62: =N62+O62 -> 11336718 | N62: 0 | O62: 11336718 | P62: =M62/L62 -> 1 | R62: oznamovacím dopisem ze dne 28.2.2013 byl projekt pozastaven z důvodů šetření nesrovnalostí; PROJEKT POZASTAVEN | S62: =T62/L62 -> 0 | T62: =L62-M62 -> 0
J63: pokuta ÚOHS | K63: na základě výsledků auditů operace provedených Deloitte Advisory s.r.o. podal dne 7.6.2012 hejtman podnět k prošetření veřejných zakázek týkajících se projektu | L63: 0 | M63: 0 | N63: 0 | O63: 0 | P63: 0 | R63: ÚOHS neshledal důvod pro zahájení správního řízení ÚOHS - BEZ ZJIŠTĚNÍ | S63: =T63/L63 -> #DIV/0! | T63: =L63-M63 -> 0
A64: 13 | B64: Karlovarský kraj | C64: Vzdělávání v eGon Centru Karlovarského kraje CZ.1.04/4.1.00/40.00025 | D64: lidské zdroje | E64: 1.7.2009-30.6.2012 | F64: OP LZZ | G64: 1548180.6 | H64: OKŘÚ | I64: JUDr. Martin Havel | J64: FÚ odvod za porušení rozp. kázně | K64: nezpůsobilé výdaje - osobní náklady a bankovní poplatek | L64: 1105 | M64: =N64+O64 -> 940 | N64: 940 | O64: 0 | P64: =M64/L64 -> 0.85067873 | Q64: =(M64+M65)/G64 -> 0.0011788031 | R64: 27.2.2014 odesláno odvolání proti platebnímu výměru; 14.5.2015 Rozhodnutí o odvolání, částečně vyhověno - sníženo na 940 Kč; 18.6.2015 uhrazeno penále ve výši 885 Kč; 23.9.2015 podána žádost o prominutí penále; 21.2.2017 Rozhodnutí o prominutí daně (penále) zamítá se KONEČNÝ STAV - ODVOD A PENÁLE UHRAZENO, PROMINUTÍ ZAMÍTNUTO | S64: =T64/L64 -> 0.14932127 | T64: =L64-M64 -> 165
J65: FÚ penále | L65: 885 | M65: =N65+O65 -> 885 | N65: 885 | O65: 0 | P65: =M65/L65 -> 1 | S65: =T65/L65 -> 0 | T65: =L65-M65 -> 0
A66: 14 | B66: Karlovarský kraj | C66: Globální grant OP VK CZ.1.07./1.2.19 - grantový projekt ISŠTE CZ.1.07/1.2.19/02.0015 | D66: školství | E66: 1.1.2013-31.12.2014 | F66: OP VK | G66: 24132550 | H66: OIGS | I66: JUDr. Václav Sloup | J66: MŠMT odvod za porušení rozpočtové kázně | K66: zadavatel v zadávací dokumentaci uvedl specifický požadavek na (minimální) taktovací frekvenci procesorů - porušení zákazu diskriminace - po námitkách bez zjištění | L66: 43066.02 | M66: =N66+O66 -> 0 | N66: 0 | O66: 0 | P66: =M66/L66 -> 0 | Q66: =M66/G66 -> 0 | R66: 8.12.2014 ukončena veřejnosprávní kontrola - námitkám v plném rozsahu bylo vyhověno; Jedná se o konečnou výši finančního postihu dle aktuálně známých a předložených informací pracovní skupině. V současné době již další kroky obrany nebudou uplatňovány. KONEČNÝ STAV - POSTIH ZRUŠEN | S66: =T66/L66 -> 1 | T66: =L66-M66 -> 43066.02
A67: 15 | B67: Karlovarský kraj | C67: Podpora přírodovědného a technického vzdělávání v Karlovarském kraji CZ.1.07/1.1.00/44.0004 | D67: školství | E67: 1.9.2013-30.6.2015 | F67: OP VK | G67: 53089710 | H67: OŠMT | I67: JUDr. Václav Sloup/ Ing. Edmund Janish | J67: FÚ odvod za porušení rozp. kázně | K67: uchazeč v rámci doplnění nabídky změnil nabídkovou cenu (porušení § 76 odst.1 ZVZ) - zadavatel měl nabídku vyřadit | L67: 459110.99 | M67: 109136.6 | N67: 109136.6 | O67: 0 | P67: =M67/L67 -> 0.23771289 | Q67: =(M67+M68+M69+M70+M71+M72)/G67 -> 0.0073455451 | R67: 14.10.2014 oznámení MŠMT o zkrácení dotace; 4.11.2014 podány námitky; 21.11.2014 a 21.1.2015 doručeny stanoviska k námitkám - zamítnuto; 13.7.2015 Protokol č. 47/2015-400; 27.7.2015 podány námitky; 9.9.2015 doručeno vyřízení námitek, ve kterém je stanovená sankce nižší, a to 109.136,60 Kč; očekáváme zahájení daňového řízení a stanovení konečné částky sankce; 13.10.2015 ÚOHS neshledal důvody pro zahájení správního řízení; 18.5.2016 Protokol o ústním jednání a Rozhodnutí o stanovení lhůty k vyjádření do 27.5.2016 - sankce ve výši 109.136,60 Kč; 27.5.2016 posláno vyjádření k rozhodnutí; 12.7.2016 Zpráva o daňové kontrole, 13.7.2016 KK obdržel PV ve výši 107.291 Kč a 18.934 Kč, 9.8.2016 podáno na FÚ odvolání; dále podá i žádosti o prominutí odvodu a penále; 17.10.2016 z FÚ postoupeno odvolání Odvolacímu fin.řed. v Brně; 19.11.2016 na FÚ žádost o prominutí odvodu a dosud nevyměřeného penále; 21.12.2016 FÚ postoupení žádostí na Gen.fin.řed.; 14.3.2017 prodloužení lhůty o odvolání do 9.7.2017, Rozhodnutí o odvolání dne 4.7.2017 - zamítá se ŽÁDOST O PROMINUTÍ ODVODU A DOSUD NEVYM.PENÁLE U GEN.FIN.ŘED. | S67: =T67/L67 -> 0.76228711 | T67: =L67-M67 -> 349974.39
J68: FÚ penále | L68: 103933 | M68: 103933 | N68: 103933 | O68: 0 | P68: =M68/L68 -> 1 | R68: 18.7.2017 doručen platební výměr na penále PLATEBNÍ VÝMĚR NA PENÁLE UHRAZEN, PODÁNA ŽÁDOST O PROMINUTÍ ODVODU I PENÁLE
J69: FÚ odvod za porušení rozpočtové kázně (mylná platba) | K69: chybné přihlášení zaměstnanců k účasti na sociálním pojištění, chybné vyplnění údajů na oznámení o nástupu do zaměstnání, nesprávné stanovení vyměřovacího základu pro odvod pojistného | L69: 17087.4 | M69: 17087.4 | N69: 17087.4 | O69: 0 | P69: =M69/L69 -> 1 | R69: 23.10.2015 - Protokol o kontrole č. 1182/15/442 z OSSZ 9.2.2016 z MŠMT - oznámení o předání hlášení nesrovnalostí na FÚ KK - nezpůsobilý výdaj a současně nesrovnalost - 17.073,10 Kč - mylná platba; FÚ špatně spočítal, dopočítáno 13,-Kč; 2.3.2016 Protokol o ústním jednání z FÚ KK - žádost o předložení dokladů do 18.3.2016; 4.3.2016 KK odeslal na FÚ požadované doklady 18.5.2016 Protokol o ústním jednání a Rozhodnutí o stanovení lhůty k vyjádření do 27.5.2016 - sankce ve výši 17.087,40 Kč; 27.5.2016 posláno vyjádření k rozhodnutí 12.7.2016 Zpráva o daňové kontrole, 13.7.2016 KK obdržel PV ve výši 107.291,-Kč a 18.934,-Kč, do 12.8.2016 bude KK podávat odvolání, dále podá i žádosti o prominutí odvodu a penále; 9.8.2016 podáno na FÚ odvolání; 17.10.2016 z FÚ postoupeno odvolání Odvolacímu fin.řed. v Brně; 19.11.2016 na FÚ žádost o prominutí odvodu a dosud nevyměřeného penále; 21.12.2016 FÚ postoupení žádostí na Gen.fin.řed., 14.3.2017 prodloužení lhůty o odvolání do 9.7.2017, Rozhodnutí o odvolání dne 4.7.2017 - zamítá se ŽÁDOST O PROMINUTÍ ODVODU A DOSUD NEVYM.PENÁLE U GEN.FIN.ŘED.
J70: FÚ penále | L70: 16342 | M70: 16342 | N70: 16342 | O70: 0 | R70: 18.7.2017 doručen platební výměr na penále PLATEBNÍ VÝMĚR NA PENÁLE UHRAZEN, PODÁNA ŽÁDOST O PROMINUTÍ ODVODU I PENÁLE
J71: MŠMT zkrácení dotace | K71: překročení schválené finanční částky | L71: 3957.06 | M71: 3957.06 | N71: 3957.06 | O71: 0 | P71: =M71/L71 -> 1 | R71: 7.8.2014 - Oznámení o nesrovnalosti a předání věci správci daně - z MŠMT; 25.4.2016 - Oznámení z MŠMT, trvá na nesrovnalosti a věc předá opětovně na FÚ MŠMT ŘEŠÍ S FINANČNÍM ÚŘADEM
J72: MŠMT zkrácení dotace | K72: rekonstrukce analytické laboratoře - diky havarijnímu stavu staré budovy Střední uměleckoprůmyslové školy K.Vary nelze v době udržitelnosti projektu laboratoř využívat | L72: 139516.8 | M72: 139516.8 | N72: 0 | O72: 139516.8 | P72: =M72/L72 -> 1 | R72: dne 24.1.2018 - e-mailem sdělení z MŠMT o sankci, možno podat do 8.2.2018 námitky, sankce bude předána na FÚ; dne 6.2.2018 na MŠMT odeslány námitky BUDE ZAHÁJENO DAŇOVÉ ŘÍZENÍ
A73: 16 | B73: Karlovarský kraj | C73: Omezení výskytu invazních rostlin v KK CZ.1.09/3.1.00/01.00005 | D73: životní prostředí | E73: 9.8.2013-15.12.2015 | F73: OP ŽP | G73: 168042284 | H73: APDM | I73: Ing. Václav Jakubík/ Ing. Josef Hora | J73: MŽP zkrácení dotace | K73: zadavatel u VZ nepožadoval od uchazečů doklady dle § 68 odst. 3 ZVZ (předběžná nabídka v dynamickém nákupním systému musí obsahovat, zda dodavatel splňuje podmínky) | L73: 277298 | M73: =N73+O73 -> 277298 | N73: 0 | O73: 277298 | P73: =M73/L73 -> 1 | Q73: =M73/G73 -> 0.001650168 | R73: oznámení o udělení korekce z 22.9.2014; rozhodnutí o námitkách ze dne 5.12.2014 - neakceptovány; 30.5.2015 MŽP zaslalo podnět na FÚ (upřesnění částky); vyúčtování projektu v RKK dne 13.11.2017, č.RK 1374/11/17 MŽP ŘEŠÍ S FINANČNÍM ÚŘADEM; BUDE ŘEŠENO JAKO ŠKODNÍ PŘÍPAD | S73: =T73/L73 -> 0 | T73: =L73-M73 -> 0
J74: SFŽP | K74: nevedení u všech prvotních účetních záznamů oddělené účtování od svého vlastního účetnictví | L74: 343640.98 | M74: 345308.74 | N74: 345308.74 | O74: 0 | P74: =M74/L74 -> 1.0048532 | Q74: =SUM(M74/G73) -> 0.002054892 | R74: 24.4.2017 ze SFŽP Protokol o kontrole, dne 15.5.2017 odeslána na SFŽP námitky; 9.6.2017 Rozhodnutí o námitce - zamítnuto; dne 11.12.2017 Výzva k úhradě prostředků z MŽP; RKK usnesením č. RK 5/1/18 ze dne 8.1.2018 schválila výzvu neuhradit OČEKÁVÁME ZAHÁJENÍ DAŇOVÉHO ŘÍZENÍ
A75: 17 | B75: Karlovarský kraj | C75: Cyklostezka Ohře II CZ.1.09/3.2.00/35.00801 | D75: doprava | E75: 29.3.2011-30.5.2014 finančně ukončen 12.11.2014 | F75: ROP | G75: 44850000 | H75: APDM | I75: Ing. Petr Navrátil | J75: ÚRR zkrácení dotace | K75: osazení sloupků na jiné místo bez nahlášení změny projektu na ÚRR | L75: 9250.01 | M75: =N75+O75 -> 8500.01 | N75: 8500.01 | O75: 0 | P75: =M75/L75 -> 0.91891901 | Q75: =M75/G75 -> 0.00018952085 | R75: 4.11.2014 ukončena veřejnosprávní kontrola - námitky zamítnuty; přesun do nezpůsobilých výdajů; ukončený projekt - vyúčtování ZKK 66/02/16; aktuálně zjištěná celková částka neuznatelných výdajů již předložena ve vyúčtování ZKK; 25.1.2017 ÚRR oznámení o krácení způsobilých výdajů; dne 21.12.2017 byl řešen škodní případ; RKK dne 22.1.2018 usnesením č. RK 36/01/18 schválila, že škoda nebude vymáhána KONEČNÝ STAV - ŠKODA NEBUDE VYMÁHÁNA | S75: =T75/L75 -> 0.081080993 | T75: =L75-M75 -> 750
A76: 18 | B76: Karlovarský kraj | C76: Cyklostezka Ohře III CZ.1.09/3.2.00/66.01008 | D76: doprava | E76: 26.11.2013-31.7.2015 finančně ukončen 22.10.2015 | F76: ROP | G76: 32000000 | H76: APDM | I76: Ing. Petr Navrátil/ JUDr. Martin Havel | J76: ÚRR zkrácení dotace | K76: zadavatel nepostupoval dle Pokynů; zápis pověřené osoby (APDM) je považován za nevěrohodný a ex-post datovaný | L76: 25876.89 | M76: =N76+O76 -> 16023.96 | N76: 16023.96 | O76: 0 | P76: =M76/L76 -> 0.61923825 | Q76: =M76/G76 -> 0.00050074875 | R76: 10.11.2014 ukončena veřejnosprávní kontrola - námitkám částečně vyhověno; projekt byl finančně ukončen k 22.10.2015; APDM vyúčtovala projekt v ZKK č. 217/06/16 ze dne 9.6.2016; Jedná se o konečnou výši finančního postihu dle aktuálně známých a předložených informací pracovní skupině. V současné době již další kroky obrany nebudou uplatňovány. 25.1.2017 ÚRR oznámení o krácení způsobilých výdajů MOŽNÝ SPOR Z VEŘEJNOPRÁVNÍ SMLOUVY PRO PENĚŽITÉ PLNĚNÍ | S76: =T76/L76 -> 0.38076175 | T76: =L76-M76 -> 9852.93
A77: 19 | B77: Karlovarský kraj | C77: Rozvoj služby e-Governmentu na území Karlovarského kraje - část I. až VI. CZ.1.06/2.1.00/08.07146 | D77: informatika | E77: 12.8.2011-31.12.2013 | F77: IOP | G77: 144128467 | H77: OPŘI | I77: JUDr. Martin Havel | J77: FÚ odvod za porušení rozp. kázně | K77: diskriminační požadavky v rámci technických kvalifikačních předpokladů (znalost hospodaření krajských úřadů, ISO, architekt WAN/MAN zkušenosti) | L77: 9222024 | M77: =N77+O77 -> 9222024 | N77: 9222024 | O77: 0 | P77: =M77/L77 -> 1 | Q77: =(M77+M78+M79)/G77 -> 0.1279695 | R77: zjištění ze Zprávy o auditu operace č. IOP/2014/o/037 z 22.12.2014; v 8/2015 podnět z Min.pro místní rozvoj na FÚ - zahájení daňového řízení; 4.11.2015 Protokol o ústním jednání; 24.11.2015 Karlovarský kraj odeslal vyjádření k výsledkům daňové kontroly; 25.1.2016 byla předána Zpráva o daňové kontrole, FÚ zjištění ponechal v původním znění, podněty KK nebyly ve Zprávě zohledněny; 27.1.2016 byl doručen Platební výměr, 25.2.2016 KK podal odvolání proti PV; 5.5.2016 - FÚ - Vyrozumění o postoupení odvolání a části spisu Odvolacímu fin.řed. v Brně; schv.usn.č.RK 146/02/16; 3.10.2016 Odvolací finanční ředitelství v Brně prodloužení lhůty pro vyřízení odvolání do 26.2.2017; 7.10.2016 odeslána na FÚ žádost o prominutí odvodu a dosud nevym. penále; 8.11.2016 FÚ vyrozumění o postoupení na Gener.fin.ředit.; 27.2.2017 Rozhodnutí o odvolání - zamítá se, odvod uhrazen dne 13.3.2017; podání správní žaloby 27.4.2017 ŽÁDOST O PROMINUTÍ ODVODU A DOSUD NEVYM.PENÁLE NA GENER.FIN.ŘED. SPRÁVNÍ ŽALOBA PROTI ROZHODNUTÍ O ZAMÍTNUTÍ ODVOLÁNÍ U KRAJSKÉHO SOUDU V PLZNI | S77: =T77/L77 -> 0 | T77: =L77-M77 -> 0
J78: FÚ penále | L78: 9222024 | M78: 9222024 | N78: 0 | O78: 9222024 | P78: =M78/L78 -> 1 | R78: FÚ penále dosud nevyměřil, penále bude ve výši 1 promile z částky odvodu za každý den prodlení, penále bude zřejmě ve 100% výši, KK bude žádat o prominutí penále OČEKÁVÁME PV NA PENÁLE
J79: ÚOHS | K79: diskriminační požadavky v rámci technických kvalifikačních předpokladů (praxi z oblasti řízení projektů pro státní správu či samosprávu, a to min. 7-letou pro vedoucího a min. 5-letou pro ostatní členy) | L79: 0 | M79: 0 | N79: 0 | O79: 0 | P79: 0 | R79: 1.3.2016 výzva ÚOHS k zaslání dokumentace k VZ01 "Zavedení datových skladů" a vyjádřit se k podnětu; 9.3.2016 KK se vyjádřil k podnětu a zaslal dokumentaci na ÚOHS; 7.4.2016 KK obdržel z ÚOHS výsledek šetření podnětu - bez zjištění ÚOHS - BEZ ZJIŠTĚNÍ
A80: 20 | B80: Karlovarský kraj | C80: Podpora sociálního začleňování příslušníků sociálně vyloučených lokalit v Karlovarském kraji CZ.1.04/3.2.00/15.00012 | D80: sociální oblast | E80: 1.6.2012-31.5.2015 | F80: OPLZZ | G80: 23352645 | H80: APDM | I80: Bc. Miloslav Čermák | J80: MPSV zkrácení dotace | K80: vítězný uchazeč nesplnil požadavky stanovené v zadávací dokumentaci - předložení seznamu služeb obdobného charakteru | L80: 95544.63 | M80: =N80+O80 -> 0 | N80: 0 | O80: 0 | P80: =M80/L80 -> 0 | Q80: =M80/G80 -> 0 | R80: 4.11.2014 ukončena veřejnosprávní kontrola - námitkám v plném rozsahu vyhověno; vyúčtování projektu ZK 473/12/15 ze dne 3.12.2015 KONEČNÝ STAV - POSTIH ZRUŠEN | S80: =T80/L80 -> 1 | T80: =L80-M80 -> 95544.63
A81: 21 | B81: Karlovarský kraj | C81: Podpora sociálního začleňování příslušníků sociálně vyloučených lokalit v Karlovarském kraji - CZ.1.04/3.2.00/B4.00005 | D81: sociální oblast | E81: 1.1.2014-30.6.2015 | F81: OP LZZ | G81: 21907489 | H81: APDM | I81: Bc. Miloslav Čermák | J81: pokuta ÚOHS | K81: zadavatel neodeslal ve lhůtě do 15 dní oznámení o výsledku zadávacího řízení a nezveřejnil smlouvu na profilu zadavatele - formální pochybení bez sankce; MPSV dá podnět na ÚOHS pro správní delikt | L81: 15000 | M81: =N81+O81 -> 15000 | N81: 15000 | O81: 0 | P81: =M81/L81 -> 1 | Q81: =M81/G81 -> 0.00068469737 | R81: 23.11.2014 ukončena veřejnosprávní kontrola - bez zjištění; v 1/2015 MPSV podalo podnět na ÚOHS; 16.6.2015 ÚOHS Rozhodnutí o pokutě 15.000,-- Kč; 29.6.2015 dle rozhodnutí vedení kraje se rozklad podávat nebude; vyúčtování projektu ZK 76/02/16 ze dne 25.2.2016; Jedná se o konečnou výši finančního postihu dle aktuálně známých a předložených informací pracovní skupině. V současné době již další kroky obrany nebudou uplatňovány. KONEČNÝ STAV - POKUTA UHRAZENA | S81: =T81/L81 -> 0 | T81: =L81-M81 -> 0
A82: 22 | B82: Karlovarský kraj | C82: Řízení, kontrola, monitorování a hodnocení GG OP VK v Karlovarském kraji 1. etapa CZ.1.07/5.1.00/04.0053 | D82: technická pomoc | E82: 1.6.2008 - 31.12.2011 | F82: OP VK | G82: 2279938.9 | H82: OIGS | I82: v akčním plánu není člen RKK stanoven | J82: FÚ odvod za porušení rozp. kázně | K82: porušení zásady nediskriminace - uvedení min. taktovací frekvence (nákup PC a notebooků) | L82: 82379 | M82: =N82+O82 -> 82379 | N82: 82379 | O82: 0 | P82: =M82/L82 -> 1 | Q82: =(M82+M83)/G82 -> 0.042461226 | R82: datum úhrady 2/2014 KONEČNÝ STAV - ODVOD UHRAZEN | S82: =T82/L82 -> 0 | T82: =L82-M82 -> 0
J83: FÚ penále | L83: 82379 | M83: =N83+O83 -> 14430 | N83: 14430 | O83: 0 | P83: =M83/L83 -> 0.175166 | R83: datum úhrady 2/2014; 27.8.2015 částečně prominuté penále ve výši 67.949 Kč KONEČNÝ STAV - ČÁSTEČNĚ PROMINUTÉ PENÁLE UHRAZENO | S83: =T83/L83 -> 0.824834 | T83: =L83-M83 -> 67949
A84: 23 | B84: Karlovarský kraj | C84: Informovanost a publicita GG OP VK v Karlovarském kraji CZ.1.07/5.2.00/04.0038 | D84: technická pomoc | E84: 19.2.2008 - 31.12.2011 | F84: OP VK | G84: 593179 | H84: OIGS | I84: v akčním plánu není člen RKK stanoven | J84: FÚ odvod za porušení rozp. kázně | K84: netransparentní hodnotící kritéria (dodávka propagačních materiálů) | L84: 12000 | M84: =N84+O84 -> 12000 | N84: 12000 | O84: 0 | P84: =M84/L84 -> 1 | Q84: =(M84+M85)/G84 -> 0.022531142 | R84: datum úhrady 12/2013 KONEČNÝ STAV - ODVOD UHRAZEN | S84: =T84/L84 -> 0 | T84: =L84-M84 -> 0
J85: FÚ penále | L85: 12000 | M85: =N85+O85 -> 1365 | N85: 1365 | O85: 0 | P85: =M85/L85 -> 0.11375 | R85: datum úhrady 1/2014; 27.8.2015 částečně prominuté penále ve výši 10.635 Kč KONEČNÝ STAV - ČÁSTEČNĚ PROMINUTÉ PENÁLE UHRAZENO | S85: =T85/L85 -> 0.88625 | T85: =L85-M85 -> 10635
A86: 24 | B86: Karlovarský kraj | C86: Prezentace Karlovarského kraje - Živého kraje CZ.1.09/4.3.00/72.01151 | D86: kultura | E86: 21.1.2014 -31.12.2015 15.4.2016 finančně ukončen | F86: ROP | G86: 4012156.2 | H86: OKPPLaCR | I86: PhDr. Oleg Kalaš/ Mgr. Petr Zahradníček | J86: ÚRR zkrácení dotace | K86: 1. v dokumentech veřejné zakázky je uvedena jiná firma, objednávka uzavřena s jinou firmou - sankce 100 % 2. uchazeč nedoložil osvědčení o řádném plnění 3 zakázek - sankce 5 % | L86: 152732.25 | M86: 152732.25 | N86: 152732.25 | O86: 0 | P86: =M86/L86 -> 1 | Q86: =M86/G86 -> 0.038067374 | R86: 6.5.2015 výsledek administrativní kontroly; 13.10.2015 zahájena VSK; 16.10.2015 Protokol o kontrole; 2.11.2015 KK podal námitky proti zjištěním; 9.11.2015 námitky byly ÚRR zamítnuty; Jedná se o konečnou výši finančního postihu dle aktuálně známých a předložených informací pracovní skupině. V současné době již další kroky obrany nebudou uplatňovány. KONEČNÝ STAV - ZKRÁCENÍ DOTACE | S86: =T86/L86 -> 0 | T86: =L86-M86 -> 0
J87: ÚRR zkrácení dotace | K87: úhrada výdaje v EUR - měl být zvolen kurz použitý při převodu ze zvl.účtu projektu | L87: 1141.9 | M87: 1141.9 | N87: 1141.9 | O87: 0 | P87: =M87/L87 -> 1 | Q87: =M87/G86 -> 0.00028461006 | R87: 18.3.2016 z ÚRR č.j. RRSZ 3612/2016 Oznámení o zahájení kontroly; 23.3.2016 z ÚRR č.j. RRSZ 3756/2016 Protokol o kontrole KONEČNÝ STAV - ZKRÁCENÍ DOTACE | S87: =T87/L87 -> 0 | T87: =L87-M87 -> 0
A88: 25 | B88: Karlovarský kraj | C88: Investiční podpora procesu transformace DOZP "PATA" v Hazlově, p. o., 1. etapa, část II - CZ.1.06/3.1.00/07.08463 | D88: sociální oblast | E88: 19.6.2013-31.12.2014 není finančně ukončen | F88: IOP | G88: 34371616 | H88: APDM | I88: Bc. Miloslav Čermák | J88: MPSV zkrácení dotace | K88: příjemce dotace soutěžil samostatně zpracování projektové dokumentace a autorský dozor; k zajištění autorského dozoru vyzval pouze 1 dodavatele - sankce 25 % z hodnoty veřejné zakázky | L88: 75625 | M88: 75625 | N88: 75625 | O88: 0 | P88: =M88/L88 -> 1 | Q88: =M88/G88 -> 0.0022002166 | R88: 16.6.2015 doručen protokol o kontrole; 7.7.2015 podány námitky; 31.7.2015 MPSV zamítlo námitky; 29.7.2015 podána závěrečná ŽoP; 28.8.2015 proběhla ze strany CRR kontrola na místě, bez nálezu a projekt byl postoupen MPSV k závěrečné kontrole; čekáme na vyúčtování projektu Projekt fyzicky i administrativně ukončen, MPSV vydalo Závěrečné vyhodnocení akce, dne 27.6.2016 ukončen finančně; dne 18.12.2017 schválila RKK usnesením č. RK 1538/12/17 závěrečné vyúčtování BUDE ŘEŠENO JAKO ŠKODNÍ PŘÍPAD | S88: =T88/L88 -> 0 | T88: =L88-M88 -> 0
A89: 26 | B89: Karlovarský kraj | C89: Modernizace a vybavení přístrojového vybavení nemocnic KKN (ROP IV.) CZ.1.09/1.3.00/78.01252 | D89: zdravotnictví | E89: 1.1.2015 - 30.10.2015 finančně ukončen 15.3.2016 | F89: ROP | G89: 40000000 | H89: OZDR | I89: Bc. Miloslav Čermák/ Jakub Pánik | J89: ÚRR zkrácení dotace | K89: porušení § 71 ZVZ, kdy se komise pro otevírání obálek sešla pouze v počtu dvou členů, namísto ZVZ stanovených min. tří členů | L89: 106552.6 | M89: 106552.6 | N89: 106552.6 | O89: 0 | P89: =M89/L89 -> 1 | Q89: =(M89+M90+M91+M92+M93+M94+M95+M96)/G89 -> 0.050362121 | R89: 30.7 .2015 prozatím doručeno pouze Stanovisko ÚRR s uvedením pochybení a výše finanční opravy (5 % z VZ část 4,5 telemetrické systémy); 1.10.2015 vyjádření z ÚRR - neakceptovali podané námitky; 20.1.2016 Protokol o kontrole č.j.RRSZ 853/2016 - 4.2.2016 KK podal námitky proti kontrolním zjištěním; 2.3.2016 ÚRR prodloužilo lhůtu pro vyřízení námitek do 11.3.2016; 7.3.2016 - vyřízení námitek č.j. RRSZ 3082/2016 - zamítnuto; vyúčtování v ZKK 8.9.2016, proběhla škodní komise - po KKN nebude škoda vymáhána - schv. RKK 1329/11/17 ze dne 13.11.2017 KONEČNÝ STAV - ŠKODA NEBUDE VYMÁHÁNA | S89: =T89/L89 -> 0 | T89: =L89-M89 -> 0
K90: porušení § 71 ZVZ, kdy se komise pro otevírání obálek sešla pouze v počtu dvou členů, namísto ZVZ stanovených min. tří členů | L90: 29253.88 | M90: 29253.88 | N90: 29253.88 | O90: 0 | P90: =M90/L90 -> 1 | R90: 30.7 .2015 prozatím doručeno pouze Stanovisko ÚRR s uvedením pochybení a výše finanční opravy (5 % z VZ část 9,10,11 funduskamera a akutní péče); 1.10.2015 vyjádření z ÚRR - neakceptovali podané námitky; 20.1.2016 Protokol o kontrole č.j.RRSZ 853/2016 - 4.2.2016 KK podal námitky proti kontrolním zjištěním; 2.3.2016 ÚRR prodloužilo lhůtu pro vyřízení námitek do 11.3.2016; 7.3.2016 - vyřízení námitek č.j. RRSZ 3082/2016 - zamítnuto; vyúčtování v ZKK 8.9.2016, proběhla škodní komise - po KKN nebude škoda vymáhána - schv.RKK 1329/11/17 ze dne 13.11.2017 KONEČNÝ STAV - ŠKODA NEBUDE VYMÁHÁNA | S90: =T90/L90 -> 0 | T90: =L90-M90 -> 0
K91: porušení § 71 ZVZ, kdy se komise pro otevírání obálek sešla pouze v počtu dvou členů, namísto ZVZ stanovených min. tří členů; dále zadavatel nevyzval k objasnění nabídky jednoho z uchazečů a vyřadil ho | L91: 593135.95 | M91: 593135.95 | N91: 593135.95 | O91: 0 | P91: =M91/L91 -> 1 | R91: 30.7 .2015 prozatím doručeno pouze Stanovisko ÚRR s uvedením pochybení a výše finanční opravy (10 % z VZ část 12 rentgeny); 1.10.2015 vyjádření z ÚRR - neakceptovali podané námitky; 20.1.2016 Protokol o kontrole č.j.RRSZ 853/2016 - 4.2.2016 KK podal námitky proti kontrolním zjištěním; 2.3.2016 ÚRR prodloužilo lhůtu pro vyřízení námitek do 11.3.2016; 7.3.2016 - vyřízení námitek č.j. RRSZ 3082/2016 - zamítnuto; vyúčtování v ZKK 8.9.2016 proběhla škodní komise - po KKN nebude škoda vymáhána - schv.RKK 1329/11/17 ze dne 13.11.2017 KONEČNÝ STAV - ŠKODA NEBUDE VYMÁHÁNA | S91: =T91/L91 -> 0 | T91: =L91-M91 -> 0
K92: porušení § 71 ZVZ, kdy se komise pro otevírání obálek sešla pouze v počtu dvou členů, namísto ZVZ stanovených min. tří členů | L92: 71182.18 | M92: 71182.18 | N92: 71182.18 | O92: 0 | P92: =M92/L92 -> 1 | R92: 30.7 .2015 prozatím doručeno pouze Stanovisko ÚRR s uvedením pochybení a výše finanční opravy (5 % z VZ část 13,14,15 akutní péče); 1.10.2015 vyjádření z ÚRR - neakceptovali podané námitky; 20.1.2016 Protokol o kontrole č.j.RRSZ 853/2016 - 4.2.2016 KK podal námitky proti kontrolním zjištěním; 2.3.2016 ÚRR prodloužilo lhůtu pro vyřízení námitek do 11.3.2016; 7.3.2016 - vyřízení námitek č.j. RRSZ 3082/2016 - zamítnuto; vyúčtování v ZKK 8.9.2016; proběhla škodní komise - po KKN nebude škoda vymáhána - schv.RKK 1329/11/17 ze dne 13.11.2017 KONEČNÝ STAV - ŠKODA NEBUDE VYMÁHÁNA | S92: =T92/L92 -> 0 | T92: =L92-M92 -> 0
K93: porušení § 71 ZVZ, kdy se komise pro otevírání obálek sešla pouze v počtu dvou členů, namísto ZVZ stanovených min. tří členů | L93: 482088.81 | M93: 482088.81 | N93: 482088.81 | O93: 0 | P93: =M93/L93 -> 1 | R93: 30.7 .2015 prozatím doručeno pouze Stanovisko ÚRR s uvedením pochybení a výše finanční opravy (5 % z VZ část 16 CT); 1.10.2015 vyjádření z ÚRR - neakceptovali podané námitky; 20.1.2016 Protokol o kontrole č.j.RRSZ 853/2016 - 4.2.2016 KK podal námitky proti kontrolním zjištěním; 2.3.2016 ÚRR prodloužilo lhůtu pro vyřízení námitek do 11.3.2016; 7.3.2016 - vyřízení námitek č.j. RRSZ 3082/2016 - zamítnuto; vyúčtování v ZKK 8.9.2016 proběhla škodní komise - po KKN nebude škoda vymáhána - schv.RKK 1329/11/17 ze dne 13.11.2017 KONEČNÝ STAV - ŠKODA NEBUDE VYMÁHÁNA | S93: =T93/L93 -> 0 | T93: =L93-M93 -> 0
K94: Fa č.9431025936 ve výši 861.495,-Kč byla uhrazena po ukončení fyzické realizace projektu | L94: 732271.43 | M94: 732271.43 | N94: 732271.43 | O94: 0 | P94: =M94/L94 -> 1 | R94: 20.1.2016 Protokol o kontrole č.j.RRSZ 853/2016 - 4.2.2016 KK podal námitky proti kontrolním zjištěním; 2.3.2016 ÚRR prodloužilo lhůtu pro vyřízení námitek do 11.3.2016; 7.3.2016 - vyřízení námitek č.j. RRSZ 3082/2016 - zamítnuto; vyúčtování v ZKK 8.9.2016 MOŽNÝ SPOR Z VEŘEJNOPRÁVNÍ SMLOUVY PRO PENĚŽITÉ PLNĚNÍ | S94: =T94/L94 -> 0 | T94: =L94-M94 -> 0
J95: ÚOHS | K95: přezkoumání postupu při zadávání VZ - akutní péče | L95: 0 | M95: 0 | N95: 0 | O95: 0 | P95: 0 | R95: 7.9.2016 žádost ÚOHS k zaslání dokumentace (u VZ - Akutní péče); 15.9.2016 zaslané dokumenty a stanovisko; 27. 9.2019 Oznámení z ÚOHS bez zjištění ÚOHS - BEZ ZJIŠTĚNÍ | S95: =T95/L95 -> #DIV/0! | T95: =L95-M95 -> 0
J96: ÚOHS | K96: přezkoumání postupu při zadávání VZ - rentgeny | L96: 0 | M96: 0 | N96: 0 | O96: 0 | P96: 0 | R96: 13.7.2016 žádost ÚOHS u VZ - rentgeny o zaslání dokumentace, KK dne 13.7.2016 dokumentaci zaslal a 19.7.2016 ÚOHS - bez zjištění ÚOHS - BEZ ZJIŠTĚNÍ | S96: =T96/L96 -> #DIV/0! | T96: =L96-M96 -> 0
A97: 27 | B97: Karlovarský kraj | C97: Lineární urychlovač pro nemocnici v Chebu - přístavba zázemí CZ.1.09/1.3.00/78.01273 | D97: zdravotnictví | E97: 1.11.2014 - 30.10.2015 finančně ukončen 26.11.2015 | F97: ROP | G97: 36420737 | H97: APDM | I97: JUDr. Martin Havel | J97: ÚRR zkrácení dotace | K97: pochybení v zakázce "Zpracování studie proveditelnosti" - nevyhotovení písemného záznamu o vyhodnocení doručených nabídek | L97: 20570 | M97: =N97+O97 -> 2762.5 | N97: 2762.5 | O97: 0 | P97: =M97/L97 -> 0.13429752 | Q97: =M97/G97 -> 7.5849646e-05 | R97: 8.7.2015 doručen Protokol z VSK; 23.7.2015 podány námitky; 5.8.2015 námitkám částečně vyhověno; 13.11.2015 Protokol o kontrole ŽoP II.etapa - bez zjištění; aktuálně prověřujeme skutečnou výši nezpůsobilých výdajů v souvislosti s vyúčtováním projektu; 31.1.2017 ÚRR Oznámení o krácení způsobilých výdajů; proběhla škodní komise - RKK schválila usnesením č. RK 1330/11/17 ze dne 13.11.2017 - škoda bude vymáhána po vedoucím projektu APDM ŠKODA BUDE VYMÁHÁNA | S97: =T97/L97 -> 0.86570248 | T97: =L97-M97 -> 17807.5
J98: ÚRR odvod za porušení rozp.kázně | K98: pochybení v zakázce "Lineární urychlovač pro nemocnici v Chebu - přístavba zázemí" - změna zadávacích podmínek v důsledku podstatné změny smlouvy dodatkem měnícím podmínky ve Smlouvě o dílo | L98: 5932670.3 | M98: =N98+O98 -> 5932670.3 | N98: 5932670.3 | O98: 0 | P98: =M98/L98 -> 1 | Q98: =M98/G97 -> 0.16289265 | R98: 5.10.2016 doručen z MF Návrh zprávy o auditu operace; 14.10.2016 stanovisko k návrhu zprávy o auditu 28.11.2016 z MF Zpráva o auditu operace; 2.1.2017 Výzva k vrácení dotace dotčené nesrovnalostí; dle rozhodnutí RKK dne 9.1.2017, č. usnesení 26/01/17 jsme výzvu neuhradili; dne 2.2.2018 z ÚRR Oznámení o zahájení daňového řízení - do 30 dnů zaslat dokumentaci; dne 23.2.2018 na ÚRR odeslaná dokumentace OČEKÁVÁME VYSTAVENÍ PV NA ODVOD A PV NA PENÁLE
A99: 28 | B99: Karlovarský kraj | C99: Centralizace lékařské péče v nemocnici v Karlových Varech CZ.1.09/1.3.00/78.01253 | D99: zdravotnictví | E99: 1.12.2011 -30.11.2015 finančně ukončen 16.3.2016 | F99: ROP | G99: 1.3546214e+08 | H99: APDM | I99: JUDr. Martin Havel | J99: ÚRR zkrácení dotace | K99: porušení povinnosti zrušit VZ dle Pokynu pro zadávání VZ; zadávací dokumentace neobsahuje v předmětu požadavek na provádění autorského dozoru | L99: 344617.16 | M99: 344617.16 | N99: 344617.16 | O99: 0 | P99: =M99/L99 -> 1 | Q99: =(M99+M100+M101+M102+M103)/G99 -> 0.18941921 | R99: 10.9.2015 doručen Protokol z VSK; do 24.9.2015 odeslány námitky proti kontrolním zjištěním; 13.10.2015 námitky ÚRR zamítnul 30.1.2017 ÚRR Oznámení o krácení způsobilých výdajů MOŽNÝ SPOR Z VEŘEJNOPRÁVNÍ SMLOUVY PRO PENĚŽITÉ PLNĚNÍ | S99: =T99/L99 -> 0 | T99: =L99-M99 -> 0
K100: Fa č.1506148 ve výši 1.820.007,72Kč a fa č. 1506168 ve výši 2.569.568,23 Kč byly uhrazeny po ukončení fyzické realizace projektu | L100: 1779352 | M100: 1779352 | N100: 1779352 | O100: 0 | P100: =M100/L100 -> 1 | R100: 8.2.2016 Protokol o kontrole interim se ŽoP za 2.etapu, č.j. RRSZ 1740/2016 - 23.2.2016 KK podal námitky proti kontrolním zjištěním; 7.3.2016 - vyřízení námitek č.j. RRSZ 3147/2016 - zamítnuto; čekáme na vyúčtování; 30.1.2017 ÚRR Oznámení o krácení způsobilých výdajů proběhla škodní komise na pozdě uhrazené faktury a dodatku č. 2 k příkazní smlouvě k TDS - RKK schválila usnesením č. RK 1087/09/17 ze dne 11.9.2017 - škoda bude vymáhána po vedoucím projektu APDM ŠKODA BUDE VYMÁHÁNA VE VÝŠI 4,5 NÁSOBKU PLATU | S100: =T100/L100 -> 0 | T100: =L100-M100 -> 0
J101: ÚRR odvod za porušení rozp. kázně | K101: široké vymezení předmětu veřejné zakázky; TDS - fakturované výdaje nejsou v souladu s nabídkou | L101: 23435162 | M101: =SUM(N101+O101) -> 23435162 | N101: 19367903 | O101: 4067259.6 | P101: =M101/L101 -> 1 | R101: 1.9.2016 z MF Oznámení o auditu operace 13.12.2015 Návrh zprávy o auditu operace; 22.12.2016 Stanovisko k Návrhu zprávy o auditu operace;26.12.2016 Zpráva o auditu operace; 25.1.2017 Výzvy k vrácení dotace dotčené nesrovnalostí; dle rozhodnutí RKK dne 6.2.2017 č. usnesení 185/02/17 jsme výzvy neuhradili; dne 28.7.2017 odeslán podnět na ÚOHS k případnému zahájení správního řízení, dne 20.10.2017 z ÚOHS Oznámení o zahájení správního řízení k VZ "Realizace stavby CLP"; dne 25.1.2018 z ÚRR Oznámení o zahájení daňového řízení - do 30 dnů zaslat dokumentaci; dne 23.2.2018 na ÚRR odeslaná dokumentace OČEKÁVÁME VYSTAVENÍ PV NA ODVOD A PV NA PENÁLE | S101: =T101/L101 -> 0 | T101: =L101-M101 -> 0
...

Sheet Projekty PO
B1: Přehled finančních postihů u projektů financovaných z prostředků EU včetně jiných zdrojů - příspěvkové organizace a KKN a.s. | R1: Příloha č.2
A2: Pořadové číslo | B2: Příjemce dotace/ garant projektu | C2: Název a registrační číslo projektu | D2: Oblast zacílení projektu | E2: Období realizace projektu | F2: Operační program | G2: Celkový objem projektu | H2: Administrátor projektu | I2: Garant projektu - člen RKK, ZKK dle Akčního plánu (garant pouze za dobu realizace projektu, ne pro případné řešení škody) | J2: Specifikace finančního postihu | K2: Identifikované zjištění | L2: Původně zjištěné pochybení v plné výši vztaženo pouze k dotaci | M2: Aktuální výše zjištěného pochybení vztaženo pouze k dotaci | P2: Poměr aktuální výše zjištěného pochybení/ původní výše zjištěného pochybení vztaženo pouze k dotaci | Q2: Poměr aktuální výše zjištěného pochybení/ celkový objem dotčeného projektu | R2: Aktuální stav | S2: Vyčíslení úspěchů obrany
M3: Celkem | N3: z toho doručený platební výměr/ vyměřená pokuta ÚOHS/ provedená korekce | O3: z toho očekávaný finanční postih - odvod, pokuta nebo korekce | S3: v % | T3: v Kč
A4: sl.1 | B4: sl.2 | C4: sl.3 | D4: sl.4 | E4: sl.5 | F4: sl.6 | G4: sl.7 | H4: sl.8 | I4: sl.9 | J4: sl.10 | K4: sl.11 | L4: sl.12 | M4: sl.13 (sl. 14 + sl.15) | N4: sl.14 | O4: sl.15 | P4: sl.16 (sl.13/sl.12) | Q4: sl.17 (sl. 13/sl.7) | R4: sl.18 | S4: sl. 16 (sl.17/sl.10) | T4: sl. 17 (sl.11-sl.10)
A5: 1 | B5: KSÚS, p.o. | C5: Rozvoj dopravní infrastruktury silnic II. a III. třídy v Karlovarském kraji - I. etapa - CZ.1.09/3.1.00/07.00014 | D5: doprava | E5: 2.1.2007 - 29.10.2010 | F5: ROP | G5: 3.6237517e+08 | H5: KSÚS, p.o. | I5: Ing. Jan Zborník/ Ing. Petr Navrátil | J5: ÚRR odvod za porušení rozp. kázně | K5: pochybení v 6 veřejných zakázkách - chybné technické kvalifikační předpoklady -zadavatel požadoval seznam referencí za 3 roky (v ZVZ je 5 let); chybné posouzení a hodnocení nabídek, které mělo vliv na výběr dodavatele; chybný postup při zadávání víceprací; dělení veřejných zakázek | L5: 101386743 | M5: 1004341.5 | N5: 1004341.5 | O5: 0 | P5: =M5/L5 -> 0.0099060436 | Q5: =(M5+M8+M9)/G5 -> 0.0027715516 | R5: Platební výměry doručeny 1/2014; 6.2.2014 podaná odvolání proti platebním výměrům; 25.6.2014 odeslány finanční prostředky na úhradu PV na KSÚS. 25.5.2017 doručeno rozhodnutí o odvolání - odvod snížen v rámci odvolání o 75% ze 7.378.215 Kč na 1.844.554 Kč; v důsledku předchozího rozhodnutí o částečném prominutí odvodu za PV č. 3/2014 je aktuální výše odvodu ve výši 6,25% původně vyměřeného důvodu. 24.5.2017 požádalo MF o doplnění informací k odvolání proti PV č.4/2014; 6.6.2017 rozhodlo MF o odvolání proti PV č. 2/2014 a snížilo ho 90%. V důsledku předchozího rozhodnutí o prominutí v téže věci činí aktuální výše odvodu 1% původně vyměřeného odvodu, tedy 438.135 Kč. 28.6.2017 zrušilo MF na základě odvolání PV č. 4/2014. Zrušený PV činil po částečném prominutí 258 600 Kč. 4.8.2017 rozhodlo MF o odvolání proti PV č. 5/2014 a snížilo ho na částku 420.270 Kč, v důsledku předchozího rozhodnutí o prominutí by aktuální částka odvodu měla činit 105.068 Kč; dne 1.12. rozhodl ovolací orgán o zrušení PV 6/2014, který činil po prominutí 1.699.600 Kč; dne 12.12. rozhodl odvolací orgán o zrušení PV 7/2014, který činil po částečném prominutí 7.050.874 Kč; za PV celkem uhrazeno 6.646.174 Kč, tj. za PV č. 2/2014 uhrazeno 4.381.350 Kč za PV č. 3/2014 uhrazeno 1.844.554 Kč za PV č. 5/2014 uhrazeno 420 270 Kč; KSÚS požádala o vrácení přeplatku 5.641.832,50 Kč (3.943.215 Kč + 1.383.415,50 Kč + 315.202 Kč); dne 19.12.2017 zaslala RRSZ přípis s informací o rozhodnutí VRR o nevrácení vratitelného přeplatku u PV č.2/2014,3/2014 a 5/2014 dne 2.1.2018 podala KSÚS proti obdrženým informacím odvolání OČEKÁVÁME ROZHODNUTÍ MF O ODVOLÁNÍ PROTI PV Č.2/2014, 3/2014 A 5/2014 | S5: =T5/L5 -> 0.99009396 | T5: =L5-M5 -> 1.003824e+08
N6: celkem uhrazeno 6.646.174,00 požádáno o vratku přeplatku v celkové výši
N7: 5641832.5
J8: pokuta ÚOHS | K8: správní delikt - zadavatel nedodržel postup stanovený ZVZ, požadoval seznam referencí za 3 roky (v ZVZ je 5 let) | L8: 1000000 | M8: =N8+O8 -> 0 | N8: 0 | O8: 0 | P8: =M8/L8 -> 0 | R8: ÚOHS 24.11.2014 zamítnul rozklad, rozhodnutí o pokutě nabylo právní, pokuta uhrazena 22.12.2014; 23.1.2015 podaná správní žaloba na Krajský soud v Brně; 9.3.2016 rozsudek soudu - rozhodnutí předsedy ze dne 24.11.2014 se zrušuje a věc se vrací k dalšímu řízení 28.6.2016 rozsudek NSS o kasační stížnosti - NSS zrušil rozhodnutí KS v Brně a vrátil mu věc k dalšímu řízení 17.8.2016 rozsudek KS v Brně - rozhodnutí předsedy ze dne 24.11.2014 se zrušuje a věc se vrací k dalšímu řízení 3. 11. 2016 rozsudek NSS o kasační stížnosti - NSS zrušil rozhodnutí KS v Brně a vrátil mu věc k dalšímu řízení 6. 1 . 2017 rozsudek KS v Brně - rozhodnutí předsedy ze dne 24.11.2014 se zrušuje a věc se vrací k dalšímu řízení první instanci 17. 1. 2017 ÚOHS podal kasační stížnost proti rozsudku KS 17. 1. 2017 KSÚS zažádala o vrácení pokuty ve výši 1 mil. Kč 23. 1. 2017 ÚOHS vrátil správní pokutu ve výši 1 mil Kč 15. 2. 2017 ÚOHS zastavil správní řízení 20. 4. 2017 NSS vydal rozsudek, ve kterém zamítl kasační stížnost podanou ÚOHS, dle rozhodl o náhradě výloh ve prospěch KSÚS KONČENÝ STAV - POSTIH ZRUŠEN | S8: =T8/L8 -> 1 | T8: =L8-M8 -> 1000000
J9: pokuta ÚOHS | K9: správní delikt - zadavatel nedodržel postup stanovený ZVZ, požadoval seznam referencí za 3 roky (v ZVZ je 5 let) | L9: 600000 | M9: 0 | N9: 0 | O9: 0 | P9: =M9/L9 -> 0 | R9: rozhodnutím ÚOHS z 15.1.2015 snížena pokuta na 200 000,-- Kč; 28.1.2015 podán proti rozhodnutí rozklad; 4.1.2016 Rozhodnutí ÚOHS - zrušena pokuta, zastaveno správní řízení KONEČNÝ STAV - POSTIH ZRUŠEN | S9: =T9/L9 -> 1 | T9: =L9-M9 -> 600000
A10: 2 | B10: KSÚS, p.o. | C10: Rozvoj dopravní infrastruktury silnic II. a III. třídy v Karlovarském kraji - II. etapa CZ.1.09/3.1.00/19.00524 | D10: doprava | E10: 2.1.2007 - 28.2.2011 | F10: ROP | G10: 4.627248e+08 | H10: KSÚS, p.o. | I10: Ing. Jan Zborník/ Ing. Petr Navrátil | J10: ÚRR odvod za porušení rozp. kázně | K10: pochybení ve 3 veřejných zakázkách - dělení veřejných zakázek; chybný postup při zadávání víceprací | L10: 13225052 | M10: 96798.25 | N10: 96798.25 | O10: 0 | P10: =M10/L10 -> 0.0073193096 | Q10: =M10/G10 -> 0.00020919184 | R10: platební výměry doručeny 1/2014; 6.2.2014 podaná odvolání proti platebním výměrům; platební výměry dosud nenabyly právní moci 25.6.2014 odeslány finanční prostředky na úhradu PV na KSÚS 30. 5. 2017 PV č. 8/2014 zrušen, PV č. 9/2014 snížen na 387.193 Kč, PV č. 10 /2014 zrušen 30. 5. 2017 DORUČENY ROZHODNUTÍ O ODVOLÁNí PROTI PV Č. 8/2014, 9/2014, 10/2014 dne 19.12.2017 zaslala RRSZ přípis s informací o rozhodnutí VRR o nevrácení vratitelného přeplatku u PV č.9/2014 dne 2.1.2018 podala KSÚS proti obdržené informace odvolání OČEKÁVÁME ROZHODNUTÍ MF O ODVOLÁNÍ PROTI PV Č.9/2014 | S10: =T10/L10 -> 0.99268069 | T10: =L10-M10 -> 13128254
N11: uhrazeno 387.193,00 podaná žádost o vratku ve výši
N12: 290394.75 | O12: 0
A13: 3 | B13: ISŠTE Sokolov | C13: Projekt revitalizace Centra vzdělávání ISŠTE Sokolov CZ.1.09/1.3.00/18.00376 | D13: školství | E13: 2.1.2007 - 30.7.2012 | F13: ROP | G13: 4.0041899e+08 | H13: APDM, p.o. | I13: Ing. Kamil Řezníček/ PaedDr. Vratislav Emler | J13: ÚRR odvod za porušení rozp. kázně | K13: pochybení ve 4 veřejných zakázkách -netransparentní hodnotící kritéria; netransparentní hodnocení nabídek a jeho nepřezkoumatelnost; dodatečné stavební práce realizované bez zadávacího řízení; neoprávněné použití JŘBU | L13: 178471075 | M13: =N13 -> 11053466 | N13: 11053466 | O13: 0 | P13: =M13/L13 -> 0.061934215 | Q13: =(M13+M16+M17)/G13 -> 0.15450713 | R13: platební výměry doručeny 10/2013; 6.11.2013 podaná odvolání proti platebním výměrům; odvod uhrazen 4.11.2013 dne 9.6.2016 doručeno rozhodnutí MFČR o odvolání proti PV č.19/2013 a č.20/2013; MFČR snížilo odvod u těchto dvou PV na 25%. Díky rozhodnutí o částečném prominutí odvodu 10/2013 je aktuální výše odvodu ve výši 6,25% původně vyměřeného důvodu. ÚRR je povinen vrátit 33.160.392 Kč na účet školy - 21.6.2016 ISŠTE podala žádost o vratku vratitelného přeplatku - prozatím správce daně částku nevrátil 26.7.2016 ÚRR informoval ISŠTE o tom, že si k věci vyžádal stanovisko právní a stanovisko MFČR dne 15.8.2016 odeslala ISŠTE žádost o písemné rozhodnutí ÚRR 22.9.2016 doručeno rozhodnutí o zrušení PV 22/2013 (původní výše PV 98.050,- Kč, snížená a uhrazená výše PV 24.513 Kč), požádáno o provedení vratky včetně úroků 18.10.2016 doručeno rozhodnutí o zamítnutí vratky přeplatku ve výši 33.160.392 Kč 20.10.2016 doručeno rozhodnutí o zrušení PV 21/2013 (původní výše PV 1.517.597 Kč, snížená a uhrazená výše PV 379.400 Kč) 31. 10.2016 odesláno odvolání proti rozhodnutí o zamítnutí vrácení vratitelného přeplatku ve výši 33.160.392 Kč Dne 13.11.2016 podána žádost o vratku výdajů za PV 21/2013 ve výši 379.400 Kč včetně úroků Dne 6. 12. 2016 ÚRR částečně uhradil vratku za zrušené PV 21/2013 a PV 22/2013, vratka je nedoplacena o 1,39 Kč Dne 12. 6. 2017 rozhodnutí MF, kterým prohlašuje nicotnost rozhodnutí Úřadu Regionální rady regionu soudržnosti Severozápad ze dne 17.10.2016, o žádosti o vrácení vratitelného přeplatku 19.7.2017 žádost ÚRR o zaslání podkladů, na základě kterých žádá škola o vratku 33,16 mil. Kč 28.7.2017 odeslány dokumenty na základě žádosti ze dne 19.7.2017 dne 5.12. rozhodl výbor RR, o zamítnutí žádosti ISŠTE a RRSZ o tomto rozhodnutí školu informoval dne 18.12.2017 dne 22.12.2017 odbržela škola rozhodnutí o úroku z vratitelného přeplatku a sdělení o nepřiznání úroku z neoprávněného jednání správce daně dne 2.1.2018 škola podala odvolání proti zamítnutí žádosti 22.1.2018 odeslala škola námitku proti sdělení z 22.12.2017 a dále odvolání proti chybně určenému úroku z vratitelného přeplatku OČEKÁVÁME ROZHODNUTÍ MF O ODVOLÁNÍ PROTI NEPŘIZNÁNÍ VRATITELNÉHO PŘEPLATKU, PROTI CHYBNÉ VÝŠI ÚROKU Z VRATITELNÉHO PŘELATKU A PROTI NEPŘIZNÁNÍ ÚROKU Z NEOPRÁVNĚNÉHO JEDNÁNÍ SPRÁVCE DANĚ
N14: uhrazeno celkem 44.213.858,00 doplatek URR za chybně vrácené vratky 1,39 podána žádost o vratku přeplatku ve výši
N15: 33160392
J16: ÚRR zkrácení dotace | L16: 40518450 | M16: =N16+O16 -> 39887711 | N16: 39887711 | P16: =M16/L16 -> 0.98443329 | R16: proveden přesun do nezpůsobilých výdajů- není pokryto dotací; zbývající část dotace byla poskytnuta v 9/2014; 30.3.2015 odeslán Návrh na zahájení sporu z VPS; 12.5.2015 doručen platební výměr na správní poplatek ve výši 2.000 Kč za nepeněžité plnění (uhrazen 3.5.2015); vyplacení zadržené části dotace ve výši 40.518.449,97 Kč bude řešeno v samostatném řízení; 16.6.2015 doručeno vyjádření ÚRR ve věci sporu, 24.6.2015 odesláno na MF ČR stanovisko ISŠTE; 11.5.2015 zahájen MF ČR audit operace za II.etapu projektu; 31.8.2015 doručeno rozhodnutí MF ČR ve prospěch ISŠTE v rámci nepeněžitého plnění; aktuálně probíhá spor z veřejnoprávní smlouvy ve věci peněžitého plnění dne 12.9.2016 zaslala ISŠTE na MFČR doplnění informací do sporu, ve kterém informovala MFČR o faktickém snížení sankce u téhož pochybení na 6,25 % a dále upozornila na zásadu, podle které nemá docházet v daňovém řízení k bezdůvodným rozdílům Dne 29.11.2016 obdržela ISŠTE vyjádření ÚRR ke sporu, ve lhůtě do 12.12.2016 škola odeslala repliku k vyjádření; 19.12.2017 rozhodnutí o MF a sporu - částečný úspěch ve sporu, krácení sníženo o 630.739 Kč. 19.2.2018 podána správní žaloba proti rozhodnutí o sporu OČEKÁVÁME ROZHODNUTÍ O SPORU | S16: =T16/L16 -> 0.015566711 | T16: =L16-M16 -> 630739
J17: ÚRR odvod za porušení rozp. Kázně dle MFCR audit operace č: ROPSZ/2015/O/015 | K17: neprovedení VŘ na dodavatele - vícepráce nad rámec smlouvy | L17: 10926411 | M17: =N17+O17 -> 10926411 | N17: 10926411 | O17: =10926411.03-N17 -> 0 | P17: =M17/L17 -> 1 | R17: 14.12.2015 doručena Zpráva o auditu operace za II. etapu projektu, MF ČR navrhlo nezpůsobilé výdaje a předalo zprávu ÚRR, k pochybením uvedeno, že ovlivňují i certifikované výdaje I.etapy projektu, 21.1.2016 ÚRR doručil Výzvy k vrácení dotace dle § 22 odst. 6 zák. 250/2000 Sb., tj. nejedná se o daňové řízení, výzvy z důvodu předpokladu chybně stanovených částek nebyly uhrazeny, očekáváme zahájení daňového řízení, kde je možné se proti stanoveným nesrovnalostem bránit Dne 20.8.2016 bylo ISŠTE doručeno oznámení o zahájení daňového řízení, do 19.9.2016 zašle ISŠTE k dané věci stanovisko 19.9.2016 odesláno stanovisko k daňovému řízení 1.11.2016 ISŠTE obdržela výzvu k doplnění informací do daňového řízení, se lhůtou 15 pracovních dní 9.11.2016 ISŠTE odeslala žádost o prodloužení lhůty pro doplnění informací, které bylo dne 16.11.2016. Lhůta byla prodloužena do 30.12.2016 22.12.2016 odeslána doplnění k daňovému řízení 16.3.2017 vystaven platební výměr č.3/2017 na 823.671 Kč za zjištění č.2 ze zprávy o auditu 13. 4. 2017 podáno odvolání proti PV č. 3/2017 OČEKÁVÁME VYDÁNÍ PLATEBNÍCH VÝMĚRŮ PRO DALŠÍ ZJIŠTĚNÍ; OČEKÁVÁME ROZHODNUTÍ O ODVOLÁNÍ PROTI PLATEBNÍMU VÝMĚRU Č. 3/2017 | S17: =T17/L17 -> 0 | T17: =L17-M17 -> 0
J18: pokuta ÚOHS | K18: správní delikt - zadavatel stanovili způsob hodnocení nabídek v rozporu se zásadou transparentnosti | L18: 150000 | M18: =N18+O18 -> 150000 | N18: 150000 | P18: =M18/L18 -> 1 | R18: ÚOHS 10.4.2014 zamítnul rozklad, rozhodnutí o pokutě nabylo právní moci, pokuta uhrazena; 10.6.2014 podaná správní žaloba, na 20.6.2016 předvolána ISŠTE k soudu v Brně; 30 Af 42/2014 - 71 ze dne 20.6.2016 rozsudek soudu ve věci správní žaloby - zamítnuto 19.7.2016 podala AK kasační stížnost 3. 4. 2017 NSS zamítl kasační stížnost podanou ISŠTE 9.6.2017 podala ISŠTE Sokolov prostřednictvím advokáta JUDr. Mgr. Slavomíra Hrinka ústavní stížnost. Advokát zastupoval školu bezplatně 20.6.2017 Ústavní soud rozhodl o bezdůvodnosti ústavní žaloby KONEČNÝ STAV - PROTI ULOŽENÉ POKUTĚ JIŽ NENÍ MOŽNÉ UŽÍT ŽÁDNÝCH ŘÁDNÝCH OPRAVNÝCH PROSTŘEDKŮ | S18: =T18/L18 -> 0 | T18: =L18-M18 -> 0
A19: 4 | B19: SPŠ Ostrov | C19: Centrum technického vzdělávání Ostrov CZ.1.09/1.3.00/10.00163 | D19: školství | E19: 12.3.2007 - 29.7.2011 | F19: ROP | G19: 4.3301326e+08 | H19: APDM, p.o. | I19: Ing. Kamil Řezníček/ PaedDr. Vratislav Emler | J19: ÚRR odvod za porušení rozp. kázně | K19: pochybení ve 2 veřejných zakázkách -netransparentní hodnotící kritéria; netransparentní hodnocení nabídek; netransparentní a diskriminační hodnotící kritéria | L19: 354887803 | M19: =N19+O19 -> 88721951 | N19: 88721951 | O19: 0 | P19: =M19/L19 -> 0.25 | Q19: =(M19+M20)/G19 -> 0.20558713 | R19: 30.7.2014 ÚRR zahájil daňové řízení, 19.8.2014 zasláno na ÚRR podání ve věci daňového řízení; 6.11.2015 doručeny platební výměry v celkové částce 354.887.803,-- Kč, korespondence s ÚRR (RRSZ) o důvodech změny dosavadní rozhodovací praxe. 3.12.2015 podána proti platebním výměrům odvolání a žádosti o posečkání s úhradou odvodu, 11.1.2016 doručeno Rozhodnutí o zamítnutí žádostí o posečkání, 3.2.2016 odesláno Odvolání proti Rozhodnutí o posečkání 14.4.2016 doručena Rozhodnutí o odvolání - částečně vyhověno - snížen odvod z 354 mil. Kč na 88 mil. Kč, 12.5.2016 podána odvolání proti sníženému odvodu 16.11.2016 - MFČR rozhodlo o posečkání úhrady odvodu do doby vydání rozhodnutí o prominutí 15.12.2016 - odeslala SPŠ Ostrov žádost o vydání opravného rozhodnutí o posečkání úhrady 2.1.2017 - doručeno opravné rozhodnutí o posečkání úhrady OČEKÁVÁME ROZHODNUTÍ POSKYTOVATELE DOTACE O PROMINUTÍ ODVODU A ROZHODNUTÍ MINISTERSTVA FINANCÍ O ODVOLÁNÍ PROTI PLATEBNÍMU VÝMĚRU | S19: =T19/L19 -> 0.75 | T19: =L19-M19 -> 266165852
J20: pokuta ÚOHS | K20: správní delikt - zadavatel nedodržel postup stanovený ZVZ a zásadu transparentnosti, když nestanovil v hodnotícím kritériu minimální požadavky | L20: 300000 | M20: =N20+O20 -> 300000 | N20: 300000 | O20: 0 | P20: =M20/L20 -> 1 | R20: ÚOHS 29.12.2014 zamítnul rozklad, rozhodnutí o pokutě nabylo právní moci, pokuta uhrazena 23.2.2015; 24.2.2015 podaná správní žaloba na Krajský soud v Brně 24.6.2015 doručeno stanovisko žalované strany; 8.7. 2015 byla odeslána replika na Krajský soud v Brně 30.6.2016 doručen rozsudek Krajského soudu v Brně o zamítnutí správní žaloby; RKK rozhodla, že kasační stížnost nebude podána KONEČNÝ STAV - ULOŽENÁ POKUTA JE DEFINITIVNÍ OLP a KŽÚ VYHODNOCUJE ZÁVAZEK SPOLEČNOSTI VEŘEJNÉ ZAKÁZKY S.R.O., NÉST PŘÍPADNÝ POSTIH ZPŮSOBENÝ NESPRÁVNÝM POSTUPEM PŘI REALIZACI ZADAVATELSKÝCH ČINNOSTÍ VE SMYSLU ZÁKONA Č. 137/2006 Sb. | S20: =T20/L20 -> 0 | T20: =L20-M20 -> 0
A21: 5 | B21: KSÚS, p.o. | C21: II/214 Jihovýchodní obchvat Cheb CZ.1.09/3.1.00/64.01004 | D21: doprava | E21: 6.11.2013 - 30.11.2015 | F21: ROP | G21: 3.9263382e+08 | H21: KSÚS, p.o. | I21: Ing. Petr Navrátil/ Jakub Pánik | J21: ÚRR zkrácení dotace | K21: porušení zásady transparentnosti, rovného zacházení a diskriminace § 6 ZVZ - požadavek na dispozici s obalovnou | L21: 31074718 | M21: =N21+O21 -> 31074718 | N21: 31074718 | O21: 0 | P21: =M21/L21 -> 1 | Q21: =(M21+M22+M23)/G21 -> 0.080217415 | R21: 6.11.2014 ukončena veřejnosprávní kontrola - námitkám nebylo vyhověno 15.4.2015; Oznámení výsledku šetření podnětu ÚOHS-P39/2015/VZ-7503/2015/551/Sbe - bez sankce; 20.4.2015 zahájen MF ČR audit operace 17.12.2015 projekt finančně ukončen - položka na VZ stavební práce nedočerpána, proto snížena původně očekávaná částka korekce aktuálně probíhá příprava sporu z veřejnoprávní smlouvy 3.10.2016 MFČR rozhodlo ve sporu pro nepeněžité plnění KSÚS a ÚRR ve prospěch KSÚS a přikázalo ÚRR, aby KSÚS písemně informoval o krácení a o důvodech krácení 10.10.2016 ÚRR podala odpor proti rozhodnutí MFČR 24.10.2016 KSÚS zaslala prostřednictvím advokátní kanceláře stanovisko k odporu 15.12.2016 doručeno Oznámení o krácení způsobilých výdajů 24.4.2017 RKK vzala na vědomí přípravu sporu pro peněžité plnění pro 31.074.718,08 Kč 8.9.2017 zahájen spor pro peněžité plnění OČEKÁVÁME ROZHODNUTÍ VE SPORU | S21: =T21/L21 -> 0 | T21: =L21-M21 -> 0
J22: odvod na základě auditu operace | K22: neponížení požadovaných nákladů o výzisky z prodeje vyfrézovaného materiálu neprovedené korekce ŘO za VŘ 003 a 004 | L22: =134201.25*0.85 -> 114071.06 | M22: =N22+O22 -> 114071.06 | N22: 0 | O22: =134201.25*0.85 -> 114071.06 | P22: =M22/L22 -> 1 | R22: 14.9.2016 doručena Zpráva o auditu operace ROPSZ/2016/O/012 ze dne 31.8.2016, auditované prostředky byly ve výši 171.293.570,94 Kč, identifikované NV ve výši 134.201,25 Kč ( z toho 29.221,50 Kč za neprovedené korekce za VŘ 003 a VŘ 004 a 104.979,75 Kč za výzisky) 6.3.2017 vystavil ÚRR výzvu k vrácení 393 222,74 Kč za neodečtené výzisky za prodej vyfrézovaného materiálu a dřevin 9.1.2018 zahájil ÚRR daňové řízení OČEKÁVÁME VYSTAVENÍ PLATEBNÍHO VÝMĚRU
J23: odvod na základě auditu operace | K23: neponížení požadovaných nákladů o výzisky z prodeje vyfrézovaného materiálu neprovedené korekce ŘO za VŘ 004 | L23: =361507.25*0.85 -> 307281.16 | M23: =N23+O23 -> 307281.16 | N23: 0 | O23: =361507.25*0.85 -> 307281.16 | P23: =M23/L23 -> 1 | R23: 6.12.2016 doručena Zpráva o auditu operace ROPSZ/2016/O/020 ze dne 30.11.2016, auditované prostředky byly ve výši 132.428.457,27 Kč (z toho 3.872 Kč za neprovedenou korekci za VŘ 004 a 357.635,25 Kč) 6.3.2017 vystavil ÚRR výzvu k vrácení 393 222,74 Kč za neodečtené výzisky za prodej vyfrézovaného materiálu a dřevin 9.1.2018 zahájil ÚRR daňové řízení OČEKÁVÁME VYSTAVENÍ PLATEBNÍCH VÝMĚRŮ
A24: 6 | B24: KSÚS, p.o. | C24: II/221 Modernizace silnice Merklín - Pstruží, II. etapa CZ.1.09/3.1.00/67.01067 | D24: doprava | E24: 5.12.2013 - 30.11.2015 | F24: ROP | G24: 77931314 | H24: KSÚS, p.o. | I24: Ing. Petr Navrátil/ Jakub Pánik | J24: ÚRR zkrácení dotace | K24: pochybení ve 3 veřejných zakázkách -porušení zásady transparentnosti, rovného zacházení a diskriminace § 6 ZVZ - požadavek na dispozici s obalovnou; vítězný uchazeč nesplnil zadávací podmínky; čestné prohlášení v nabídce uchazeče nesplňovalo požadavky dle ZVZ | L24: =19504849.28+97231.82 -> 19602081 | M24: =N24+O24 -> 16260597 | N24: 16260597 | O24: 0 | P24: =M24/L24 -> 0.82953424 | Q24: =(M24+M25)/G24 -> 0.20913605 | R24: 13.11.2014 ukončena veřejnosprávní kontrola - námitkám bylo částečně vyhověno (námitky k "obalovnám" byly zamítnuty) 15.4.2015 Oznámení výsledku šetření podnětu ÚOHS-P37/2015/VZ-9450/2015/551/Eno - bez sankce 17.12.2015 finanční ukončení projektu aktuálně probíhá příprava sporu z veřejnoprávní smlouvy 3.10.2016 MFČR rozhodlo ve sporu pro nepeněžité plnění KSÚS a ÚRR ve prospěch KSÚS a přikázalo ÚRR, aby KSÚS písemně informoval o krácení a o důvodech krácení 10.10.2016 ÚRR podala odpor proti rozhodnutí MFČR 24.10.2016 KSÚS zaslala prostřednictvím advokátní kanceláře stanovisko k odporu 15.12.2016 doručeno Oznámení o krácení způsobilých výdajů 5.6.2017 RKK vzala na vědomí rozhodnutí KSÚS o podání návrhu na spor pro 16.163.365,61 Kč (pochybení A1.1, A1.2) a nepodání návrhu na spor pro 97.231,79 Kč (pochybení A1.3). PŘÍPRAVA NÁVRHU NA SPOR Z VEŘEJNOPRÁVNÍ SMLOUVY PRO PENĚŽITÉ PLNĚNÍ | S24: =T24/L24 -> 0.17046576 | T24: =L24-M24 -> 3341483.7
J25: odvod na základě auditu operace | K25: nepřiměřené kvalifikační předpoklady - vzhledem k finanční opravě na základě dřívější kontroly, není finanční oprava za zjištění vyčíslena neponížení požadovaných nákladů o výzisky z prodeje vyfrézovaného materiálu - proběhlo mimo auditované období | L25: 44293.75 | M25: =N25+O25 -> 37649.68 | N25: 0 | O25: 37649.68 | P25: =M25/L25 -> 0.84999983 | R25: 6.12.2016 doručena Zpráva o auditu operace ROPSZ/2016/O/014 ze dne 30.11.2016, auditované prostředky byly ve výši 21.681.118,90 Kč. V auditovaném období nevyčísleny nové finanční opravy. Mimo období zjištěny výzisky neodečtené od způsobilých výdajů ve výši 44.293,75 Kč bez DPH, pro případné vymáhání by muselo být zahájeno daňové řízení. 6.3.2017 vystavil ÚRR výzvu k vrácení 37 649,68 Kč za neodečtené výzisky za prodej vyfrézovaného materiálu a dřevin 9.1.2018 zahájil ÚRR daňové řízení OČEKÁVÁME VYSTAVENÍ PLATEBNÍHO VÝMĚRU
A26: 7 | B26: KSÚS, p.o. | C26: II/221 Modernizace silniční sítě Hroznětín CZ.1.09/3.1.00/67.01068 | D26: doprava | E26: 5.12.2013 - 30.11.2015 | F26: ROP | G26: 4.2942014e+08 | H26: KSÚS, p.o. | I26: Ing. Petr Navrátil/ Jakub Pánik | J26: ÚRR zkrácení dotace | K26: porušení zásady transparentnosti, rovného zacházení a diskriminace § 6 ZVZ - požadavek na dispozici s obalovnou; čestné prohlášení v nabídce uchazeče nesplňovalo požadavky dle ZVZ | L26: 36122816 | M26: =N26+O26 -> 36122816 | N26: 36122816 | O26: 0 | P26: =M26/L26 -> 1 | Q26: =(M26+M27)/G26 -> 0.084906803 | R26: 18.11.2014 ukončena veřejnosprávní kontrola - námitkám bylo částečně vyhověno (námitky k "obalovnám" byly zamítnuty) 15.4.2015 Oznámení výsledku šetření podnětu ÚOHS-P38/2015/VZ-7500/2015/551/Sbe - bez sankce aktuálně probíhá příprava sporu z veřejnoprávní smlouvy 3.10.2016 MFČR rozhodlo ve sporu pro nepeněžité plnění KSÚS a ÚRR ve prospěch KSÚS a přikázalo ÚRR, aby KSÚS písemně informoval o krácení a o důvodech krácení 10.10.2016 ÚRR podala odpor proti rozhodnutí MFČR 24.10.2016 KSÚS zaslala prostřednictvím advokátní kanceláře stanovisko k odporu 15.12.2016 doručeno Oznámení o krácení způsobilých výdajů 22.5.2017 RKK vzala na vědomí rozhodnutí KSÚS o podání návrhu na spor pro 35.285.573,33 Kč (pochybení A1.1) a nepodání návrhu na spor pro 173.153,08 Kč (pochybení A1.3). PŘÍPRAVA NÁVRHU NA SPOR Z VEŘEJNOPRÁVNÍ SMLOUVY PRO PENĚŽITÉ PLNĚNÍ | S26: =T26/L26 -> 0 | T26: =L26-M26 -> 0
J27: odvod na základě auditu operace | K27: bez zjištění | L27: 397500 | M27: =N27+O27 -> 337874.99 | N27: 0 | O27: 337874.99 | P27: =M27/L27 -> 0.84999997 | R27: 24.10.2016 doručena zpráva o auditu operace. V auditovaném období nezjištěny nezp. výdaje. Mimo období zjištěny výzisky neodečtené od zp. výdajů ve výši 397.500,- bez DPH, tedy 480.975 Kč s DPH. Pro případné vymáhání by muselo být zahájeno daňové řízení. 6.3.2017 vystavil ÚRR výzvu k vrácení 337 874,99 Kč za neodečtené výzisky za prodej vyfrézovaného materiálu a dřevin 9.1.2018 zahájil ÚRR daňové řízení OČEKÁVÁME VYSTAVENÍ PLATEBNÍHO VÝMĚRU
A28: 8 | B28: SZŠ a VOŠ Cheb | C28: Společné ošetřovatelské postupy ČR – Bavorsko – reg. č. 87 | D28: školství | E28: 1.1.2009-31.8.2012 | F28: Cíl 3 | G28: 6830164.3 | H28: bfz – vzdělávací akademie, s.r.o. | I28: PaedDr. Vratislav Emler | J28: MMR zkrácení dotace | K28: pochybení v 5 veřejných zakázkách -porušení zásady transparentnosti - nedodržení lhůty pro podání nabídek; porušení zásady rovného zacházení; porušení zásady nediskriminace - nehodnotitelné kritérium; krácení nákladů na drobnou administrativu | L28: 1851077.4 | M28: =N28+O28 -> 3316481.9 | N28: 3316481.9 | O28: 0 | P28: =M28/L28 -> 1.7916495 | Q28: =(M28+M29)/G28 -> 0.49288446 | R28: 12.8.2010 ukončena veřejnosprávní kontrola - námitkám nebylo vyhověno; 11.5.2012 oznámení MMR ČR o provedení korekce; projekt není dosud finančně vypořádán, výše nezpůsobilých výdajů navýšena dle vyúčtování projektu o další výdaje krácené mimo VSK (chybně proplacené výdaje apod.) Pracovní skupina pro finanční postihy se o navýšení nezpůsobilých výdajů dozvěděla až při závěrečném vyúčtování projektu - viz usnesení ZK 211/04/17, řediteli školy byla uložena část korekce k úhradě - viz usnesení RK 503/04/17, očekáváme její úhradu. KONEČNÝ STAV - PROTI KRÁCENÍ JIŽ NENÍ PŘÍPUSNÁ DALŠÍ OBRANA | S28: =T28/L28 -> -0.79164951 | T28: =L28-M28 -> -1465404.5
J29: ÚOHS pokuta | K29: správní delikt - zadavatel stanovil kratší lhůtu pro podání nabídek | L29: 50000 | M29: =N29+O29 -> 50000 | N29: 50000 | O29: 0 | P29: =M29/L29 -> 1 | R29: rozhodnutí o pokutě z 4.4.2012; pokutu ÚOHS uhradil ředitel školy - rozhodnutí škodní komise ze dne 21.5.2012; datum úhrady 20.6.2012 KONEČNÝ STAV - ULOŽENÁ POKUTA JE DEFINITIVNÍ | S29: =T29/L29 -> 0 | T29: =L29-M29 -> 0
A30: 9 | B30: KKN a.s. | C30: Modernizace vybavení a zařízení Karlovarské krajské nemocnice a.s. (ROP I.) CZ.1.09/1.3.00/29.00636 | D30: zdravotnictví | E30: 28.6.2010-27.4.2012 | F30: ROP | G30: 1.2025046e+08 | H30: KKN a.s. | I30: MUDr. Berenika Podzemská do 30.11.2009/ MUDr. Václav Larva | J30: ÚRR zkrácení dotace | K30: pochybení ve 3 veřejných zakázkách - zadavatel nepostupoval na základě doporučení ÚRR a nezrušil rozhodnutí o výběru nejvhodnější nabídky (nabídka uchazeče neobsahovala čestné prohlášení dle ZVZ); zadavatel požadoval složení jistoty ve výši 1 000 000,-- Kč, mohl požadovat 2% předpokládané hodnoty, tj. 560 000,-- Kč; zadavatel nevyloučil uchazeče, který nesplňoval požadavky zadavatele | L30: 8920521.8 | M30: =N30+O30 -> 8920521.8 | N30: 8920521.8 | O30: 0 | P30: =M30/L30 -> 1 | Q30: =(M30+M31+M32+M33)/G30 -> 0.10790178 | R30: ukončený a finančně vypořádaný projekt, ÚRR provedl přesun způsobilých výdajů do nezpůsobilých výdajů ve výši navrhovaného krácení z administrativních kontrol s žádostí o platbu ze dne 21.3.2013 a 12.9.2013; KKN a.s. se domáhala ochrany proti nepřezkoumatelnosti a nesprávnému jednání a postupu ÚRR SZ , a to stížnostmi a žádostmi u MF ČR 26.10.2016 podán spor pro peněžité a nepeněžité plnění, případné další důkazy pro nepeněžité plnění je nutné doložit do 6.12.2016 6.1.2017 doručeno vyjádřená ÚRR ke sporu, 18.1.2017 odeslala KKN repliku OČEKÁVÁME ROZHODNUTÍ MINISTERSTVA FINANCÍ VE VĚCI SPORU PRO PENĚŽITÉ A NEPENĚŽITÉ PLNĚNÍ | S30: =T30/L30 -> 0 | T30: =L30-M30 -> 0
J31: ÚRR odvod za porušení rozp. kázně | K31: Návrh zprávy o auditu z 16.12.2014 - předražené přístroje u 3 veřejných zakázek - stanovena finanční oprava ve výši 4.853.242,40 Kč (část dotace ve výši 85% je 4.125.256,04 Kč); zadavatel nedodržel postup dle ZVZ , když ve zprávě o posouzení a hodnocení nabídek nedostatečně popsala a zdůvodnil hodnocení | L31: 7905397.8 | M31: =N31+O31 -> 3914716.4 | N31: 3914716.4 | O31: 0 | P31: =M31/L31 -> 0.49519537 | R31: zjištění vychází z návrhu Zprávy o auditu operace ze dne 16.12.2014, KKN a.s. odeslala 22.1.2015 k návrhu zprávy své stanovisko, stanovisko bylo KKN a.s. doplněno 26.2.2015; 13.3.2015 KKN a.s obdržela Zprávu o auditu operace č. AO/2014/MO/035 ze dne 11.3.2015 - auditní orgány vypustil zjištění "předražené přístroje" ve výši 4.853.242,40 Kč (část dotace 4.125.256,04 Kč); auditní orgán ponechal zjištění za nedodržení postupu dle ZVZ ve výši 4.447.225,65 Kč, tj ve vztahu k dotaci ve výši 3.780.141,80 Kč; očekáváme zahájení daňového řízení Dne 1.8.2016 doručen platební výměr na částku 3.914.717 Kč Dne 31.8.2016 odeslala KKN odvolání proti platebnímu výměru. V odvolání připouští některá formální pochybení, ale většinu údajných pochybení rozporuje. V odvolání žádá o snížení uložené sankce na 5 či 10 %. dne 3.10.2016 KKN odeslala žádost o prominutí dosud nevyměřeného penále k PV OČEKÁVÁME ROZHODNUTÍ MINISTERSTVA FINANCÍ O ODVOLÁNÍ PROTI PLATEBNÍMU VÝMĚRU A ROZHODNUTÍ POSKYTOVATELE DOTACE VE VĚCI PROMINUTÍ PENÁLE | S31: =T31/L31 -> 0.50480463 | T31: =L31-M31 -> 3990681.4
J32: ÚOHS pokuta | K32: správní delikt - zadavatel nedodržel postup stanovený ZVZ, když nevyloučil z účasti v zadávacím řízení uchazeče, který nesplňoval zadávací podmínky | L32: 100000 | M32: =N32+O32 -> 100000 | N32: 100000 | O32: 0 | P32: =M32/L32 -> 1 | R32: rozhodnutí o pokutě z 10.6.2014; KKN a.s. rozklad nepodávala, KKN pokutu uhradila KONEČNÝ STAV - ULOŽENÁ POKUTA JE DEFINITIVNÍ | S32: =T32/L32 -> 0 | T32: =L32-M32 -> 0
J33: ÚOHS pokuta | K33: správní delikt - zadavatel nedodržel postup stanovený v ZVZ, když požadoval jistotu ve výši 1 000 000,-- Kč | L33: 40000 | M33: =N33+O33 -> 40000 | N33: 40000 | O33: 0 | P33: =M33/L33 -> 1 | R33: rozhodnutí o pokutě z 13.1.2014; KKN a.s. pokutu uhradila KONEČNÝ STAV - ULOŽENÁ POKUTA JE DEFINITIVNÍ | S33: =T33/L33 -> 0 | T33: =L33-M33 -> 0
A34: 10 | B34: Muzeum Sokolov, p.o. KK | C34: Česko – bavorský geopark - zpřístupnění dolu Jeroným v Čisté - vstupní objekt dolu Jeroným CZ.1.09/4.1.00/71.01170 | D34: kultura | E34: 20.4.2010-30.6.2015 | F34: ROP | G34: 13225587 | H34: Muzeum Sokolov, p.o. KK | I34: Ing. Eva Valjentová/ PhDr. Oleg Kalaš / Mgr. Petr Zahradníček | J34: ÚRR zkrácení dotace | K34: porušena zásada transparentnosti při hodnocení - způsob jakým byl vyzván vítězný uchazeč k doplnění prokázání kvalifikace; nedodržení požadovaného způsobu zahájení VŘ + porušení povinnosti zrušit VŘ | L34: 2359075.5 | M34: =N34+O34 -> 2359075.5 | N34: 2359075.5 | O34: 0 | P34: =M34/L34 -> 1 | Q34: =(M34)/G34 -> 0.17837209 | R34: 10.11.2014 ukončena veřejnosprávní kontrola - námitkám nebylo vyhověno 9.4.2015 doručen zápis z administrativní kontroly č.j. : RRSZ 7426/2015 ze dne 8.4.2015 14.4.2015 podáno nesouhlasné stanovisko, 27.5.2015 sdělení ke stanovisku, částečně vyhověno. 14.10.2015 Protokol o kontrole, podány námitky, kterým bylo částečně vyhověno aktuálně probíhá příprava sporu z VPS 3.10.2016 MFČR rozhodlo ve sporu pro nepeněžité plnění Muzea a ÚRR ve prospěch Muzea a přikázalo, aby ÚRR písemně informoval Muzeum o krácení a o důvodech krácení 21.10.2016 byla doručeno výzva k podání stanoviska k odporu ÚRR proti rozhodnutí MFČR 21.11.2016 odesláno stanovisko k odporu 19.12.2016 doručeno Oznámení okrácení způsobilých výdajů projektu 10.1.2017 dotaz MFČR na procesní stanovisko Muzea, 16.1.2017 Muzem souhlasí se zpětvzetím sporu 27.1.2017 doručeno usnesení o zastavení sporu spolu s rozhodnutím o povinnosti ÚRR nahradit Muzeu Sokolov náklady na správní poplatek PŘÍPRAVA NÁVRHU NA SPOR Z VEŘEJNOPRÁVNÍ SMLOUVY PRO PENĚŽITÉ PLNĚNÍ | S34: =T34/L34 -> 0 | T34: =L34-M34 -> 0
J35: pokuta ÚOHS | K35: na ÚOHS předána dokumentace k přezkoumání veřejné zakázky - nebyly shledány důvody pro zahájení správního řízení | L35: 0 | M35: 0 | N35: 0 | O35: 0 | P35: 0 | R35: 30.1.2015 si ÚOHS vyžádal dokumentaci, 9.2.2015 zasláno na ÚOHS stanovisko k podanému podnětu 3.8.2015 Výsledek šetření UOHS - nebyly shledány důvody pro zahájení spor.řízení KONEČNÝ STAV - ŠETŘENÍ ÚOHS BYLO BEZDŮVODNÉ | S35: =T35/L35 -> #DIV/0! | T35: =L35-M35 -> 0
A36: 11 | B36: První české gymnázium v Karlových Varech | C36: Rekonstrukce a dostavba Prvního českého gymnázia v Karlových Varech II. etapa - přístavba západního křídla CZ.1.09/1.3.00/68.01147 | D36: školství | E36: 17.9.2013-28.12.2015 | F36: ROP | G36: 49829552 | H36: APDM, p.o. | I36: v akčním plánu není člen RKK stanoven | J36: ÚRR zkrácení dotace | K36: pochybení ve 2 veřejných zakázkách - zadavatel zveřejnění dodatečných informací dle § 49 odst. 3 ZVZ zveřejnil s identifikačními údaji žadatelů; umělé dělení veřejných zakázek; dále pochybení u VZ Autorský dozor - nevyhlášení VŘ | L36: =9646134.9+203643 -> 9849777.9 | M36: =N36+O36 -> 2351606.4 | N36: 2351606.4 | O36: 0 | P36: =M36/L36 -> 0.23874715 | Q36: =(M36+M37)/G36 -> 0.047213075 | R36: 12.11.2014 ukončena veřejnosprávní kontrola - námitkám bylo částečně vyhověno 8.10.2015 Protokol o kontrole - nové pochybení (nevyhlášení VŘ pro Autorský dozor), podány námitky, které byly zamítnuty; 11/2015 vznešen dotaz na RRSZ, proč rozhodli v jiném projektu (Muzeum Sokolov) ve stejné věci pozitivně a u Gymn.KV negativně, v 5/2016 obdržena odpověď, že nebylo nutné zakázky slučovat, proto zaslána žádost o proplacení chybně krácených prostředků; 16.12.2016 podán spor pro nepeněžité plnění 24.1.2017 doručeno oznámení o krácení způsobilých výdajů 26.1.2017 doručeno usnesení MF o zastavení řízení o sporu PŘÍPRAVA NÁVRHU NA SPOR Z VEŘEJNOPRÁVNÍ SMLOUVY PRO PENĚŽITÉ PLNĚNÍ | S36: =T36/L36 -> 0.76125285 | T36: =L36-M36 -> 7498171.5
J37: pokuta ÚOHS | K37: nedodržení lhůty 15 dnů pro uveřejnění dodatku smlouvy o dílo | L37: 1000 | M37: 1000 | N37: 1000 | O37: 0 | P37: =M37/L37 -> 1 | R37: ÚOHS si dne 13.3.2015 vyžádal zaslání písemného vyjádření k podnětu a zaslání dokumentace k VZ; 18.3.2015 na ÚOHS odesláno vyjádření a dokumentace k VZ; 24.4.2015 ÚOHS oznámení o zahájení správního řízení čj: ÚOHS-S245/2015/VZ-10117/2015/543/Jwe 29.4.2015 odesláno stanovisko na ÚOHS 5.6.2015 udělena pokuta ve výši 1.000 Kč KONEČNÝ STAV - UDĚLENÁ POKUTA JE DEFINITIVNÍ | S37: =T37/L37 -> 0 | T37: =L37-M37 -> 0
J38: odvod na základě auditu operace | K38: neoprávněné slučování zakázek neprodloužení lhůty pro předkládání nabídek po doplnění informací k zadávací dokumentaci uzavření dodatku ke smlouvě, kterým byla smlouva podstatně změněna | L38: =7969147.37*0.85 -> 6773775.3 | M38: =N38+O38 -> 7605521.9 | N38: 7605521.9 | O38: 0 | P38: =M38/L38 -> 1.1227892 | Q38: =M38/G36 -> 0.15263075 | R38: 20.12.2016 doručena Zpráva o auditu operace ROPSZ/2016/O/027 ze dne 19.12.2016, auditované prostředky byly ve výši 38.554.947,51 Kč. Dále lze očekávat v případě zahájení DŘ, že jeho předmětem bude i plnění z VZ, které bylo uhrazeno mimo auditované období. Celkem by pak činily nezpůsobilé výdaje 8.947.672,96 Kč (85 % podíl dotace 7.605.522,02 Kč). 29.12.2016 odesláno stanovisko k návrhu zprávy o AO 6.1.2017 doručena zpráva o auditu operace 18.1.2017 doručena výzva k vrácení prostředků 23.1.2017 RKK rozhodla o neuhrazení výzvy 25.1.2018 zahájil ÚRR daňové řízení OČEKÁVÁME VYSTAVENÍ PLATEBNÍHO VÝMĚRU
A39: 12 | B39: Galerie 4 - p.o. KK | C39: Art centrum Galerie 4 - rekonstrukce Špýcharu, Františkánské náměstí 30/1, Cheb CZ.1.09/4.1.00/71.01161 | D39: kultura | E39: 21.1.2014-16.12.2015 (odstoupeno od smlouvy) | F39: ROP | G39: 26500000 | H39: nejedná se o projekt | I39: PhDr. Oleg Kalaš | J39: ÚRR vrácení dotace/ odstoupení od smlouvy | K39: z uhrazených způsobilých výdajů byly odečteny položky nesoucí název „oprava“ s odůvodněním, že výdaje na opravy nejsou dle pravidel ROP SZ způsobilými | L39: 538872.96 | M39: =N39+O39 -> 538872.96 | N39: 538872.96 | O39: 0 | P39: =M39/L39 -> 1 | Q39: =M39/G39 -> 0.020334829 | R39: 10.11.2014 ukončena veřejnosprávní kontrola - námitkám nebylo vyhověno; usnesením č. ZKK 25/02/15 z 12.2.2015 bylo schváleno podání návrhu na ukončení smlouvy o dotaci a dokončení celé akce v režimu investiční akce plně hrazené Karlovarským krajem ve výši již poskytnutých finančních prostředků (23.661.620 Kč) Odstoupení od projektu bylo schváleno RKK 1352/12/14. Vratka dotace uhrazena dne 20.2.2015 na účet poskytovatele. Od projektu bylo odstoupeno, nelze se jakkoliv bránit. KONEČNÝ STAV - ODSTOUPENO OD PROJEKTU | S39: =T39/L39 -> 0 | T39: =L39-M39 -> 0
A40: 13 | B40: KSÚS, p.o. | C40: III/21047 Modernizace silnice Nejdek - Pernink CZ.1.09/3.1.00/67.01111 | D40: doprava | E40: 13.12.2013-27.3.2015 | F40: ROP | G40: 75842842 | H40: KSÚS, p.o. | I40: projekt není zaznamenán v AP | J40: ÚRR zkrácení dotace | K40: dělení zakázek - zadavatel nebyl oprávněn provést VZ jako VZMR; netransparentnost - informace v žádosti o dotaci nejsou , resp. v 1.MZ nejsou v souladu s předloženými dokumenty k výběr.řízení; zadavatel měl vyřadit nabídku, která neměla čestné prohlášení uchazeče dle ZVZ | L40: 101050.13 | M40: =N40+O40 -> 6582.4 | N40: 6582.4 | O40: 0 | P40: =M40/L40 -> 0.065139946 | Q40: =(M40+M41)/G40 -> 0.0035049052 | R40: 7.11.2014 ukončena veřejnosprávní kontrola - námitkám bylo částečně vyhověno celkové navržené krácení 55.230,45 Kč (částka z dotace), ale příjemce 24.684 Kč nečerpal a u druhého pochybení bylo zkráceno pouze 6.582,40 Kč, zbytek příjemce sám převedl do nezpůsobilých výdajů. 11.4.2016 zahájen spor pro nepeněžité plnění 2.11.2016 rozhodnutí MFČR ve sporu pro nepeněžité plnění ve prospěch KSÚS 15.11.2016 ÚRR naplnil rozhodnutí MFČR a zaslal KSÚS oznámení a odůvodnění provedených krácení 22.5.2017 RKK vzala na vědomí rozhodnutí KSÚS o nepodání návrhu na spor pro 6.582,40 Kč KONEČNÝ STAV - SPOR Z VPS NEBUDE PODÁN, RKK ULOŽILA KSÚS VYPOŘÁDAT ŠKODU V SOULADU S PLATNOU LEGISLATIVOU | S40: =T40/L40 -> 0.93486005 | T40: =L40-M40 -> 94467.73
J41: ÚRR odvod za porušení rozp. kázně | K41: Zpráva z Auditu operace MF ČR - jiný peněžní příjem - nejedná se o VZ; doporučení z AO pro ŘO na prověření "jiného peněžního příjmu" - prozatím daňové řízení nezahájeno | L41: 259239.57 | M41: 259239.57 | N41: 0 | O41: 259239.57 | P41: =M41/L41 -> 1 | R41: 26.7.2016 doručena KSUS Zpráva o auditu operace - zjištění jiný peněžní příjem - prodej vyfrézovaného asfaltu - pro AO bez finanční opravy (nespadá do audit.období), avšak výzva ŘO o prošetření v dalších etapách; prozatím šetření ani daňové řízení nezahájeno 6.3.2017 výzva k vrácení dotace v celkové výši 259.239,57 Kč za projekt 9.1.2018 zahájil ÚRR daňové řízení OČEKÁVÁME VYSTAVENÍ PLATEBNÍHO VÝMĚRU
A42: 14 | B42: KSÚS, p.o. | C42: Odstraňování slabých míst na silničních sítí Karlovarského kraje CZ.1.09/3.1.00/67.01129 | D42: doprava | E42: 18.12.2013-27.3.2015 | F42: ROP | G42: 1.1467565e+08 | H42: KSÚS, p.o. | I42: Ing. Petr Navrátil/ Jakub Pánik | J42: ÚRR zkrácení dotace | K42: výzva k podání nabídky neobsahovala povinnou publicitu; zadavatel nepožadoval ve výzvě skutečnosti dle Pokynů RR SZ - předložení výpisu z OR a prokázání odbornosti VZ - "Modernizace mostu ev.č.210-015 Mnichov" Zadavatel uzavřel Dodatek č. 2 ke smlouvě o dílo (prodloužení lhůty pro dokončení) v rozporu s §82 odst.7 zákona č 137/2006 sb ZVZ; VZ - "Modernizace mostu ev.č.210-004 Klášter Teplá" - uzavřená smlouva o dílo není v souladu se zadávací dokumentací -uchazeč uvedl záruční lhůty v rozporu s požadavky zadavatele VZ na autorský dozor - umělé dělení zakázek | L42: 3378744.6 | M42: 872179.28 | N42: 872179.28 | O42: 0 | P42: =M42/L42 -> 0.25813709 | Q42: =(M42:M44)/G42 -> 0.0076056185 | R42: 14.11.2014 ukončena veřejnosprávní kontrola - námitkám bylo částečně vyhověno 30.3.2015 doručen Protokol o kontrole č. RRSZ 2588/2015; 10.4.2015 odeslány námitky proti kontrolním zjištěním; 06.05.2015 doručeno vyřízení námitek č. RRSZ 10264/2015 - částečně vyhověno; 20.4.2015 zahájen audit operace 17.8.2015 Protokol RRSZ 17522/2015 11.4.2016 zahájen spor pro nepeněžité plnění 2.11.2016 rozhodnutí MFČR ve sporu pro nepeněžité plnění ve prospěch KSÚS 15.11.2016 ÚRR naplnil rozhodnutí MFČR a zaslal KSÚS oznámení a odůvodnění provedených krácení 24.7.2017 vzala na vědomí rozhodnutí KSÚS o podání návrhu na spor pro 872.179,28 Kč. PŘÍPRAVA NÁVRHU NA SPOR Z VEŘEJNOPRÁVNÍ SMLOUVY PRO PENĚŽITÉ PLNĚNÍ | S42: =T42/L42 -> 0.74186291 | T42: =L42-M42 -> 2506565.3
J43: ÚOHS pokuta | K43: VZ - "Modernizace mostu ev.č.210-015 Mnichov" | L43: 0 | M43: 0 | N43: 0 | O43: 0 | P43: 0 | R43: 6.10.2015 zastaveno správní řízení ÚOHS - nebyly zjištěny důvody pro uložení sankce KONEČNÝ STAV - ŠETŘENÍ ÚOHS BYLO BEZDŮVODNÉ | S43: =T43/L43 -> #DIV/0! | T43: =L43-M43 -> 0
J44: ÚRR odvod za porušení rozp. kázně | K44: Zpráva z Auditu operace MF ČR - jiný peněžní příjem - nejedná se o VZ; doporučení z AO pro ŘO na prověření "jiného peněžního příjmu" - prozatím daňové řízení nezahájeno | L44: 225882.28 | M44: =N44+O44 -> 186679.77 | N44: 0 | O44: 186679.77 | P44: 0 | R44: 20.10.2015 zjištění jiný peněžní příjem - prodej vyfrézovaného asfaltu a dřevní hmoty - pro AO bez finanční opravy (nespadá do audit.období), avšak výzva ŘO o prošetření v dalších etapách; prozatím šetření ani daňové řízení nezahájeno 6.3.2017 výzva k vrácení dotace v celkové výši 186.679,77 Kč za projekt 9.1.2018 zahájil ÚRR daňové řízení OČEKÁVÁME VYSTAVENÍ PLATEBNÍHO VÝMĚRU | S44: =T44/L44 -> 0.17355283 | T44: =L44-M44 -> 39202.51
A45: 15 | B45: KSÚS, p.o. | C45: Rozvoj dopravní infrastruktury silnic II. a III. třídy v Karlovarském kraji - III.etapa CZ.1.09/3.1.00/67.01128 | D45: doprava | E45: 18.12.2013-27.3.2015 | F45: ROP | G45: 97211813 | H45: KSÚS, p.o. | I45: Ing. Petr Navrátil/ Jakub Pánik | J45: ÚRR zkrácení dotace | K45: pochybení ve 4 veřejných zakázkách -zadavatel obdržel neporovnatelné nabídky a nevyřadil nabídky uchazečů s nulovou nabídkovou cenou; vítězný uchazeč ve své nabídce neuvedl připomínky k návrhu smlouvy (bylo součástí výzvy); zadavatel nepožadoval ve výzvě skutečnosti dle Pokynů RR SZ - předložení výpisu z OR a prokázání odbornosti; čestné prohlášení uchazeče nebylo v souladu s ZVZ; 2 stejná zjištění: zadavatel nesečetl předpokládané hodnoty spolu souvisejících dodávek či služeb - autorský dozor u více VŘ; zadavatel nevyhlásil VŘ u jedné zakázky | L45: 1372882.5 | M45: =N45+O45 -> 682903.82 | N45: 682903.82 | O45: 0 | P45: =M45/L45 -> 0.49742336 | Q45: =(M45+M46)/G45 -> 0.014754757 | R45: 14.11.2014 ukončena veřejnosprávní kontrola - námitkám bylo částečně vyhověno; 16.2.2015 Protokol z VSK 15.4.2015 Výsledek šetření podnětu ÚOHS-P57/2015/VZ-4918/2015/552/MSch (Jindřichovice) - bez sankce ÚOHS-P56/2015/VZ-6679/2015/552/MSch (Chodov) - bez sankce 25.5.2015 doručen protokol o kontrole č.j.: RRSZ 11564/2015, námitky nepodány z důvodu potřeby proplacení ŽoP 11.4.2016 zahájen spor pro nepeněžité plnění; 2.11.2016 rozhodnutí MFČR ve sporu pro nepeněžité plnění ve prospěch KSÚS 15.11.2016 ÚRR naplnil rozhodnutí MFČR a zaslal KSÚS oznámení a odůvodnění provedených krácení 24.7.2017 vzala na vědomí rozhodnutí KSÚS o podání návrhu na spor pro 377.246,20 Kč (pochybení D) a nepodání návrhu na spor pro 305.657,63 Kč (pochybení A1, A2, A3, F, G). PŘÍPRAVA NÁVRHU NA SPOR Z VEŘEJNOPRÁVNÍ SMLOUVY PRO PENĚŽITÉ PLNĚNÍ | S45: =T45/L45 -> 0.50257664 | T45: =L45-M45 -> 689978.68
J46: ÚRR odvod za porušení rozp. kázně | K46: KSÚS vytvořila prostřednictvím projektu jiný peněžní příjem ve výši 1.069.688,- Kč, které snižují způsobilé výdaje projektu | L46: 910378.05 | M46: =N46+O46 -> 751432.9 | N46: 0 | O46: 751432.9 | P46: 1 | R46: 16.4.2015 doručen Návrh zprávy o auditu; 26.6.2015 zasláno na MF ČR stanovisko k návrhu zprávy 1.9.2015 Zpráva z AO - jiný peněžní příjem potvrzen šetření ani daňové řízení nebylo prozatím zahájeno 6.3.2017 výzva k vrácení dotace v celkové výši 751.432,90 Kč za projekt 9.1.2018 zahájil ÚRR daňové řízení OČEKÁVÁME VYSTAVENÍ PLATEBNÍHO VÝMĚRU | S46: =T46/L46 -> 0.17459247 | T46: =L46-M46 -> 158945.15
A47: 16 | B47: KKN a.s. | C47: Modernizace a vybavení přístrojového vybavení Pavilonu akutní medicíny a centrálního vstupu KKN (ROP III. nahrazuje ROP II.) CZ.1.09/1.3.00/69.01137 | D47: zdravotnictví | E47: 14.3.2013-28.7.2015 | F47: ROP | G47: 126000000 | H47: KKN a.s. | I47: v akčním plánu není člen RKK stanoven | J47: ÚRR zkrácení dotace | K47: zadavatel neprodloužil lhůtu pro podání nabídek vzhledem k doplnění zadávací dokumentace neúplný požadavek na prokázání kvalifikačních předpokladů - požadavky na prokázání referencí porušení zásady transparentnosti při uveřejňování dokumentů, neoprávněné dělení zakázky, zákazu diskriminace a rovného zacházení s uchazeči součásti nabídky založeny mimo spis nabídky | L47: 6710623.2 | M47: =N47+O47 -> 2486852.6 | N47: 2486852.6 | O47: 0 | P47: =M47/L47 -> 0.37058446 | Q47: =(M47+M48+M49)/G47 -> 0.032711806 | R47: 9/2014 ukončena veřejnosprávní kontrola - protokol č. RRSZ 17123/2014; 2.6.2015 doručena Zpráva o auditu operace č. ROPSZ/2015/O/020 ze dne 19.5.2015, potvrzen závěru z VSK, vč. výše fin. postihu, ve zprávě je uveden nulový finanční postih; veřejnosprávní kontrola - protokol o kontrole doručen 5.2.2015, KKN a.s. podala 20.2.2015 námitky proti zjištění v protokolu, 19.3.2015 doručeno Vyřízení námitek - námitky zamítnuty; 23.3.2016 Doručen Protokol o kontrole č.j. RRSZ 3700/2016; 6.4.2016 KKN, a.s. podala proti Protokolu námitky 5/2016 vyřízení námitek - částečně vyhověno 1.2.2017 ÚRR dobrovolně odeslal KKN Oznámení o krácení způsobilých výdajů PROBÍHÁ PŘÍPRAVA NA SPOR Z VPS | S47: =T47/L47 -> 0.62941554 | T47: =L47-M47 -> 4223770.5
J48: ÚRR zkrácení dotace | K48: V rámci kontroly 3E byly dotačním orgánem stanoveny ex-post maximální pořizovací ceny jednotlivých přístrojů (viz Příloha 24). Např. u části 10 - Monitorovací systémy zadavatel z cenového průzkumu u dodavatelů určil předpokládanou hodnotu 23 mil. Kč bez DPH (viz Příloha 25); vysoutěžená nejnižší cena byla 9,980 mil. Kč bez DPH; expert ÚRR tuto cenu ještě snížil na 9,4 mil. Kč bez DPH. | L48: 1604834.9 | M48: =N48+O48 -> 1604834.9 | N48: 1604834.9 | O48: 0 | P48: =M48/L48 -> 1 | R48: 30. 9. 2016 skupině pro řešení finančních postihů předložen souhrn nezpůsobilých nákladů, vyúčtování projektu dosud nepředloženo PROBÍHÁ PŘÍPRAVA NA SPOR Z VPS
J49: ÚOHS | K49: nedodržení zásad zákazu diskriminace při zadávání části 1 "Lůžka a anesteziologie" a části 2 "Ohřevy" (u obou částí došlo k neoprávněné sloučení předmětů zakázek, neboť předmět plnění umožňoval zakázku rozdělit na několik menších) | L49: 30000 | M49: =N49+O49 -> 30000 | N49: 30000 | O49: 0 | P49: =M49/L49 -> 1 | R49: 26.9.2016 doručeno oznámení o zahájení správního řízení ÚOHS-S0625/2016/VZ-39109/2016/542/JVo za VZ část 1 "Lůžka a anesteziologie" a část 2 "Ohřevy" výši možných sankcí nelze předvídat 6.10.2016 odeslala KKN stanovisko k zahájenému správnímu řízení 16.11.2016 doručeno rozhodnutí o správní pokutě ve výši 30.000,- 1.12.2016 odeslán rozklad 9.1.2017 sdělení ÚOHS o tom, že rozklad nebyl podán, neboť podání nebylo elektronicky podepsáno 13.1.2017 doručena informace, že pokuta byla v termínu uhrazena 18.1.2017 odeslány námitky proti postupu ÚOHS 3. 2. 2017 bylo doručeno usnesení ÚOHS podle kterého úřad podanou námitku proti nepřijetí rozkladu vyhodnotil jako žádost a dále jako stížnost. Následně úřad žádost označil jako zjevně právně nepřípustnou a řízení zastavil. Stížnost předal příslušným osobám k vyřízení. 17.2.2017 KKN podala proti usnesení o nepřípustnosti žádosti a zastavení řízení rozklad 9.3.2017 zamítl předseda ÚOHS stížnost proti postupu ÚOHS 9.3.2017 KKN podala žalobu na ochranu před nezákoným zásahem OČEKÁVÁME ROZHODNUTÍ O ROZKLADU, BUDE PODÁNA ŽALOBA NA OCHRANU PŘED NEOPRÁVNĚNÝM ZÁSAHEM ÚOHS
A50: 17 | B50: ISŠ Cheb | C50: Houslařská škola CZ. 04.1.03/3.1.15.2/0194 | D50: školství | E50: 8.12.2006 -31.10.2007 | F50: ESF | G50: 6993444 | I50: projekt nebyl v Akčním plánu | J50: FÚ odvod | K50: zadavatel neprovedl žádná výběrová řízení, případně provedení výběrového řízení nebyl schopen prokázat, část dokladů nebyla uznatelná, neboť se nejednalo o výdaje související s projektem, nebo předložené doklady neměly potřebné náležitosti, či nebyly doklady k vykázaným výdajům vůbec doloženy | L50: 6975444 | M50: 6975444 | N50: 6975444 | O50: 0 | P50: =M50/L50 -> 1 | Q50: =(M50+M51+M52+M53)/G50 -> 2.0646686 | R50: FÚ odvod - datum úhrady 7/2013, FÚ penále - datum úhrady 7/2013, FÚ úrok z posečkání za odvod a penále - datum úhrady 9/2013, FÚ odvod - doplatek - datum úhrady 8/2013 KONEČNÝ STAV - PROTI KRÁCENÍ NEJSOU JIŽ ŽÁDNÉ MOŽNOSTI OBRANY 18.1.2017 doručeno usnesení o zamítnutí odvolání ve věci rozsudku nad osobami, které se dopustili podvodu při realizaci tohoto a dalších projektů. Kromě trestů odnětí svobody jim byl uložen trest náhrady škody. Vzhledem k tomu, že výše soudem uznané náhrady v trestním řízení je podle ISŠ Cheb nižší, než reálná způsobená škoda, odkázal Vrchní soud školu na občanskoprávní spor. Ředitel školy Mgr. Bc. Mašek nyní vede konzultace s právní kanceláří ohledně zvažovaného občanskoprávní řízení. PROBÍHAJÍ KONZULTACE MEZI ŘEDITELEM ŠKOLY A PRÁVNÍ KANCELÁŘÍ O ZAHÁJENÍ OBČANSKOPRÁVNÍHO SPORU | S50: =T50/L50 -> 0 | T50: =L50-M50 -> 0
J51: FÚ penále | L51: 6993444 | M51: 6993444 | N51: 6993444 | O51: 0 | P51: =M51/L51 -> 1 | S51: =T51/L51 -> 0 | T51: =L51-M51 -> 0
J52: FÚ úrok z posečkání za odvod a penále | L52: 452256 | M52: =N52+O52 -> 452256 | N52: 452256 | O52: 0 | P52: =M52/L52 -> 1 | S52: =T52/L52 -> 0 | T52: =L52-M52 -> 0
J53: FÚ odvod - doplatek | L53: 18000 | M53: =N53+O53 -> 18000 | N53: 18000 | O53: 0 | P53: =M53/L53 -> 1 | S53: =T53/L53 -> 0 | T53: =L53-M53 -> 0
A54: 18 | B54: ISŠ Cheb | C54: ISŠ Cheb - Centrum dřevozpracujících oborů CZ.1.09/1.3.00/78.01260 | D54: školství | E54: 1.8.2014 - 30.10.2015 | F54: ROP | G54: 30250000 | H54: REDI-regionalistika, ekologie, Developing. Investice, spol. s r.o. | I54: JUDr. Václav Sloup / Ing. Edmund Janisch | J54: ÚRR zkrácení dotace | K54: zadavatel nedodržel zásadu transparentnosti - nedoložil návrh smlouvy o dílo vítězného uchazeče, která má být součástí nabídky, dále zadavatel nepožadoval prohlášení o kvalifikačních předpokladech všech jednatelů nabízející společnosti, dále zadavatel nedodržel zásadu Transparentnosti - není zřejmý postup hodnocení dle bodového hodnocení, ke kontrole byly předloženy dvě rozhodnutí o výběru nejvhodnější nabídky s různou datací | L54: 1127855.3 | M54: =N54+O54 -> 1010036.9 | N54: =139888.21+870022.84+125.84 -> 1010036.9 | O54: 0 | P54: =M54/L54 -> 0.89553763 | Q54: =M54/G54 -> 0.033389649 | R54: 7/2014 ukončena VSK, podány námitky, v 8/2015 vydán Dodatek k protokolu o kontrole RRSZ 14703/2015 - námitkám částečně vyhověno, bude provedena korekce. Po provedení celkové korekce je možné podat spor z VPS. 1/2016 ukončena VSK, v protokolu 1376/2016 stanovena korekce dle závěrečného vyúčtování VZ na stavební práce nedočerpána v plné výši; dne 19.12.2016 podán spor pro nepeněžité plnění 25.1.2017 doručen příkaz MFČR, podle kterého musí ÚRR splnit povinosti ze smlouvy o dotaci (úspěch sporu) 24.1.2017 odeslalo Oznámení o krácení dotace, čímž splnilo předmět ustanovení, které bylo předmětem sporu 13.2.2017 odeslala škola zpětvzetí návrhu na spor za předpokladu, že ji budou uhrazeny náklady na správní poplatek 22.2.2017 MFČR zastavilo řízení o sporu a rozhodlo o povinnosti ÚRR uhradit Muzeu Sokolov náklady na správní poplatek PŘÍPRAVA NÁVRHU NA SPOR Z VEŘEJNOPRÁVNÍ SMLOUVY PRO PENĚŽITÉ PLNĚNÍ | S54: =T54/L54 -> 0.10446237 | T54: =L54-M54 -> 117818.44
A55: 19 | B55: KKN a.s. | C55: Obnova přístrojového vybavení oddělení onkologie a radioterapie v nemocnici Cheb - lineární urychlovač CZ.1.09/1.3.00/87.01386 | D55: zdravotnictví | E55: před podpisem dotační smlouvy | F55: ROP | G55: 98373415 | H55: KKN a.s. | I55: v akčním plánu není člen RKK stanoven | J55: ÚRR zkrácení dotace | K55: části nabídky doloženy v cizím jazyce - pochybení při otevírání obálek, navrhovaná finanční oprava odkazuje na pochybení při hodnocení, k pochybení došlo však při otevírání obálek | L55: 25434805 | M55: 0 | N55: 0 | O55: =M55 -> 0 | P55: =M55/L55 -> 0 | Q55: =M55/G55 -> 0 | R55: Stanovisko ÚRR č. RRSZ 17300/2015 ze dne 6.8.2015, dne 19.8.2015 podány Námitky proti stanovisku 9.9.2015 podepsána Smlouva o dotaci v původní výši, neproveden přesun způsobilých výdajů do nezpůsobilých Projekt finančně ukončen. Jedná se o konečnou výši finančního postihu dle aktuálně známých a předložených informací pracovní skupině. V současné době již další kroky obrany nebudou uplatňovány. KONEČNÝ STAV - BEZ KRÁCENÍ | S55: =T55/L55 -> 1 | T55: =L55-M55 -> 25434805
J56: audit operace | K56: bez zjištění | L56: 0 | M56: 0 | N56: 0 | O56: 0 | P56: 0 | R56: 10.2.2017 doručena zpráva o auditu operace, auditní orgány zkontroloval výdaje ve výši 98.302.215 Kč a neidentifikoval žádné nezpůsobilé výdaje KONEČNÝ STAV - BEZ ZJIŠTĚNÍ
A57: 20 | B57: Muzeum Sokolov, p.o. KK | C57: Vybudování zázemí pro vstup do Štoly č. 1 v Jáchymově CZ.1.09/4.1.00/83.01257 | D57: kultura | E57: 1.3.2015 - 30.10.2015 | F57: ROP | G57: 18098660 | H57: Olivius s.r.o. | I57: v akčním plánu není člen RKK stanoven | J57: ÚRR zkrácení dotace | K57: VZ zajištění poradenských služeb - dokumentace neobsahuje informaci, kdy a jak byli osloveni uchazeči; VZ projektová dokumentace - pochybení při hodnocení nabídek, v protokolu o hodnocení uvedeno 7 členů komise, podepsáno 6 členů; u dalších 2 VZ - umělé dělení zakázek | L57: 172490.5 | M57: 108641.22 | N57: 108641.22 | O57: 0 | P57: =M57/L57 -> 0.62983886 | Q57: =(M57+M58)/G57 -> 0.0060027216 | R57: 4.9.2015 Protokol o kontrole - navržena finanční opravy, 18.9.2015 podány Námitky proti protokolu, 14.10.2015 námitkám částečně vyhověno 8.12.2015 Protokol o kontrole - navržena finanční oprava další 2 VZ, 18.1.2016 vyřízení námitek - vyhověno v plném rozsahu, nové zjištění: přečerpání položky - pravděpodobně chyba administrátora (příjemce bude po administrátorovi vymáhat), námitky zamítnuty, 15.2.2016 projekt finančně ukončen dne 27.1.2017 ÚRR dobrovolně odeslal Oznámení o krácení způsobilých výdajů; při závěřečném vyúčtování projektu pracovní skupina provedla přepočet krácení způsobilých výdajů dle zaslaného oznámení z ÚRR, původní pochybení ve výši 554.433,10 Kč za veřejnou zakázku se vztahovalo k projektu pouze částečně, a to jen ve výši 108.641,22 Kč PROBÍHÁ PŘÍPRAVA NA SPOR Z VPS | S57: =T57/L57 -> 0.37016114 | T57: =L57-M57 -> 63849.28
J58: ÚRR odvod za porušení rozp. Kázně | K58: pochybení při hodnocení nabídek, v protokolu o hodnocení uvedeno 7 členů komise, podepsáno 6 členů | L58: 72625.27 | M58: =O58 -> 0 | N58: 0 | O58: 0 | P58: =M58/L58 -> 0 | R58: Dle Protokolu o kontrole RRSZ 24348/2015 chybně vyplacena II.etapa projektu, proto bude zahájeno daňové řízení (na předchozí část shodného pochybení provedena korekce) - v rámci vyřízení námitek k protokolu vyhověno v plném rozsahu KONEČNÝ STAV - BEZ ZJIŠTĚNÍ | S58: =T58/L58 -> 1 | T58: =L58-M58 -> 72625.27
A59: 21 | B59: ISŠ Cheb | C59: Modernizace strojů a zařízení školních dílen pro kvalitní výuku CZ.1.09/1.3.00/68.01143 | D59: školství | E59: 2.1.2012 - 29.10.2015 | F59: ROP | G59: 38841252 | H59: Ing. Josef Vacek - fyzická osoba podnikatelská - administrace projektu | I59: v akčním plánu není člen RKK stanoven | J59: ÚRR zkrácení dotace | K59: Pochybení v 9 VZ, kde zadavatel nedodržel základní pravidla zadávání VZ - požadavek na prokázání zkušeností předložením údajů o 1 zakázce (diskriminační kritérium), zkrácení lhůty pro podání nabídek, rozeslání hromadných e-mailů, změna zadávacích podmínek, umělé dělení zakázek - finanční oprava od 2 % - 25 %. | L59: 638862.01 | M59: =N59+O59 -> 588414.29 | N59: 588414.29 | O59: 0 | P59: =M59/L59 -> 0.92103502 | Q59: =M59/G59 -> 0.01514921 | R59: 24.10.2014 Protokol RRSZ 22527/2014, 22.3.2015 Kontrola RRSZ 6003/2015, 22.4.2015 Stanoviska RRSZ 9238/2015 a RRSZ 9241/2015. Nyní probíhá administrace závěrečné MZ a ŽoP - očekáváme Protokol z VSK se ŽoP. 23.10.2015 Protokol RRSZ 22033/2015 - podány námitky 4.12.2015 Dodatek k protokolu - námitkám částečně vyhověno schváleno vyúčtování projektu ZKK 27.1.2017 ÚRR dobrovolně odeslal Oznámení o krácení způsobilých výdajů PŘÍPRAVA NÁVRHU NA SPOR Z VEŘEJNOPRÁVNÍ SMLOUVY PRO PENĚŽITÉ PLNĚNÍ | S59: =T59/L59 -> 0.078964979 | T59: =L59-M59 -> 50447.725
A60: 22 | B60: Zdravotnická záchranná služba KK, p.o. | C60: Zvýšení akceschopnosti zdravotnické záchranné služby Karlovarského kraje CZ.1.06/3.4.00/23.0929 | D60: zdravotnictví | E60: 1.10.2014-31.10.2015 | F60: IOP | G60: 79966739 | H60: Olivius s.r.o. | I60: Bc. Miloslav Čermák/ Jakub Pánik | J60: CRR ČR zkrácení dotace | K60: Příjemce si v rámci ŽoP nárokoval v rámci VŘ 004 Dotační management projektu 10 % ceny, kterou dle Smlouvy o poskytování služeb měla být fakturována až po doručení kladného výsledku administrativní kontroly k závěrečné žádosti o platbu; korekce za časově nezpůsobilou část plnění, která nebyla do času vystavení faktury realizována (10 % částky); Korekce za věcně nezpůsobilý výdaj na registraci vozidel | L60: 46844.265 | M60: 46844.265 | N60: 46844.27 | O60: 0 | P60: =M60/L60 -> 1 | Q60: =M60/G60 -> 0.00058579686 | R60: CRR ČR dokončena administrativní kontrola Žádosti o platbu - 1.2.2016 Zápis z fyzické kontroly, příjemce s korekcí souhlasí, část korekce vymáhá po administrátorovi dotace (Olivius, s.r.o.) Jedná se o konečnou výši finančního postihu dle aktuálně známých a předložených informací pracovní skupině. V současné době již další kroky obrany nebudou uplatňovány. 11/2016 vymožena škoda ve výši 20.779,90 Kč způsobená firmou Olivius, o.s. Zbylou část korekce uhradila ZZS KK ze svého rozpočtu. KONEČNÝ STAV - PROTI KRÁCENÍ SE JIŽ NELZE BRÁNIT | S60: =T60/L60 -> 0 | T60: =L60-M60 -> 0
A61: 23 | B61: Gymnázium a obchodní akademie Mariánské Lázně | C61: Výzva č. 56 - GOAML CZ.1.07/1.1.00/56.0586 | D61: školství | E61: 1.7.2015 - 30.11.2015 | F61: OP VK | G61: 832307 | H61: GOAML, p.o. | I61: v akčním plánu není člen RKK stanoven | J61: MŠMT zkrácení dotace | K61: Zakázka byla zadána, aniž by bylo výběrové/zadávací řízení zahájeno požadovaným způsobem dle ZP nebo ZVZ, kontrolní skupina stanovila NV ve výši 100% částky dotace použité na financování nevyhlášené veřejné zakázky, tj. 262 855,24 Kč | L61: 262855.24 | M61: 262855.24 | N61: 262855.24 | O61: 0 | P61: =M61/L61 -> 1 | Q61: =M61/G61 -> 0.31581525 | R61: Dne 21.3.2016 obdrželo Gymnázium a obchodní akademie Mariánské Lázně Protokol o výsledku veřejnosprávní kontroly od MŠMT. Proti protokolu podány námitky, námitkám nevyhověno - potvrzena korekce dotace. 30.6.2016 dorazila výzva k navrácení dotace, splatnost je 30 dnů ode dne doručení, dne 19.7.2016 fin.prostř. odeslány škole k úhradě, jsou analyzovány možnosti dalšího postupu Dne 14.7.2016 škola provedla vratku dotace dle výzvy; Jedná se o konečnou výši finančního postihu dle aktuálně známých a předložených informací pracovní skupině. V současné době již další kroky obrany nebudou uplatňovány. KONEČNÝ STAV - VZHLEDEM K CHARAKTERU POCHYBENÍ ROZHODLA RKK O NEUPLATNĚNÍ OBRANY
A62: 24 | B62: KKN a.s. | C62: Zdravotnické přístroje KKN CZ.1.09/1.3.00/87.01387 | D62: zdravotnictví | E62: ukončení projektu do 31.10.2015 | F62: ROP | G62: 79806000 | H62: KKN a.s. | I62: v akčním plánu není člen RKK stanoven | J62: ÚRR zkrácení dotace | K62: porušení zásady transparentnosti, zákazu diskriminace a rovného zacházení s uchazeči v důsledku nezákonného slučování veřejných zakázek, navržena korekce o částku 7 641 510,87 Kč navržená krácení na základě kontroly 3E chybějící český překlad certifikátu servisního technika nedostatečně vymezený předmět plnění | L62: 7641510.9 | M62: =N62+O62 -> 3476353.8 | N62: 3476353.8 | O62: 0 | P62: =M62/L62 -> 0.45493016 | Q62: =(M62+M63+M64+M65+M66+M67)/G62 -> 0.049132698 | R62: 24.3.2016 Doručen Protokol o kontrole č.j. RRSZ 3770/2016 7.4.2016 KKN, a.s. podala námitky proti Protokolu 5/2016 vyřízení námitek - částečně vyhověno 27.1.2017 ÚRR dobrovolně odeslal Oznámení o krácení způsobilých výdajů PROBÍHÁ PŘÍPRAVA NA SPOR Z VPS
J63: ÚRR zkrácení dotace | K63: V rámci kontroly 3E byly dotačním orgánem stanoveny ex-post maximální pořizovací ceny jednotlivých přístrojů (viz Příloha 1). Vzhledem k tomu, že ceny experta ÚRR absolutně neodrážely realitu tržního prostředí (viz Příloha 2) a ÚRR umožňovala u projektu vyhotovení znaleckého posudku, KKN zadala u soudního znalce znalecké posudky (viz Příloha 3). KKN se podařilo prostřednictvím soudního znalce snížit tyto neuznatelné výdaje na 323.212,20 Kč (z původních 3.462.807 Kč). | L63: 274730.37 | M63: =N63+O63 -> 274730.37 | N63: 274730.37 | O63: 0 | P63: =M63/L63 -> 1 | R63: 30. 9. 2016 skupině pro řešení finančních postihů předložen souhrn nezpůsobilých nákladů, vyúčtování projektu dosud nepředloženo PROBÍHÁ PŘÍPRAVA NA SPOR Z VPS
J64: ÚOHS pokuta | K64: ÚOHS předána dokumentace k přezkoumání veřejné zakázky část 8 - Centrifuga (certifikát v nabídce vítězného uchazeče doložen v angl. Jazyce, zákon předepisuje český jazyk) | L64: 0 | M64: 0 | N64: 0 | O64: 0 | P64: 0 | R64: dne 1.9.2016 doručena žádost o zaslání dokumentace k VZ 8, nejpozději do dne 8.9.2016; 23.9.2016 - ÚOHS neshledal důvody pro zahájení řízení KONEČNÝ STAV - ŠETŘENÍ ÚOHS BYLO BEZDŮVODNÉ
J65: ÚOHS pokuta | K65: část 7 - Endoskopické vybavení (katalogové listy v nabídce vítězného uchazeče doložen v angl. Jazyce, zákon předepisuje český jazyk; zakázka byla neoprávněně sloučena, čímž došlo k diskriminaci) | L65: 60000 | M65: =N65+O65 -> 60000 | N65: 60000 | O65: 0 | P65: =M65/L65 -> 1 | R65: dne 1.9.2016 doručena žádost o zaslání dokumentace k VZ pro části 7, nejpozději do dne 8.9.2016 dne 30.9.2016 doručeno oznámení o zahájení správního řízení č.j. ÚOHS-S0635/2016/VZ-39900/2016/551/OPa za VZ část 7 - Endoskopie a vrtačky, stanovisko odesláno 10.10.2016 dne 11.11.2016 doručeno rozhodnutí o udělení správní pokuty ve výši 60.000,- 24.11.2016 odeslán rozklad 11.1.2017 sdělení ÚOHS o tom, že rozklad nebyl podán, neboť podání nebylo elektronicky podepsáno 13.1.2017 doručena informace, že pokuta byla v termínu uhrazena 18.1.2017 odeslány námitky proti postupu ÚOHS 8. 2. 2017 bylo doručeno usnesení ÚOHS podle kterého úřad podanou námitku proti nepřijetí rozkladu vyhodnotil jako žádost a dále jako stížnost. Následně úřad žádost označil jako zjevně právně nepřípustnou a řízení zastavil. Stížnost předal příslušným osobám k vyřízení 21.2.2017 KKN podala proti usnesení o nepřípustnosti žádosti a zastavení řízení rozklad 9.3.2017 zamítl předseda ÚOHS stížnost proti postupu ÚOHS 9.3.2017 KKN podala žalobu na ochranu před nezákoným zásahem OČEKÁVÁME ROZHODNUTÍ O ROZKLADU, BUDE PODÁNA ŽALOBA NA OCHRANU PŘED NEOPRÁVNĚNÝM ZÁSAHEM ÚOHS
J66: ÚOHS pokuta | K66: část 10 - Mikrobiologie (zakázka byla neoprávněně sloučena, čímž došlo k diskriminaci, neboť předmět plnění umožňoval zakázku rozdělit na více menších zakázek) | L66: 100000 | M66: =N66+O66 -> 100000 | N66: 100000 | O66: 0 | P66: =M66/L66 -> 1 | R66: dne 7.9.2016 doručena žádost o zaslání dokumentace k VZ pro část 10, nejpozději do 7 kalendářních dnů (dokumentace zaslána dne 14.9.2016) dne 27.9.2016 doručeno oznámení o zahájení správního řízení č.j. ÚOHS-S0631/2016/VZ-39565/2016/553/JDI za VZ část 10 - Mikrobiologie, stanovisko odesláno 12.10.2016 dne 9.11.2016 doručeno rozhodnutí o správní pokutě ve výši 100.000,- 24.11.2016 odeslán rozklad proti rozhodnutí o pokutě 11.1.2017 sdělení ÚOHS o tom, že rozklad nebyl podán, neboť podání nebylo elektronicky podepsáno 13.1.2017 doručena informace, že pokuta byla v termínu uhrazena 18.1.2017 odeslány námitky proti postupu ÚOHS 8. 2. 2017 bylo doručeno usnesení ÚOHS podle kterého úřad podanou námitku proti nepřijetí rozkladu vyhodnotil jako žádost a dále jako stížnost. Následně úřad žádost označil jako zjevně právně nepřípustnou a řízení zastavil. Stížnost předal příslušným osobám k vyřízení 21.2.2017 KKN podala proti usnesení o nepřípustnosti žádosti a zastavení řízení rozklad 9.3.2017 zamítl předseda ÚOHS stížnost proti postupu ÚOHS 9.3.2017 KKN podala žalobu na ochranu před nezákoným zásahem OČEKÁVÁME ROZHODNUTÍ O ROZKLADU, BUDE PODÁNA ŽALOBA NA OCHRANU PŘED NEOPRÁVNĚNÝM ZÁSAHEM ÚOHS
J67: ÚOHS pokuta | K67: část 14 - Inkubátory (zakázka byla neoprávněně sloučena, čímž došlo k diskriminaci, neboť předmět plnění umožňoval zakázku rozdělit na více menších zakázek) | L67: 10000 | M67: =N67+O67 -> 10000 | N67: 10000 | O67: 0 | P67: =M67/L67 -> 1 | R67: dne 23.9.2016 doručena žádost o zaslání protokolů k VZ pro část 14, nejpozději do dne 27.9.2016 dne 30.9.2016 doručeno oznámení o zahájení správního řízení č.j. ÚOHS-S0638/2016/VZ-40019/2016/551/SBe za VZ část 14 - Inkubátory a vyhřívané lůžko, stanovisko odesláno 10.10.2016 dne 14.11.2016 doručeno rozhodnutí o správní pokutě ve výši 10.000,- 30.11.2016 odeslán rozklad 11.1.2017 sdělení ÚOHS o tom, že rozklad nebyl podán, neboť podání nebylo elektronicky podepsáno 13.1.2017 doručena informace, že pokuta byla v termínu uhrazena 18.1.2017 odeslány námitky proti postupu ÚOHS 8. 2. 2017 bylo doručeno usnesení ÚOHS podle kterého úřad podanou námitku proti nepřijetí rozkladu vyhodnotil jako žádost a dále jako stížnost. Následně úřad žádost označil jako zjevně právně nepřípustnou a řízení zastavil. Stížnost předal příslušným osobám k vyřízení 21.2.2017 KKN podala proti usnesení o nepřípustnosti žádosti a zastavení řízení rozklad 9.3.2017 zamítl předseda ÚOHS stížnost proti postupu ÚOHS 9.3.2017 KKN podala žalobu na ochranu před nezákoným zásahem OČEKÁVÁME ROZHODNUTÍ O ROZKLADU, BUDE PODÁNA ŽALOBA NA OCHRANU PŘED NEOPRÁVNĚNÝM ZÁSAHEM ÚOHS
A68: 25 | B68: Muzeum Sokolov, p.o. KK | C68: Česko-bavorský geopark – přírodní dědictví jako šance pro region | D68: kultura | E68: 2011 - 31.12.2013 | F68: Cíl 3 | G68: 509 690 EUR; tj. 14 016 475 Kč | H68: Muzeum Sokolov, p.o. KK | I68: Ing. Eva Valjentová | J68: CRR ČR zkrácení dotace | K68: porušení zásady rovného zacházení, diskriminace, změnu v zadávacím řízení, kdy původně bylo požadováno ISO 9001, ale během ZŘ bylo od požadavku upuštěno, - technický kvalifikační předpoklad zkušenosti s aplikací beetaggy, které v té době ještě nebyly na trhu rozšířené, dále požadavek na autorství publikací týkající se území národních a evropských geoparků a zkušenost s jednou zakázkou obdobného charakteru na území některého geoparku | L68: 1288295.9 | M68: 1288295.9 | N68: 1288295.9 | O68: 0 | P68: =M68/L68 -> 1 | Q68: =M68/14016475 -> 0.091912974 | R68: pracovní skupině pro finanční postihy poskytnuty informace až při vyúčtování projektu, aktuálně zjišťován podíl administrátora dotace na pochybení a důvody dalších pochybení, zpracovávání závěrečného vyúčtování projektu KONEČNÝ STAV - PROTI KRÁCENÍ JIŽ NENÍ PŘÍPUSNÁ DALŠÍ OBRANA, ODBOR KULTURY PŘIPRAVUJE VYÚČTOVÁNÍ PROJEKTU PRO RKK A ZKK
A69: 26 | B69: ISŠ Cheb | C69: Výstavba kooperační sítě v oblasti automatizace za účelem zvýšení ekonomickétechnické úrovněv sasko-české oblasti podpory - AKONA | D69: školství | E69: 1. 7. 2010 - 30. 6. 2013 | F69: Cíl 3 | G69: 6979266.3 | H69: ISŠ Cheb | I69: xxx | J69: CRR ČR zkrácení dotace | K69: Sankce ve výši 25 % hodnoty veřejné zakázky "Dodávka automatizačního systému včetně učebních plánů" za pochybení při zadávacím řízení na tuto veřejnou zakázku - zadavatel byl povinen vyloučit všechny uchazeče, místo toho je vyzval k doplnění svých nabidek (doložení podepsaného návrhu smlouvy) | L69: 581901 | M69: =N69+O69 -> 581901 | N69: 581901 | O69: 0 | P69: =M69/L69 -> 1 | Q69: =M69/G69 -> 0.083375669 | R69: Informace o projektu a udělené sankci byly předány pracovní skupině pro řešení finančních postihů 7. 3. 2017. Podle dostupných informací se škola proti krácení nebránila, pouze k připomínkám k monitorovací zprávě ve které poskytovatel dotace konstatoval porušení pravidel pro veřejnou zakázku zaslala své vyjádření. KONEČNÝ STAV - PROTI KRÁCENÍ JIŽ NENÍ PŘÍPUSTNÁ DALŠÍ OBRANA. VYÚČTOVÁNÍ PROJEKTU PROVEDENO MATERIÁLY č. RK 312/03/14 ze dne 24. 3. 2014 a v ZKK usnesením č. ZK 121/04/14 ze dne 24. 4. 2014
A70: 27 | B70: Domov pro seniory v Lázních Kynžvart, p.o. | C70: Zateplení obvodového pláště budovy a výměna části oken budovy Domova pro seniory v Lázních Kynžvart, příspěvkové organizace | D70: sociální oblast | E70: 9. 9. 2013 - 31. 5. 2014 | F70: OPŽP | G70: 3501025 | H70: Olivius s.r.o. | I70: xxx | J70: výzva | K70: výzva k vrácení prostředků za překročení délky realizace projektu o 18 dní, neboť kolaudační souhlas byl vydán až dne 18.6.2014. Částka odpovídá 1% z dotace poskytnuté MŽP | L70: 27029.82 | M70: =N70+O70 -> 27029.82 | N70: 27029.82 | O70: 0 | P70: =M70/L70 -> 1 | Q70: =M70/G70 -> 0.0077205447 | R70: dne 24.8.2017 vystavilo MŽP výzvu k vrácení dotace podle §14f, odst. 3 zákona 218/2000 Sb. na částku 27.029,82 Kč s tím, že splatnost je 30 dní ode dne doručení dne 7.9.2017 organizace výzvu uhradila dne 16.11.2017 se organizace rozhodla s ohledem na nízkou pravděpodobnost vymožení prostředků i přes případný úspěch žaloby prostředky nevymáhat dne 21.12. se škodní komise unesla, že původcem škody je spol. Olivius KONEČNÝ STAV - PROTI UHRAZENÉ VÝZVĚ NENÍ PŘÍPUSTNÁ DALŠÍ OBRANA
A71: 28 | B71: Integrovaná střední škola Cheb, p.o. | C71: Zateplení a výměna zdroje tepla čp. 119, ISŠ Cheb | D71: školství | E71: 25.9.2013 - 31.12.2013 | F71: OPŽP | G71: 12484471 | H71: ISŠ Cheb | I71: xxx | J71: výzva | K71: výzva k vrácení prostředků za překročení délky realizace projektu o 13 dní, neboť kolaudační souhlas byl vydán až dne 13.1.2014. Částka odpovídá 1% z dotace poskytnuté MŽP | L71: 70013.51 | M71: =N71+O71 -> 70013.51 | N71: 70013.51 | O71: 0 | P71: =M71/L71 -> 1 | Q71: =M71/G71 -> 0.0056080477 | R71: dne 12. 9. 2017 vystavilo MŽP výzvu k vrácení dotace podle §14f, odst. 3 zákona 218/2000 Sb. na částku 70.013,51 Kč s tím, že splatnost je 30 dní ode dne doručení dne 9.10.2017 škola výzvu hradila KONEČNÝ STAV - PROTI UHRAZENÉ VÝZVĚ NENÍ PŘÍPUSTNÁ DALŠÍ OBRANA. VEDOUCÍ PROJEKTU JE NYNÍ POVINNEN VYPRACOVAT PROTOKOL O ŠKODĚ, NÁSLEDNĚ BUDE ZASEDAT ŠKODNÍ KOMISE
A72: 29 | B72: Krajská agentura rozvoje podníkání, p.o. | C72: Podpora činnosti Regionální stálé konference Karlovarského kraje 2015-2017 reg.č.:CZ.08.1.125/0.0/0.0/15_003/0000069 | D72: technická pomoc | E72: 2015-2017 | F72: OPTP | G72: 4550790 | H72: KARP | J72: MMR zkrácení dotace | K72: nebyla naplněna podmínka adekvátního nároku dovolené zohledňující zapojení zaměstnance do realizace projektu | L72: 1414.57 | M72: 1414.57 | N72: 1414.57 | O72: 0 | P72: =M72/L72 -> 1 | Q72: =M72/G72 -> 0.00031084054 | R72: Dne 25.7.2017 z MF oznámení o auditu operace, dne 9.8.2017 z MF návrh zprávy o auditu operace, dne 14.8.2017 KK odeslal odpověď k návrhu zprávy o auditu operace - žádné připomínky, dne 15.8.2017 Zpráva o auditu operace - bez zjištění, z MMR dne 28.8.2017 návrh protokolu o kontrole, KK dne 1.9.2017 odeslal námitky k návrhu protokolu. Dne 22.9.2017 byl doručen protokol o kontrole. Dne 2.10.2017 KARP odeslal námitky proti zjištění v protokolu. Dne 17.10.2017 doručeno vyřízení námitek, námitky byly zamítnuty. KONEČNÝ STAV - PROTI UHRAZENÉ VÝZVĚ NENÍ PŘÍPUSTNÁ DALŠÍ OBRANA. UHRAZENÍM VÝZVY NEVZNIKLA ŠKODA, NEBOŤ PŘEDMĚTNÉ FINANČNÍ PROSTŘEDKY NEMOHLY BÝT ZA ŽÁDNÝCH OKOLNOSTÍ ZPŮSOBILÝM VÝDEJ PROJEKTU
B73: CELKEM | G73: =SUM(G5:G69) -> 3.5490246e+09 | L73: =SUM(L5:L72) -> 8.9436181e+08 | M73: =SUM(M5:M72) -> 2.9481986e+08 | N73: =SUM(N5:N72) -> 3.3191825e+08 | O73: =SUM(O5:O72) -> 1994229.1 | P73: =M73/L73 -> 0.32964273 | Q73: =M73/G73 -> 0.083070672 | R73: x | S73: =T73/L73 -> 0.67035727 | T73: =L73-M73 -> 5.9954194e+08
B74: z toho | C74: uhrazené platební výměry, provedené korekce | L74: x | M74: x | N74: =N5+N10+N13+N16+N18+N20+N21+N24+N26+N29+N30+N32+N33+N34+N36+N37+N39+N40+N42+N45+N47+N48+N49+N50+N51+N52+N53+N54+N57+N59+N60+N61+N62+N63+N65+N66+N67+N68+N69+N70+N71+N72+N28 -> 1.8165703e+08 | O74: x | P74: x | Q74: x | R74: x | S74: x | T74: x
B75: z toho | C75: uhrazené platební výměry, na které byla podána žádost o vratku vratitelného přeplatku | L75: x | M75: x | N75: 39092619 | O75: x | P75: x | Q75: x | R75: x
B76: z toho | C76: neuhrazeno - platební výměry nenabyly právní moci a maximální možný očekávaný finanční postih | L76: x | M76: x | N76: =N17+N19+N31+N38 -> 1.111686e+08 | O76: =O73 -> 1994229.1 | P76: x | Q76: x | R76: x | S76: x | T76: x
B79: Pozn.:
B80: sl. 13 - nejedná se o součet sl. 14 a sl. 15, neboť u projektů , PO_01, PO_02 a PO_03 byl uhrazen odvod (sl. 14) ve vyšší částce, než je aktuální výše zjištěného pochybení (sl. 13), očekáváme vratku vratitelného přeplatku - z důvodu transparentnosti poskytovaných dat uvedeny veškeré údaje a částky
B81: k PO_03 - obdobně viz poznámka výše (sl. 13 není součtem sl. 14 a sl. 15) PO_01, PO_02 rozdíl v uhrazeném PV a PV s nabytím PM (žádáme o vratku vratitelného přeplatku)

Sheet List1
A4: Srovnání očekávných výzev a obdržených výzev KSÚS, p.o. za neodečtení příjmů z výzisků
B5: registrační číslo | C5: očekávaná výzvy | D5: obdržené výzvy | E5: rozdíl
A6: PO5 | B6: II/214 Jihovýchodní obchvat Cheb CZ.1.09/3.1.00/64.01004 | C6: =134201.25*0.85+361507.25*0.85 -> 421352.22 | D6: 393222.74 | E6: =C6-D6 -> 28129.485
A7: PO6 | B7: II/221 Modernizace silnice Merklín - Pstruží, II. etapa CZ.1.09/3.1.00/67.01067 | C7: =44293.75*0.85 -> 37649.688 | D7: 37649.68 | E7: =C7-D7 -> 0.0075
A8: PO7 | B8: II/221 Modernizace silniční sítě Hroznětín CZ.1.09/3.1.00/67.01068 | C8: =397500*0.85 -> 337875 | D8: 337874.99 | E8: =C8-D8 -> 0.01
A9: PO13 | B9: II/21047 Modernizace silnice Nejdek - Pernink CZ.1.09/3.1.00/67.01111 | C9: 259239.57 | D9: 259239.57 | E9: =C9-D9 -> 0
A10: PO14 | B10: Odstraňování slabých míst na silničních sítí Karlovarského kraje CZ.1.09/3.1.00/67.01129 | C10: 225882.28 | D10: 186679.77 | E10: =C10-D10 -> 39202.51
A11: PO15 | B11: Rozvoj dopravní infrastruktury silnic II. a III. třídy v Karlovarském kraji - III.etapa CZ.1.09/3.1.00/67.01128 | C11: 910378.05 | D11: 751432.9 | E11: =C11-D11 -> 158945.15
A12: Celkem | C12: =SUM(C6:C11) -> 2192376.8 | D12: =SUM(D6:D11) -> 1966099.6 | E12: =SUM(E6:E11) -> 226277.16
