Workbook

Sheet FV
A1: Formulář je určen výhradně pro strojové vyplnění!
A2: Vyplňujte pouze nepodbarvená (bílá) pole!
A3: Poskytovatel dotace: | E3: Místo pro nalepení evidenčního štítku podatelny:
A5: Karlovarský kraj
A6: Odbor dotací
A8: Závodní 353/88
A9: 360 06 Karlovy Vary-Dvory
A10: Identifikační číslo: 70891168
A11: Datová schránka: siqbxt2 | E11: Místo pro interní záznamy poskytovatele dotace:
A12: Telefon: +420 354 222 300
A13: E-mail: epodatelna@kr-karlovarsky.cz
A15: =IFERROR(IF(VLOOKUP(D21,Data!C:F,5,0)="Ne","Žádost o platbu dotace poskytnuté z rozpočtu Karlovarského kraje","Finanční vypořádání dotace poskytnuté z rozpočtu Karlovarského kraje"),"Finanční vypořádání dotace poskytnuté z rozpočtu Karlovarského kraje") -> Finanční vypořádání dotace poskytnuté z rozpočtu Karlovarského kraje
A18: A. Identifikace dotace
A21: Název dotačního programu nebo individuální dotace: | D21: Program na podporu údržby a obnovy sportovních zařízení
A24: Identifikátor žádosti (KUKVX…):
A25: Evidenční číslo smlouvy (KK…):
A26: Název projektu:
A30: B. Identifikace příjemce
A33: Příjemce dotace je: | D33: právnická osoba
A34: =IF(FV!D33=Data!K2,"Titul před jménem, jméno a příjmení, titul za jménem:",IF(FV!D33=Data!K3,"Titul před jménem, jméno a příjmení, titul za jménem:",IF(FV!D33=Data!K4,"Název právnické osoby:",""))) -> Název právnické osoby:
A36: =IF(FV!D33=Data!K2,"Adresa bydliště:",IF(FV!D33=Data!K3,"Adresa sídla nebo bydliště:",IF(FV!D33=Data!K4,"Adresa sídla:",""))) -> Adresa sídla:
A38: =IF(FV!D33=Data!K2,"",IF(FV!D33=Data!K3,"Je příjemce dotace plátce DPH?",IF(FV!D33=Data!K4,"Je příjemce dotace plátce DPH?",""))) -> Je příjemce dotace plátce DPH?
A39: =IF(FV!D38=Data!L2,"Je DPH uznatelný výdaj?",IF(FV!D38=Data!L3,"",""))
A40: Charakter dotace: | D40: neinvestice
A41: C. Seznam dokladů k finančnímu vypořádání
A44: Pořadové číslo dokladu | B44: Datum úhrady výdaje dle dokladu o úhradě | C44: Číslo dokladu | D44: Popis výdaje | E44: Částka na dokladu v Kč | F44: Částka skutečně využitá z poskytnuté dotace v Kč | G44: Uznaná částka v Kč
A45: INVESTIČNÍ VÝDAJE
A46: 1.
A47: 2.
A48: 3.
A49: 4.
A50: 5.
A51: 6.
A52: 7.
A53: 8.
A54: 9.
A55: 10.
A56: 11.
... A75: 30.
A76: INVESTIČNÍ VÝDAJE CELKEM | E76: =SUM(E46:E75) -> 0 | F76: =SUM(F46:F75) -> 0
...

Sheet Avízo
A1: Formulář je určen výhradně pro strojové vyplnění!
A2: Vyplňujte pouze nepodbarvená (bílá) pole!
A4: Poskytovatel dotace: | E4: Místo pro nalepení evidenčního štítku podatelny:
A6: Karlovarský kraj
A7: Odbor dotací
A9: Závodní 353/88
A10: 360 06 Karlovy Vary-Dvory
A11: Identifikační číslo: 70891168
A12: Datová schránka: siqbxt2 | E12: Místo pro interní záznamy poskytovatele dotace:
A13: Telefon: +420 354 222 300
A14: E-mail: epodatelna@kr-karlovarsky.cz
A16: Avízo
A18: A. Identifikace dotace
A20: Název dotačního programu nebo individuální dotace: | D20: =FV!D21 -> Program na podporu údržby a obnovy sportovních zařízení
A23: Identifikátor žádosti (KUKVX…): | D23: =FV!D24 -> 0
A24: Evidenční číslo smlouvy (KK…): | D24: =FV!D25 -> 0
A25: Název projektu: | D25: =FV!D26 -> 0
A29: B. Identifikace příjemce
A31: =FV!A34 -> Název právnické osoby: | D31: =FV!D34 -> 0
A33: =FV!A36 -> Adresa sídla: | D33: =FV!D36 -> 0
A35: C. Identifikace platby
A37: Číslo účtu poskytovatele: | D37: =IFERROR(VLOOKUP(FV!D21,Data!C:G,5,0),"") -> 7882138002/5500 - ZBÚ Raiffeisen Bank
A38: Variabilní symbol:
A39: Výše vratky v Kč | D39: =IF(FV!F122="",FV!F124,FV!F122) -> 0
A40: Datum odeslání vratky dotace:
A41: D. Místo a datum vyhotovení, podpis
A43: Místo a datum vyhotovení: | D43: Místo vyhotovení: | F43: Datum vyhotovení:
F44: =TODAY() -> 46314
A45: Vyhotovil: | D45: Jméno a příjmení: | F45: Telefon/Mobil:
A47: Vlastnoruční podpis příjemce dotace (titul, jméno, příjmení, titul): | D47: Podpis: | F47: Razítko (pokud příjemce razítko používá):

Sheet Kontrola
A1: Check list kontrola finančního vypořádání
A4: Název programu:
A5: Pořadové číslo žádosti:
A7: 1. | B7: Byla provedena kontrola identifikace příjemce?
A9: 2. | B9: Bylo finanční vypořádání včetně všech příloh evidováno ve spisové službě?
A11: 3. | B11: Bylo finanční vypořádání podáno v termínu stanoveném ve smlouvě?
A13: 4. | B13: Byly předložiny veškeré faktury a doklady, které si nárokuje žadatel v rámci finančního vypořádání? (pozor nelze proplatit samostatnou zálohu)
A15: 5. | B15: Byly faktury zaplaceny z bankovního účtu žadatele? (pozor nelze uznat příkaz k úhradě)
A17: 6. | B17: Byly uhrazeny faktury do nejzazšího data?
A19: 7. | B19: Byl dodržen charakter dotace (investice/neinvestice) a odpovídá předložený majetek určení inv/neinv dle smlouvy?
A21: 8. | B21: Je DPH uznatelným výdajem, a pokud ne, tak proplatím fakturu bez DPH?
A23: 9. | B23: Byla využita dotace v období uznatelnosti stanevená ve smlouvě?
A25: 10. | B25: Byal dodržena spoluúčast stanovená dotačním programem a smlouvou?
A27: 11. | B27: Byly předloženy všechny požadované přílohy stanovené ve formuláři finančního vypořádání?
A29: 12. | B29: Byla splněna propagace Karlovarského kraje?
... A40: Kontrola finančního vypořádání: | B40: Datum:
B42: Titul, jméno a příjmení
B44: Podpis:
A49: Ověření kontroly finančního vypořádání: | B49: Datum:
B51: Titul, jméno a příjmení
B53: Podpis:

Sheet Data
A1: Odbor | B1: Poradi | C1: Nazev_programu_kratky | D1: Odbor_dlouhy | E1: Druh_programu | F1: Financni_vyporadani | G1: Ucet_vratka | H1: Prilohy | I1: Procento spoluúčasti | J1: Vyýpočet spoluúčasti | K1: Typ_prijemce | L1: Platce_DPH | M1: Uplatnuji_DPH
A2: OBKŘ | B2: 1 | C2: Individuální žádosti o dotace odboru bezpečnosti a krizového řízení | D2: Odbor investic | E2: kombinovaná | F2: ano | G2: 7882138002/5500 - ZBÚ Raiffeisenbank | H2: 1. Kopie dokladů o realizaci akce/projektu. 2. Kopie dokladů o úhradě (faktury, bankovní výpisy, pokladní doklady). 3. Kopie smlouvy/objednávky. 4. Výpis z účetní evidence (u příjemců, kteří vedou účetnictví). 5. Vyhodnocení použití poskytnuté dotace s popisem realizace a zhodnocením realizovaných aktivit. 6. Doložení propagace loga Karlovarský kraj. 7. Další přílohy podle povahy projektu nebo podle uvážení příjemce dotace. | I2: 0.3 | J2: poskytnuté dotace | K2: fyzická osoba nepodnikající | L2: ano | M2: ano
A3: OBKŘ | B3: 2 | C3: Program prevence kriminality a závislostního chování | D3: Odbor bezpečnosti a krizového řízení | E3: neinvestiční | F3: ano | G3: 7882138002/5500 - ZBÚ Raiffeisenbank | H3: 1. Kopie účetních dokladů vztahujících se k dotaci, doložené příslušnými doklady o úhradě (bankovní výpis či pokladní doklad). 2. Vyhodnocení použití poskytnuté dotace s popisem realizace a zhodnocením realizovaných aktivit 3. Průkazná fotodokumentace předmětu dotace. 4. Doklad o zaúčtování majetku do účetnictví organizace. 5. Prokázání splnění povinné propagace poskytovatele dotace. | I3: 0.2 | K3: fyzická osoba podnikající | L3: ne | M3: ne
A4: OBKŘ | B4: 3 | C4: Program na podporu jednotek sborů dobrovolných hasičů obcí Karlovarského kraje | D4: Odbor bezpečnosti a krizového řízení | E4: kombinovaná | F4: ano | G4: 7882138002/5500 - ZBÚ Raiffeisenbank | H4: 1. Kopie účetních dokladů vztahujících se k dotaci, doložené příslušnými doklady o úhradě (bankovní výpis či pokladní doklad). 2. Průkazná fotodokumentace předmětu dotace. 3. Doklad o zaúčtování majetku do účetnictví organizace. 4. Prokázání splnění povinné propagace poskytovatele dotace. | K4: právnická osoba
A5: ODSH | B5: 4 | C5: Program na podporu obnovy stávajících dopravních hřišť | D5: Odbor dopravy a silničního hospodářství | E5: neinvestiční | F5: ano | G5: 7882138002/5500 - ZBÚ Raiffeisen Bank | H5: 1. Kopie daňových dokladů ve výši poskytnuté dotace včetně kopií dokladů o jejich úhradě. 2. Doklad o zaúčtování majetku do účetnictví organizace. 3. Vyhodnocení použití poskytnuté dotace s popisem realizace a zhodnocením realizovaných aktivit. 4. Průkaznou fotodokumentaci předmětu dotace. 5. Zajištění propagace poskytovatele dotace.
A6: OKHVV | B6: 8 | C6: Individuální žádosti o dotace odboru kancelář hejtmana a vnějších vztahů | D6: Odbor kancelář hejtmana a vněkších vztahů | E6: kombinovaná | F6: ano | G6: 1387678928/2700 ZBÚ UniCredit Bank | H6: 1. Kopie dokladů o realizaci akce/projektu. 2. Kopie dokladů o úhradě (faktury, bankovní výpisy, pokladní doklady). 3. Kopie smlouvy/objednávky. 4. Výpis z účetní evidence (u příjemců, kteří vedou účetnictví). 5. Vyhodnocení použití poskytnuté dotace s popisem realizace a zhodnocením realizovaných aktivit. 6. Doložení propagace loga Karlovarský kraj. 7. Další přílohy podle povahy projektu nebo podle uvážení příjemce dotace.
A7: OKPPLCR | B7: 9 | C7: Individuální žádosti o dotace odboru kultury, památkové péče, lázeňství a cestovního ruchu | D7: Odbor kultury, památkové péče, lázeňství a cestovního ruchu | E7: kombinovaná | F7: ano | G7: 7882138002/5500 - ZBÚ Raiffeisen Bank | H7: 1. Kopie dokladů o realizaci akce/projektu. 2. Kopie dokladů o úhradě (faktury, bankovní výpisy, pokladní doklady). 3. Kopie smlouvy/objednávky. 4. Výpis z účetní evidence (u příjemců, kteří vedou účetnictví). 5. Vyhodnocení použití poskytnuté dotace s popisem realizace a zhodnocením realizovaných aktivit. 6. Doložení propagace loga Karlovarský kraj. 7. Další přílohy podle povahy projektu nebo podle uvážení příjemce dotace.
A8: OKPPLCR | B8: 10 | C8: Program na podporu vzdělávání dětí a mládeže v kultuře | D8: Odbor kultury, památkové péče, lázeňství a cestovního ruchu | E8: neinvestiční | F8: ano | G8: 7882138002/5500 - ZBÚ Raiffeisen Bank | H8: 1. Kopie veškerých dokladů vztahujících se k poskytnuté dotaci (ke každému účetnímu dokladu musí být přiložen doklad o jeho úhradě - bankovní výpis či pokladní doklad). 2. Vyhodnocení použití poskytnuté dotace s popisem realizace aktivit 3. Dokumentace o propagaci Karlovarského kraje.
A9: OKPPLCR | B9: 11 | C9: Program na podporu přípravy projektů opravy a využití kulturních památek a památkově hodnotných objektů | D9: Odbor kultury, památkové péče, lázeňství a cestovního ruchu | E9: kombinovaná | F9: ano | G9: 7882138002/5500 - ZBÚ Raiffeisen Bank | H9: 1. Kopie veškerých dokladů vztahujících se k poskytnuté dotaci (ke každému účetnímu dokladu musí být přiložen doklad o jeho úhradě - bankovní výpis či pokladní doklad). 2. Vyhodnocení použití poskytnuté dotace (výstup projektu, na který byla dotace poskytnuta k nahlédnutí). 3. Dokumentace o propagaci Karlovarského kraje.
A10: OKPPLCR | B10: 12 | C10: Program na obnovu a nové využití kulturních památek, památkově hodnotných objektů a movitých věcí | D10: Odbor kultury, památkové péče, lázeňství a cestovního ruchu | E10: kombinovaná | F10: ano | G10: 7882138002/5500 - ZBÚ Raiffeisen Bank | H10: 1. Kopie veškerých dokladů vztahujících se k poskytnuté dotaci (ke každému účetnímu dokladu musí být přiložen doklad o jeho úhradě - bankovní výpis či pokladní doklad). 2. Vyhodnocení použití poskytnuté dotace s popisem realizace aktivit 3. Fotodokumentace provedených prací, na které byla dotace poskytnuta. 4. Dokumentace o propagaci Karlovarského kraje.
A11: OKPPLCR | B11: 13 | C11: Program na podporu aktivit v cestovním ruchu | D11: Odbor kultury, památkové péče, lázeňství a cestovního ruchu | E11: kombinovaná | F11: ano | G11: 7882138002/5500 - ZBÚ Raiffeisen Bank | H11: 1. Kopie uhrazených daňových dokladů ve výši poskytnuté dotace (doložené o kopie výpisů z bankovního účtu příjemce dotace nebo o podepsané výdajové pokladní doklady o zaplacení v hotovosti). 2. Kopie uhrazených daňových dokladů dokládajících 25% spoluúčast příjemce ze schválené dotace (doložené o kopie výpisů z bankovního účtu příjemce dotace nebo o výdajové pokladní doklady o zaplacení v hotovosti). 3. Vyhodnocení použití poskytnuté dotace s popisem realizace a zhodnocením realizovaných aktivit. 4. Dokumentace o propagaci Karlovarského kraje.
A12: OKPPLCR | B12: 14 | C12: Program na podporu kulturních aktivit | D12: Odbor kultury, památkové péče, lázeňství a cestovního ruchu | E12: neinvestiční | F12: ano | G12: 7882138002/5500 - ZBÚ Raiffeisen Bank | H12: 1. Kopie uhrazených daňových dokladů ve výši poskytnuté dotace (doložené o kopie výpisů z bankovního účtu příjemce dotace nebo o podepsané výdajové pokladní doklady o zaplacení v hotovosti). 2. Kopie uhrazených daňových dokladů dokládajících 30% spoluúčast příjemce ze schválené dotace (doložené o kopie výpisů z bankovního účtu příjemce dotace nebo o výdajové pokladní doklady o zaplacení v hotovosti). 3. Dokumentace o propagaci Karlovarského kraje (např. kopie plakátu obsahující logo Karlovarského kraje).
A13: OKPPLCR | B13: 15 | C13: Program na podporu infrastruktury památek zapsaných na seznam světového kulturního a přírodního dědictví UNESCO | D13: Odbor kultury, památkové péče, lázeňství a cestovního ruchu | E13: kombinovaná | F13: ano | G13: 7882138002/5500 - ZBÚ Raiffeisen Bank | H13: 1. Kopie uhrazených daňových dokladů ve výši poskytnuté dotace (doložené o kopie výpisů z bankovního účtu příjemce dotace nebo o podepsané výdajové pokladní doklady o zaplacení v hotovosti). 2. Kopie uhrazených daňových dokladů dokládajících spoluúčast příjemce ze schválené dotace (doložené o kopie výpisů z bankovního účtu příjemce dotace nebo o výdajové pokladní doklady o zaplacení v hotovosti). 3. Vyhodnocení použití poskytnuté dotace s popisem realizace a zhodnocením realizovaných aktivit. 4. Dokumentace o propagaci Karlovarského kraje.
A14: OKPPLCR | B14: 16 | C14: Program na podporu aktivit profesionálních kulturních zařízení | D14: Odbor kultury, památkové péče, lázeňství a cestovního ruchu | E14: neinvestiční | F14: ano | G14: 7882138002/5500 - ZBÚ Raiffeisen Bank | H14: 1. Kopie uhrazených daňových dokladů ve výši poskytnuté dotace (doložené o kopie výpisů z bankovního účtu příjemce dotace nebo o podepsané výdajové pokladní doklady o zaplacení v hotovosti). 2. Vyhodnocení použití poskytnuté dotace s popisem realizace a zhodnocením realizovaných aktivit. 3. Průkazná fotodokumentace k předmětu dotace. 4. Dokumentace o propagaci Karlovarského kraje.
A15: ORR | B15: 18 | C15: Individuální žádosti o dotace odboru regionálního rozvoje | D15: Odbor regionálního rozvoje | E15: kombinovaná | F15: ano | G15: 7882138002/5500 - ZBÚ Raiffeisen Bank | H15: 1. Kopie dokladů o realizaci akce/projektu. 2. Kopie dokladů o úhradě (faktury, bankovní výpisy, pokladní doklady). 3. Kopie smlouvy/objednávky. 4. Výpis z účetní evidence (u příjemců, kteří vedou účetnictví). 5. Vyhodnocení použití poskytnuté dotace s popisem realizace a zhodnocením realizovaných aktivit. 6. Doložení propagace loga Karlovarský kraj. 7. Další přílohy podle povahy projektu nebo podle uvážení příjemce dotace.
A16: ORR | B16: 25 | C16: Podprogram 1 - Program obnovy venkova 2025-2028 | D16: Odbor regionálního rozvoje | E16: kombinovaná | F16: ano | G16: 7771262/0800 - Zvl.Ú Česká spořitelna, a. s. | H16: 1. Kopie dokladů o úhradě (bankovní výpisy, pokladní doklady). 2. Kopie účetních dokladů (faktury s položkovým rozpisem prací). 3. Kopie smlouvy o dílo/objednávky. 4. Doklady o výběru dodavatele. 5. Doklad o zveřejnění informace, že na akci byla poskytnuta dotace z rozpočtu kraje. 6. Kopie dokladu o realizaci projektu (předávací protokol, kolaudační souhlas nebo oznámení o užívání stavby). 7. Kopie oddělené evidence finančních prostředků vynaložených na celou akci.
... A25: ORR | B25: 24 | C25: Program na podporu územně plánovací činnosti obcí | D25: Odbor regionálního rozvoje | E25: investiční | F25: ano | G25: 7882138002/5500 - ZBÚ Raiffeisen Bank | H25: 1. Kopie účetních dokladů (faktury, bankovní výpisy). 2. Výpis z účetní sestavy žadatele dle oddělené evidence. 3. Zpracovaná data dotované etapy ÚPD na CD nebo DVD (1x). 4. Vypracovaná dokumentace dotované etapy ÚPD v tištěné podobě (1x). 5. Vypracovaná dokumentace ÚPD po vydání ("konečná verze"), předat dodatečně bezprostředně po vydání. 6. Bezchybný výpis z kontrolního nástroje ETL. 7. V případě změny ÚP - doklad o nabytí účinnosti změny v předané dokumentaci. 8. V případě úpravy návrhu ÚP pro veřejné projednání - doklad o nabytí účinnosti ÚP na předané dokumentaci. 9. Doklad o zveřejnění informace, že na akci byla poskytnuta dotace z rozpočtu kraje.
A26: ORR | B26: 26 | C26: Program podpory malých prodejen na venkově "Obchůdek 2021+" | D26: Odbor regionálního rozvoje | E26: neinvestiční | F26: ne
A27: ORR | B27: 27 | C27: Program rozvoje konkurenceschopnosti Karlovarského kraje "Startovací vouchery" | D27: Odbor regionálního rozvoje | E27: neinvestiční | F27: ano | G27: 7882138002/5500 - ZBÚ Raiffeisen Bank | H27: 1. Vyhodnocení splnění účelu čerpání dotace (originál) 2. Kopie dokladů vztahujících se k vyúčtování dotace včetně kopií dokladů o jejich úhradě (faktury, bankovní výpisy nebo pokladní doklad), 3. Kopie dokladů o realizaci akce (předávací protokol), 4. Výpis z účetní evidence žadatele včetně dokladu o zaúčtování majektu do účetnictví organizace, 5. Doklad o zveřejnění informace, že na akci byla poskytnuta dotace z rozpočtu kraje (propagace loga Karlovarský kraj) 6. Průkazná dokumentace k předmětu dotace
A28: OSV | B28: 28 | C28: Individuální žádosti o dotace odboru sociálních věcí | D28: Odbor sociálních věcí | E28: kombinovaná | F28: ano | G28: 7882138002/5500 - ZBÚ Raiffeisen Bank | H28: 1. Kopie dokladů o realizaci akce/projektu. 2. Kopie dokladů o úhradě (faktury, bankovní výpisy, pokladní doklady). 3. Kopie smlouvy/objednávky. 4. Výpis z účetní evidence (u příjemců, kteří vedou účetnictví). 5. Vyhodnocení použití poskytnuté dotace s popisem realizace a zhodnocením realizovaných aktivit. 6. Doložení propagace loga Karlovarský kraj. 7. Další přílohy podle povahy projektu nebo podle uvážení příjemce dotace.
A29: OSV | B29: 29 | C29: Program na investiční podporu terénních a ambulantních sociálních služeb | D29: Odbor sociálních věcí | E29: investiční | F29: ano | G29: 7882138002/5500 - ZBÚ Raiffeisen Bank | H29: 1. Vyhodnocení použití poskytnuté dotace s popisem realizace a zhodnocením realizovaných aktivit 2. Průkaznou fotodokumentaci k předmětu dotace 3. Doklad o zaúčtování majetku do účetnictví organizace 4. Prokázání splnění povinné publicity 5. Kopie účetních dokladů vztahující se k dotaci 6. Doklady o zaplacení 7. Další relevantní přílohy
A30: OSV | B30: 30 | C30: Program na podporu aktivní činnosti seniorů | D30: Odbor sociálních věcí | E30: neinvestiční | F30: ano | G30: 7882138002/5500 - ZBÚ Raiffeisen Bank | H30: 1. Kopie daňových dokladů ve výši poskytnuté dotace včetně kopií dokladů o jejich úhradě 2. Doklad o zaúčtování majetku do účetnictví organizace 3. Vyhodnocení použití poskytnuté dotace s popisem realizace a zhodnocením realizovaných aktivit 4. Průkaznou fotodokumentaci předmětu dotace 5. Zajištění propagace poskytovatele dotace
A31: OSV | B31: 31 | C31: Program na podporu dobrovolnictví | D31: Odbor sociálních věcí | E31: neinvestiční | F31: ano | G31: 7882138002/5500 - ZBÚ Raiffeisen Bank | H31: 1. Kopie daňových dokladů ve výši poskytnuté dotace včetně kopií dokladů o jejich úhradě 2. Doklad o zaúčtování majetku do účetnictví organizace 3. Vyhodnocení použití poskytnuté dotace s popisem realizace a zhodnocením realizovaných aktivit 4. Průkaznou fotodokumentaci předmětu dotace 5. Zajištění propagace poskytovatele dotace
A32: OSV | B32: 32 | C32: Program na podporu rodiny | D32: Odbor sociálních věcí | E32: neinvestiční | F32: ano | G32: 7882138002/5500 - ZBÚ Raiffeisen Bank | H32: 1. Kopie daňových dokladů ve výši poskytnuté dotace včetně kopií dokladů o jejich úhradě 2. Doklad o zaúčtování majetku do účetnictví organizace 3. Vyhodnocení použití poskytnuté dotace s popisem realizace a zhodnocením realizovaných aktivit 4. Průkaznou fotodokumentaci předmětu dotace 5. Zajištění propagace poskytovatele dotace
A33: OSV | B33: 33 | C33: Program na zajištění spolufinancování sociálních služeb s celostátní a nadregionální působností | D33: Odbor sociálních věcí | E33: neinvestiční | F33: ano | G33: 7882138002/5500 - ZBÚ Raiffeisen Bank | H33: 1. Kopie daňových dokladů ve výši poskytnuté dotace včetně kopií dokladů o jejich úhradě 2. Vyhodnocení použití poskytnuté dotace s popisem realizace a zhodnocením realizovaných aktivit 3. Dokumentace na propagaci poskytovatele dotace
A34: OSV | B34: 34 | C34: Program pro poskytování finančních prostředků na zajištění sociálních služeb | D34: Odbor sociálních věcí | E34: neinvestiční | F34: ano | G34: 94-218341/0710 ČNB 35-5965670257/0100 Komerční banka | H34: 1. Závěrečná zpráva - přehled o skutečných nákladech a výnosech + vyhodnocení použití poskytnuté dotace na žádost - přehled o skutečných nákladech a výnosech, které byly uhrazeny ve lhůtě uvedené v článku VI. odst. 2 smlouvy, vztahujících se ke službě, včetně vyčíslení rozdílu mezi výnosy a náklady služby a vratky nevyčerpaných peněžních prostředků poskytnutých na službu z neinvestiční dotace 1 a neinvestiční dotace 2. Doložení publicity finanční podpory od Karlovarskéoho kraje
A35: OSV | B35: 35 | C35: Program pro poskytování dotací v rámci projektu "Podpora vybraných služeb sociální prevence III" | D35: Odbor sociálních věcí | E35: neinvestiční | F35: ano | G35: 070092-6716341/0710 ČNB 35-5965670257/0100 Komerční banka | H35: 1. Závěrečná zpráva - přehled o skutečných nákladech a výnosech + vyhodnocení použití poskytnuté dotace na žádost - přehled o skutečných nákladech a výnosech, které byly uhrazeny ve lhůtě uvedené v článku VI. odst. 2 smlouvy, vztahujících se ke službě, včetně vyčíslení rozdílu mezi výnosy a náklady služby a vratky nevyčerpaných peněžních prostředků poskytnutých na službu z neinvestiční dotace 3 a neinvestiční dotace 2. 2. Doložení publicity finanční podpory Karlovarskéoho kraje (včetně propagace EU dle pravidel OPZ+ )
A36: OŠMT | B36: 36 | C36: Individuální žádosti o dotace odboru školství, mládeže a tělovýchovy | D36: Odbor školství, mládeže a tělovýchovy | E36: kombinovaná | F36: ano | G36: 7882138002/5500 - ZBÚ Raiffeisen Bank | H36: 1. Kopie dokladů o realizaci akce/projektu. 2. Kopie dokladů o úhradě (faktury, bankovní výpisy, pokladní doklady). 3. Kopie smlouvy/objednávky. 4. Výpis z účetní evidence (u příjemců, kteří vedou účetnictví). 5. Vyhodnocení použití poskytnuté dotace s popisem realizace a zhodnocením realizovaných aktivit. 6. Doložení propagace loga Karlovarský kraj. 7. Další přílohy podle povahy projektu nebo podle uvážení příjemce dotace.
A37: OŠMT | B37: 37 | C37: Program na podporu přípravy účastníků olympiády dětí a mládeže | D37: Odbor školství, mládeže a tělovýchovy | E37: neinvestiční | F37: ano | G37: 7882138002/5500 - ZBÚ Raiffeisen Bank | H37: 1. Kopie dokladů vztahujících se k vyúčtování dotace včetně kopií dokladů o jejich úhradě. 2. Propagace loga Karlovarský kraj. 3. Povinné přílohy k dokladům podle charakteru výdaje.
A38: OŠMT | B38: 38 | C38: Program na podporu sportovní infrastruktury profesionálního sportu | D38: Odbor školství, mládeže a tělovýchovy | E38: neinvestiční | F38: ano | G38: 7882138002/5500 - ZBÚ Raiffeisen Bank | H38: 1. Kopie dokladů vztahujících se k vyúčtování dotace včetně kopií dokladů o jejich úhradě. 2. Propagace loga Karlovarský kraj. 3. Povinné přílohy k dokladům podle charakteru výdaje.
... A40: OŠMT | B40: 40 | C40: Program na podporu sportovních aktivit | D40: Odbor školství, mládeže a tělovýchovy | E40: neinvestiční | F40: ano | G40: 7882138002/5500 - ZBÚ Raiffeisen Bank | H40: 1. Kopie dokladů vztahujících se k vyúčtování dotace včetně kopií dokladů o jejich úhradě. 2. Propagace loga Karlovarský kraj. 3. Povinné přílohy k dokladům podle charakteru výdaje.
A41: OŠMT | B41: 41 | C41: Program na podporu studentů vyšších odborných škol - obor vzdělání 75-32-N/01 Sociální práce | D41: Odbor školství, mládeže a tělovýchovy | E41: neinvestiční | F41: ne | G41: 27-5622800267/0100 - Komerční banka
A42: OŠMT | B42: 42 | C42: Program na podporu údržby a obnovy sportovních zařízení | D42: Odbor školství, mládeže a tělovýchovy | F42: ano | G42: 7882138002/5500 - ZBÚ Raiffeisen Bank | H42: 1. Kopie dokladů vztahujících se k vyúčtování dotace včetně kopií dokladů o jejich úhradě. 2. Propagace loga Karlovarský kraj. 3. Povinné přílohy k dokladům podle charakteru výdaje. 4. Fotodokumentace. | I42: 0.3 | J42: výpočet povinného vlastního podílu z poskytnuté dotace
A43: OŠMT | B43: 43 | C43: Program na podporu vrcholového sportu | D43: Odbor školství, mládeže a tělovýchovy | E43: neinvestiční | F43: ano | G43: 7882138002/5500 - ZBÚ Raiffeisen Bank | H43: 1. Kopie dokladů vztahujících se k vyúčtování dotace včetně kopií dokladů o jejich úhradě. 2. Propagace loga Karlovarský kraj. 3. Povinné přílohy k dokladům podle charakteru výdaje.
A44: OŠMT | B44: 44 | C44: Program na podporu základních a středních škol v oblasti prevence rizikových typů chování | D44: Odbor školství, mládeže a tělovýchovy | E44: neinvestiční | F44: ano | G44: 7882138002/5500 - ZBÚ Raiffeisen Bank | H44: 1. Kopie daňových dokladů ve výši poskytnuté dotace včetně kopií dokladů o jejich úhradě. 2. Vyhodnocení použití poskytnuté dotace s popisem realizace a zhodnocením realizovaných aktivit. 3. Průkaznou fotodokumentaci předmětu dotace. 4. Zajištění propagace poskytovatele dotace.
A45: OŠMT | B45: 45 | C45: Program na podporu získání odborné kvalifikace učitelů základních a středních škol zřizovaných Karlovarským krajem, obcí nebo dobrovolným svazkem obcí | D45: Odbor školství, mládeže a tělovýchovy | E45: neinvestiční | F45: ano | G45: 7882138002/5500 - ZBÚ Raiffeisen Bank | H45: 1. Kopie dokladů vztahujících se k vyúčtování dotace včetně kopií dokladů o jejich úhradě. 2. Propagace loga Karlovarský kraj. 3. Povinné přílohy k dokladům podle charakteru výdaje.
A46: OŠMT | B46: 46 | C46: Stipendijní (dotační) program pro studenty ve studijním programu veterinární lékařství | D46: Odbor školství, mládeže a tělovýchovy | E46: neinvestiční | F46: ne
A47: OŠMT | B47: 47 | C47: Program v rámci projektu "Náborové příspěvky v oblasti školství" | D47: Odbor školství, mládeže a tělovýchovy | E47: neinvestiční | F47: ano | G47: 7882138002/5500 - ZBÚ Raiffeisen Bank | H47: 1. Finančního vyúčtování (vyplacení příspěvku učiteli) 2. Kopie smlouvy o poskytnutí náborového příspěvku
A48: OŠMT | B48: 48 | C48: Program v rámci projektu "Obědy do škol v Karlovarském kraji 2023/2024 a 2024/2025" | D48: Odbor školství, mládeže a tělovýchovy | E48: neinvestiční | F48: ano | G48: 220097-6716341/0710- Zvl.Ú Česká národní banka a.s. | H48: 1. Doklad o vlastnictví bankovního účtu 2023 2. Kalkulačka 2023 3. Čestné prohlášení 2023 4. Souhlas zřizovatele 2023 5. Přílohy č. 5, 6 a 7 - obědy do škol - měsíční vyúčtování, přehled jednotek a indikátorů za první pololetí, přehled jednotek a indikátorů za druhé pololetí
A49: OŠMT | B49: 49 | C49: Stipendijní (dotační) program Karlovarského kraje ke zlepšení vzdělanostní struktury obyvatelstva | D49: Odbor školství, mládeže a tělovýchovy | E49: neinvestiční | F49: ne | G49: 27-5622800267/0100 - Komerční banka
...
