Workbook
Name druhysluzeb: [1]data!$A$1:$A$33
Name druhysluzeb: [1]data!$A$1:$A$33
Name druhysluzeb: [1]data!$A$1:$A$33
Name druhysluzeb: data!$A$1:$A$33

Sheet úvodní list
A4: Závěrečná zpráva o poskytování sociální služby za rok 2027 - ambulantní a terénní služby sociální péče (vyplňují sociální služby centra denních služeb, denní stacionáře, odlehčovací služby (ambulantní, terénní forma), osobní asistence, pečovatelská služba, podpora samostatného bydlení, průvodcovské a předčitatelské služby, tísňová péče)
A5: Závěrečná zpráva o poskytování sociální služby v rámci projektu Podpora vybraných služeb sociální prevence za období 1. 1. 2019 - 31. 8. 2019 - ambulantní a terénní služby sociální péče (vyplňují sociální služby podpora samostatného bydlení)
A6: Závěrečná zpráva o poskytování sociální služby za rok 2021 - ambulantní a terénní služby sociální prevence a poradenství (vyplňují sociální služby kontaktní centra, krizová pomoc (ambulantní, terénní forma), nízkoprahová denní centra, nízkoprahová zařízení pro děti a mládež, noclehárny, odborné sociální poradenství, raná péče, služby následné péče (ambulantní forma), sociálně aktivizační služby pro rodiny s dětmi, sociálně aktivizační služby pro seniory a osoby se zdravotním postižením, sociálně terapeutické dílny pro cílovu skupinu osoby s duševním onemocněním, sociální rehabilitace (ambulantní, terénní forma), telefonická krizová pomoc, terénní programy, tlumočnické služby)
A7: Závěrečná zpráva o poskytování sociální služby v rámci projektu Podpora vybraných služeb sociální prevence za období 1. 1. 2019 - 31. 8. 2019 - ambulantní a terénní služby sociální prevence (vyplňují sociální služby intervenční centra (ambulantní, terénní forma), nízkoprahová denní centra, sociální rehabilitace (ambulantní, terénní forma), sociálně terapeutické dílny)
A8: Závěrečná zpráva o poskytování sociální služby za rok 2021 - pobytové služby sociální péče (vyplňují sociální služby domovy pro osoby se zdravotním postižením, domovy pro seniory, domovy se zvláštním režimem, chráněné bydlení, odlehčovací služby (pobytová forma), sociální služby poskytované ve zdravotnických zařízeních lůžkové péče, týdenní stacionáře)
A9: Závěrečná zpráva o poskytování sociální služby za rok 2021 - pobytové služby sociální prevence (vyplňují sociální služby azylové domy, domy na půl cesty, krizová pomoc (pobytová forma), služby následné péče (pobytová forma), sociální rehabilitace (pobytová forma), terapeutické komunity)
A10: Závěrečná zpráva o poskytování sociální služby v rámci projektu Podpora vybraných služeb sociální prevece za období 1. 1. 2019 - 31. 8. 2019 - pobytové služby sociální prevence (vyplňují sociální služby azylové domy, domy na půl cesty, intervenční centra (pobytová forma))
A12: Název poskytovatele sociální služby (příjemce)
A13: IČO | K13: =IFERROR(IF((SEARCH(" ",E13))," IČO nesmí obsahovat mezery")," ")
A14: Název služby
A15: Druh sociální služby (dle zákona o sociálních službách) | E15: nevybráno | J15: =MATCH(E15,data!$A$1:$A$35,0) -> 1 | K15: =IF(J15=1," vyberte, prosím, vhodnou alternativu"," ") -> vyberte, prosím, vhodnou alternativu
A16: Identifikátor služby | K16: =IFERROR(IF((SEARCH(" ",E16))," Identifikátor služby nesmí obsahovat mezery")," ")
A18: Daň z přidané hodnoty (vyberte vhodnou alternativu)) | E18: nevybráno | J18: =MATCH(E18,data!$J$25:$J$27,0) -> 1 | K18: =IF(J18=1," vyberte, prosím, vhodnou alternativu"," ") -> vyberte, prosím, vhodnou alternativu
A20: Kontaktní osoba pro zpracování závěrečné zprávy | E20: funkce:
E21: jméno, příjmení, titul:
E22: telefon:
E23: e-mail:
A25: Prohlášení:
A26: Prohlašuji, že údaje uváděné v této zprávě jsou správné a pravdivé.
A28: Zástupce statutárního orgánu, popř. osoba oprávněná zastupovat příjemce (jedná-li za příjemce více zástupců statutárního orgánu současně, uvedou se všechny tyto osoby) | E28: funkce:
E29: jméno, příjmení, titul:
A31: Místo, datum:
A33: Podpis (zástupce statutárního orgánu*, popř. osoba oprávněná zastupovat příjemce**):
A35: * v případě, kdy za příjemce jedná více zástupců statutárního orgánu současně, musí být závěrečná zpráva podepsána všemi zástupci statutárního orgánu
A36: ** v případě osoby oprávněné zastupovat příjemce odlišné od statutárního orgánu je nutné doložit kopii dokladu opravňujícího zastupovat příjemce
B38: ID: | C38: =Sehrávání!BU44 -> 0

Sheet část A zhodnocení
A1: Část A - Zhodnocení poskytování sociální služby (zhodnoťte průběh poskytování služby, výsledky působení služby, popište případné změny, které nastaly v poskytování služby oproti jejímu popisu v žádosti) Vyplnění není povinné.

Sheet část B ind_AT_péče
A1: Část B - Souhrnné plnění indikátorů - kvantitativních - skutečnost v roce 2027 (vyplní se příslušné tabulky dle druhu sociální služby, vyplní se údaje za službu poskytovanou v rámci kategorie A sítě sociálních služeb v Karlovarském kraji, tj. max. hodnoty indikátorů dle přílohy č. 1 Pověření k poskytování služeb obecného hospodářského zájmu - pokud není dále u jednotlivých tabulek uvedeno jinak)
A3: Ambulantní a terénní služba sociální péče (vyplňují sociální služby centra denních služeb, denní stacionáře, odlehčovací služby (ambulantní, terénní forma), osobní asistence, pečovatelská služba, podpora samostatného bydlení, průvodcovské a předčitatelské služby, tísňová péče)
A5: indikátor | E5: skutečná hodnota (1. pololetí 2027) | F5: skutečná hodnota (3. čtvrtletí 2027) | G5: skutečná hodnota (4. čtvrtletí 2027) | H5: skutečná hodnota (rok 2027) | I5: skutečná hodnota (rok 2027, za celou sociální službu - identifikátor) | K5: Detekce chyby | L5: Ke zvýraznění buněk dojde v případě že: - hodnoty ve sloupci skutečných hodnot za celou sociální službu jsou menší než hodnoty ve sloupci skutečná hodnota – platí pro řádky provozních dob a pro řádek celkový počet uživatelů - v řádku celkový počet uživatelů jsou skutečné hodnoty v časových obdobích (pololetí, čtvrtletí, ..) větší než hodnota ve sloupci skutečná hodnota (pozor, hodnota ve sloupci skutečná hodnota se přenáší ze sloupce celkem (řádek celkem) z tabulky struktura uživatelů!)
A6: provozní doba - celkový počet hodin | H6: =E6+F6+G6 -> 0 | K6: =H6 -> 0
A7: provozní doba - celkový počet dnů | H7: =E7+F7+G7 -> 0 | K7: =H7 -> 0
A8: celkový počet uživatelů | H8: =G24 -> 0 | K8: =H8 -> 0
A9: celkový počet uživatel-dnů (všechny druhy sociálních služeb kromě tísňové péče) | H9: =E9+F9+G9 -> 0
A10: celkový počet uživatel-hodin (všechny druhy sociálních služeb kromě tísňové péče) | H10: =E10+F10+G10 -> 0
A11: počet poskytnutých úkonů (pouze pečovatelská služba) | H11: =E11+F11+G11 -> 0
A12: počet hodin poskytování přímé péče v rámci setkání (pouze pečovatelská služba) | H12: =E12+F12+G12 -> 0
A13: počet hodin pracovní pohotovosti (pouze tísňová péče) | H13: =E13+F13+G13 -> 0
A14: počet využití zařízení tísňové péče (pouze tísňová péče) | H14: =E14+F14+G14 -> 0
A16: Komentář:
A18: struktura uživatelů služby dle stupně závislosti na pomoci jiné fyzické osoby | E18: osoby do 18 let | F18: osoby nad 18 let | G18: celkem | H18: procentní složení uživatelů
A19: stupeň 1 | G19: =E19+F19 -> 0 | H19: =IF($G$24=0,0,G19/$G$24) -> 0
A20: stupeň 2 | G20: =E20+F20 -> 0 | H20: =IF($G$24=0,0,G20/$G$24) -> 0
A21: stupeň 3 | G21: =E21+F21 -> 0 | H21: =IF($G$24=0,0,G21/$G$24) -> 0
A22: stupeň 4 | G22: =E22+F22 -> 0 | H22: =IF($G$24=0,0,G22/$G$24) -> 0
A23: ostatní | G23: =E23+F23 -> 0 | H23: =IF($G$24=0,0,G23/$G$24) -> 0
A24: celkem | E24: =SUM(E19:E23) -> 0 | F24: =SUM(F19:F23) -> 0 | G24: =SUM(G19:G23) -> 0 | H24: =SUM(H19:H23) -> 0
A26: Komentář:
A28: struktura uživatelů služby dle cílové skupiny
A30: Část B - Souhrnné plnění indikátorů - kvantitativních - skutečnost za období leden - srpen 2019 (vyplní se příslušné tabulky dle druhu sociální služby, vyplní se údaje za službu poskytovanou v rámci kategorie A sítě sociálních služeb v Karlovarském kraji, tj. max. hodnoty indikátorů dle přílohy č. 1 Pověření k poskytování služeb obecného hospodářského zájmu v rámci projektu Podpora vybraných služeb sociální prevence - pokud není dále u jednotlivých tabulek uvedeno jinak)
A32: Ambulantní a terénní služba sociální péče (vyplňují sociální služby podpora samostatného bydlení)
A34: indikátor | E34: skutečná hodnota (1. pololetí 2019) | F34: skutečná hodnota (červenec - srpen 2019) | H34: skutečná hodnota (leden - srpen 2019) | I34: skutečná hodnota (leden - srpen 2019, za celou sociální službu - identifikátor) | K34: Detekce chyby | L34: Ke zvýraznění buněk dojde v případě že: - hodnoty ve sloupci skutečných hodnot za celou sociální službu jsou menší než hodnoty ve sloupci skutečná hodnota – platí pro řádky provozních dob a pro řádek celkový počet uživatelů - v řádku celkový počet uživatelů jsou skutečné hodnoty v časových obdobích (pololetí, čtvrtletí, ..) větší než hodnota ve sloupci skutečná hodnota (pozor, hodnota ve sloupci skutečná hodnota se přenáší ze sloupce celkem (řádek celkem) z tabulky struktura uživatelů!)
A35: provozní doba - celkový počet hodin | H35: =E35+F35 -> 0 | K35: =H35 -> 0
A36: provozní doba - celkový počet dnů | H36: =E36+F36 -> 0 | K36: =H36 -> 0
A37: celkový počet uživatelů | H37: =G49 -> 0 | K37: =H37 -> 0
A38: celkový počet uživatel-dnů | H38: =E38+F38 -> 0
A39: celkový počet uživatel-hodin | H39: =E39+F39 -> 0
A41: Komentář:
A43: struktura uživatelů služby dle stupně závislosti na pomoci jiné fyzické osoby | E43: osoby do 18 let | F43: osoby nad 18 let | G43: celkem | H43: procentní složení uživatelů
A44: stupeň 1 | G44: =SUM(E44:F44) -> 0 | H44: =IF($G$49=0,0,G44/$G$49) -> 0
A45: stupeň 2 | G45: =SUM(E45:F45) -> 0 | H45: =IF($G$49=0,0,G45/$G$49) -> 0
A46: stupeň 3 | G46: =SUM(E46:F46) -> 0 | H46: =IF($G$49=0,0,G46/$G$49) -> 0
A47: stupeň 4 | G47: =SUM(E47:F47) -> 0 | H47: =IF($G$49=0,0,G47/$G$49) -> 0
A48: ostatní | G48: =SUM(E48:F48) -> 0 | H48: =IF($G$49=0,0,G48/$G$49) -> 0
A49: celkem | E49: =SUM(E44:E48) -> 0 | F49: =SUM(F44:F48) -> 0 | G49: =SUM(G44:G48) -> 0 | H49: =SUM(H44:H48) -> 0
A51: Komentář:

Sheet část B ind_AT_prev
A1: Část B - Souhrnné plnění indikátorů - kvantitativních - skutečnost v roce 2021 (vyplní se příslušné tabulky dle druhu sociální služby, vyplní se údaje za službu poskytovanou v rámci kategorie A sítě sociálních služeb v Karlovarském kraji, tj. max. hodnoty indikátorů dle přílohy č. 1 Pověření k poskytování služeb obecného hospodářského zájmu - pokud není dále u jednotlivých tabulek uvedeno jinak)
A3: Ambulantní a terénní služba sociální prevence a poradenství (vyplňují sociální služby kontaktní centra, krizová pomoc (ambulantní, terénní forma), nízkoprahová denní centra, nízkoprahová zařízení pro děti a mládež, noclehárny, odborné sociální poradenství, raná péče, služby následné péče (ambulantní forma), sociálně aktivizační služby pro rodiny s dětmi, sociálně aktivizační služby pro seniory a osoby se zdravotním postižením, sociálně terapeutické dílny pro cílovou skupinu osoby s duševním onemocněním, sociální rehabilitace (ambulantní, terénní forma), telefonická krizová pomoc, terénní programy, tlumočnické služby)
A5: indikátor | E5: skutečná hodnota (1. pololetí 2021) | F5: skutečná hodnota (3. čtvrtletí 2021) | G5: skutečná hodnota (4. čtvrtletí 2021) | H5: skutečná hodnota (rok 2021) | I5: skutečná hodnota (rok 2021, za celou sociální službu - identifikátor) | K5: Detekce chyby | L5: Ke zvýraznění buněk dojde v případě že: - hodnoty ve sloupci skutečných hodnot za celou sociální službu jsou menší než hodnoty ve sloupci skutečná hodnota – platí pro řádky provozních dob, pro řádek celkový počet uživatelů, pro řádek celkový počet hovorů a pro řádek celkový počet lůžek - v řádku celkový počet uživatelů jsou skutečné hodnoty v časových obdobích (pololetí, čtvrtletí, ..) větší než hodnota ve sloupci skutečná hodnota
A6: provozní doba - celkový počet hodin | H6: =E6+F6+G6 -> 0 | K6: =H6 -> 0
A7: provozní doba - celkový počet dnů | H7: =E7+F7+G7 -> 0 | K7: =H7 -> 0
A8: celkový počet uživatelů (všechny druhy sociálních služeb kromě telefonické krizové pomoci) | K8: =H8 -> 0
A9: celkový počet hovorů (pouze telefonická krizová pomoc) | H9: =E9+F9+G9 -> 0 | K9: =H9 -> 0
A10: počet lůžek (pouze noclehárny) | K10: =H10 -> 0
A11: celkový počet uživatel-dnů | H11: =E11+F11+G11 -> 0
A12: celkový počet uživatel-hodin (pouze sociálně terapeutické dílny) | H12: =E12+F12+G12 -> 0
A13: celkový počet intervencí (všechny druhy sociálních služeb kromě sociálně terapeutických dílen) | H13: =E13+F13+G13 -> 0
A14: celkový počet kontaktů (všechny druhy sociálních služeb kromě sociálně terapeutických dílen) | H14: =E14+F14+G14 -> 0
A16: Komentář:
A18: struktura uživatelů služby dle stupně závislosti na pomoci jiné fyzické osoby (pouze sociálně terapeutické dílny) | E18: osoby do 18 let | F18: osoby nad 18 let | G18: celkem | H18: procentní složení uživatelů
A19: stupeň 1 | G19: =SUM(E19:F19) -> 0 | H19: =IF($G$24=0,0,G19/$G$24) -> 0
A20: stupeň 2 | G20: =SUM(E20:F20) -> 0 | H20: =IF($G$24=0,0,G20/$G$24) -> 0
A21: stupeň 3 | G21: =SUM(E21:F21) -> 0 | H21: =IF($G$24=0,0,G21/$G$24) -> 0
A22: stupeň 4 | G22: =SUM(E22:F22) -> 0 | H22: =IF($G$24=0,0,G22/$G$24) -> 0
A23: ostatní | G23: =SUM(E23:F23) -> 0 | H23: =IF($G$24=0,0,G23/$G$24) -> 0
A24: celkem | E24: =SUM(E19:E23) -> 0 | F24: =SUM(F19:F23) -> 0 | G24: =SUM(G19:G23) -> 0 | H24: =SUM(H19:H23) -> 0
A26: Komentář:
A28: Část B - Souhrnné plnění indikátorů - kvantitativních - skutečnost za období leden - srpen 2019 (vyplní se příslušné tabulky dle druhu sociální služby, vyplní se údaje za službu poskytovanou v rámci kategorie A sítě sociálních služeb v Karlovarském kraji, tj. max. hodnoty indikátorů dle přílohy č. 1 Pověření k poskytování služeb obecného hospodářského zájmu v rámci projektu Podpora vybraných služeb sociální prevence - pokud není dále u jednotlivých tabulek uvedeno jinak)
A30: Ambulantní a terénní služba sociální prevence (vyplňují sociální služby intervenční centra (ambulantní, terénní forma), nízkoprahová denní centra, sociální rehabilitace (ambulantní, terénní forma), sociálně terapeutické dílny)
A32: indikátor | E32: skutečná hodnota (1. pololetí 2019) | F32: skutečná hodnota (červenec - srpen 2019) | H32: skutečná hodnota (leden - srpen 2019) | I32: skutečná hodnota (leden - srpen 2019, za celou sociální službu - identifikátor) | K32: Detekce chyby | L32: Ke zvýraznění buněk dojde v případě že: - hodnoty ve sloupci skutečných hodnot za celou sociální službu jsou menší než hodnoty ve sloupci skutečná hodnota – platí pro řádky provozních dob a pro řádek celkový počet uživatelů - v řádku celkový počet uživatelů jsou skutečné hodnoty v časových obdobích (pololetí, čtvrtletí, ..) větší než hodnota ve sloupci skutečná hodnota
A33: provozní doba - celkový počet dnů | H33: =E33+F33 -> 0 | K33: =H33 -> 0
A34: provozní doba - celkový počet hodin | H34: =E34+F34 -> 0 | K34: =H34 -> 0
A35: celkový počet uživatelů | K35: =H35 -> 0
A36: celkový počet uživatel-dnů | H36: =E36+F36 -> 0
A37: celkový počet uživatel-hodin (pouze sociálně terapeutické dílny) | H37: =E37+F37 -> 0
A38: celkový počet intervencí (všechny druhy sociálních služeb kromě sociálně terapeutických dílen) | H38: =E38+F38 -> 0
A39: celkový počet kontaktů (všechny druhy sociálních služeb kromě sociálně terapeutických dílen) | H39: =E39+F39 -> 0
A41: Komentář:
A43: struktura uživatelů služby dle stupně závislosti na pomoci jiné fyzické osoby (pouze sociálně terapeutické dílny) | E43: osoby do 18 let | F43: osoby nad 18 let | G43: celkem | H43: procentní složení uživatelů
A44: stupeň 1 | G44: =SUM(E44:F44) -> 0 | H44: =IF($G$49=0,0,G44/$G$49) -> 0
A45: stupeň 2 | G45: =SUM(E45:F45) -> 0 | H45: =IF($G$49=0,0,G45/$G$49) -> 0
A46: stupeň 3 | G46: =SUM(E46:F46) -> 0 | H46: =IF($G$49=0,0,G46/$G$49) -> 0
A47: stupeň 4 | G47: =SUM(E47:F47) -> 0 | H47: =IF($G$49=0,0,G47/$G$49) -> 0
A48: ostatní | G48: =SUM(E48:F48) -> 0 | H48: =IF($G$49=0,0,G48/$G$49) -> 0
A49: celkem | E49: =SUM(E44:E48) -> 0 | F49: =SUM(F44:F48) -> 0 | G49: =SUM(G44:G48) -> 0 | H49: =SUM(H44:H48) -> 0
A51: Komentář:

Sheet část B ind_P_péče
A1: Část B - Souhrnné plnění indikátorů - kvantitativních - skutečnost v roce 2021 (vyplní se příslušné tabulky dle druhu sociální služby, vyplní se údaje za službu poskytovanou v rámci kategorie A sítě sociálních služeb v Karlovarském kraji, tj. max. hodnoty indikátorů dle přílohy č. 1 Pověření k poskytování služeb obecného hospodářského zájmu - pokud není dále u jednotlivých tabulek uvedeno jinak)
A3: Pobytová služba sociální péče (vyplňují sociální služby domovy pro osoby se zdravotním postižením, domovy pro seniory, domovy se zvláštním režimem, chráněné bydlení, odlehčovací služby (pobytová forma), sociální služby poskytované ve zdravotnických zařízeních lůžkové péče, týdenní stacionáře)
A5: indikátor | E5: skutečná hodnota (1. pololetí 2021) | F5: skutečná hodnota (3. čtvrtletí 2021) | G5: skutečná hodnota (4. čtvrtletí 2021) | H5: skutečná hodnota (rok 2021) | I5: skutečná hodnota (rok 2021, za celou sociální službu - identifikátor) | K5: Detekce chyby | L5: Ke zvýraznění buněk dojde v případě že: - hodnoty ve sloupci skutečných hodnot za celou sociální službu jsou menší než hodnoty ve sloupci skutečná hodnota – platí pro řádek počet lůžek, řádek počet dnů poskytování (provozu) služby, řádek celkový skutečný využitý počet lůžko-dnů, řádek obložnost a řádek celkový počet uživatelů - v řádku celkový počet uživatelů jsou skutečné hodnoty v časových obdobích (pololetí, čtvrtletí, ..) větší než hodnota ve sloupci skutečná hodnota (pozor, hodnota ve sloupci skutečná hodnota se přenáší ze sloupce celkem (řádek celkem) z tabulky struktura uživatelů!) - v řádku obložnost (celkový skutečný využitý počet lůžko-dnů / celková kapacita lůžko-dnů) je hodnota větší než 1 (větší než 100%) - detekováno přímo v tabulce - v řádku celkový skutečný využitý počet lůžko-dnů je hodnota větší než v řádku celková kapacita lůžko-dnů (platí pro sloupce všech časových období)
A6: počet lůžek | K6: =H6 -> 0
A7: počet dnů poskytování (provozu) služby | H7: =E7+F7+G7 -> 0 | K7: =H7 -> 0
A8: celková kapacita počtu lůžko-dnů | E8: =E6*E7 -> 0 | F8: =F6*F7 -> 0 | G8: =G6*G7 -> 0 | H8: =H6*H7 -> 0 | I8: =I6*I7 -> 0 | K8: =H8 -> 0
A9: celkový skutečný využitý počet lůžko-dnů | H9: =E9+F9+G9 -> 0 | K9: =H9 -> 0
A10: obložnost | E10: =IF(E8=0,0,E9/E8) -> 0 | F10: =IF(F8=0,0,F9/F8) -> 0 | G10: =IF(G8=0,0,G9/G8) -> 0 | H10: =IF(H8=0,0,H9/H8) -> 0 | I10: =IF(I8=0,0,I9/I8) -> 0
A11: celkový počet uživatelů | H11: =G21 -> 0 | K11: =$H$11 -> 0
A13: Komentář:
A15: struktura uživatelů služby dle stupně závislosti na pomoci jiné fyzické osoby | E15: osoby do 18 let | F15: osoby nad 18 let | G15: celkem | H15: procentní složení uživatelů
A16: stupeň 1 | G16: =E16+F16 -> 0 | H16: =IF($G$21=0,0,G16/$G$21) -> 0
A17: stupeň 2 | G17: =E17+F17 -> 0 | H17: =IF($G$21=0,0,G17/$G$21) -> 0
A18: stupeň 3 | G18: =E18+F18 -> 0 | H18: =IF($G$21=0,0,G18/$G$21) -> 0
A19: stupeň 4 | G19: =E19+F19 -> 0 | H19: =IF($G$21=0,0,G19/$G$21) -> 0
A20: ostatní | G20: =E20+F20 -> 0 | H20: =IF($G$21=0,0,G20/$G$21) -> 0
A21: celkem | E21: =SUM(E16:E20) -> 0 | F21: =F16+F17+F18+F19+F20 -> 0 | G21: =SUM(G16:G20) -> 0 | H21: =SUM(H16:H20) -> 0
A23: Komentář:
A25: struktura lůžek dle jejich obsazení uživateli podle stupně závislosti na pomoci jiné fyzické osoby | E25: počet lůžek | F25: procentní složení uživatelů
A26: stupeň 1 | E26: =$H$6*H16 -> 0 | F26: =IF($E$31=0,0,E26/$E$31) -> 0
A27: stupeň 2 | E27: =$H$6*H17 -> 0 | F27: =IF($E$31=0,0,E27/$E$31) -> 0
A28: stupeň 3 | E28: =$H$6*H18 -> 0 | F28: =IF($E$31=0,0,E28/$E$31) -> 0
A29: stupeň 4 | E29: =$H$6*H19 -> 0 | F29: =IF($E$31=0,0,E29/$E$31) -> 0
A30: ostatní | E30: =$H$6*H20 -> 0 | F30: =IF($E$31=0,0,E30/$E$31) -> 0
A31: celkem | E31: =SUM(E26:E30) -> 0 | F31: =SUM(F26:F30) -> 0
A33: Komentář:

Sheet část B ind_P_prev
A1: Část B - Souhrnné plnění indikátorů - kvantitativních - skutečnost v roce 2021 (vyplní se příslušné tabulky dle druhu sociální služby, vyplní se údaje za službu poskytovanou v rámci kategorie A sítě sociálních služeb v Karlovarském kraji, tj. max. hodnoty indikátorů dle přílohy č. 1 Pověření k poskytování služeb obecného hospodářského zájmu - pokud není dále u jednotlivých tabulek uvedeno jinak)
A3: Pobytová služba sociální prevence (vyplňují sociální služby azylové domy, domy na půl cesty, krizová pomoc (pobytová forma), služby následné péče (pobytová forma), sociální rehabilitace (pobytová forma), terapeutické komunity)
A5: indikátor | E5: skutečná hodnota (1. pololetí 2020) | F5: skutečná hodnota (3. čtvrtletí 2020) | G5: skutečná hodnota (4. čtvrtletí 2020) | H5: skutečná hodnota (rok 2020) | I5: skutečná hodnota (rok 2020, za celou sociální službu - identifikátor) | K5: Detekce chyby | L5: Ke zvýraznění buněk dojde v případě že: - hodnoty ve sloupci skutečných hodnot za celou sociální službu jsou menší než hodnoty ve sloupci skutečná hodnota – platí pro řádek počet lůžek, řádek počet dnů poskytování (provozu) služby, řádek celkový skutečný využitý počet lůžko-dnů, řádek obložnost a řádek celkový počet uživatelů - v řádku celkový počet uživatelů jsou skutečné hodnoty v časových obdobích (pololetí, čtvrtletí, ..) větší než hodnota ve sloupci skutečná hodnota - v řádku obložnost (celková kapacita lůžko-dnů / celkový skutečný využitý počet lůžko-dnů) je hodnota větší než 1 (větší než 100%) - detekováno přímo v tabulce - v řádku celkový skutečný využitý počet lůžko-dnů je hodnota větší než v řádku celková kapacita lůžko-dnů (platí pro sloupce všech časových období)
A6: počet lůžek | K6: =H6 -> 0
A7: počet dnů poskytování (provozu) služby | H7: =E7+F7+G7 -> 0 | K7: =H7 -> 0
A8: celková kapacita počtu lůžko-dnů | E8: =E6*E7 -> 0 | F8: =F6*F7 -> 0 | G8: =G6*G7 -> 0 | H8: =H6*H7 -> 0 | I8: =I6*I7 -> 0 | K8: =H8 -> 0
A9: celkový skutečný využitý počet lůžko-dnů | H9: =E9+F9+G9 -> 0
A10: obložnost | E10: =IF(E8=0,0,E9/E8) -> 0 | F10: =IF(F8=0,0,F9/F8) -> 0 | G10: =IF(G8=0,0,G9/G8) -> 0 | H10: =IF(H8=0,0,H9/H8) -> 0 | I10: =IF(I8=0,0,I9/I8) -> 0 | K10: =H10 -> 0
A11: celkový počet uživatelů | K11: =$H$11 -> 0
A12: celkový počet intervencí | H12: =E12+F12+G12 -> 0
A14: Komentář:
A17: Část B - Souhrnné plnění indikátorů - kvantitativních - skutečnost za období leden - srpen 2019 (vyplní se příslušné tabulky dle druhu sociální služby, vyplní se údaje za službu poskytovanou v rámci kategorie A sítě sociálních služeb v Karlovarském kraji, tj. max. hodnoty indikátorů dle přílohy č. 1 Pověření k poskytování služeb obecného hospodářského zájmu v rámci projektu Podpora vybraných služeb sociální prevence - pokud není dále u jednotlivých tabulek uvedeno jinak)
A19: Pobytová služba sociální prevence (vyplňují sociální služby azylové domy, domy na půl cesty, intervenční centra (pobytová forma))
A21: indikátor | E21: skutečná hodnota (1. pololetí 2019) | F21: skutečná hodnota (červenec - srpen 2019) | H21: skutečná hodnota (leden - srpen 2019) | I21: skutečná hodnota (leden - srpen 2019, za celou sociální službu - identifikátor) | K21: Detekce chyby | L21: Ke zvýraznění buněk dojde v případě že: - hodnoty ve sloupci skutečných hodnot za celou sociální službu jsou menší než hodnoty ve sloupci skutečná hodnota – platí pro řádek počet lůžek, řádek počet dnů poskytování (provozu) služby, řádek celkový skutečný využitý počet lůžko-dnů, řádek obložnost a řádek celkový počet uživatelů - v řádku celkový počet uživatelů jsou skutečné hodnoty v časových obdobích (pololetí, čtvrtletí, ..) větší než hodnota ve sloupci skutečná hodnota - v řádku obložnost (celkový skutečný využitý počet lůžko-dnů / celková kapacita lůžko-dnů) je hodnota větší než 1 (větší než 100%) - detekováno přímo v tabulce - v řádku celkový skutečný využitý počet lůžko-dnů je hodnota větší než v řádku celková kapacita lůžko-dnů (platí pro sloupce všech časových období)
A22: počet lůžek | K22: =H22 -> 0
A23: počet dnů poskytování (provozu) služby | H23: =E23+F23 -> 0 | K23: =H23 -> 0
A24: celková kapacita počtu lůžko-dnů | E24: =E22*E23 -> 0 | F24: =F22*F23 -> 0 | H24: =H22*H23 -> 0 | I24: =I22*I23 -> 0 | K24: =H24 -> 0
A25: celkový skutečný využitý počet lůžko-dnů | H25: =E25+F25 -> 0 | K25: =H25 -> 0
A26: obložnost | E26: =IF(E24=0,0,E25/E24) -> 0 | F26: =IF(F24=0,0,F25/F24) -> 0 | H26: =IF(H24=0,0,H25/H24) -> 0 | I26: =IF(I24=0,0,I25/I24) -> 0 | K26: =H26 -> 0
A27: celkový počet uživatelů | K27: =H27 -> 0
A28: celkový počet intervencí | H28: =E28+F28 -> 0
A30: Komentář:

Sheet část C indikátory
A1: Část C - Souhrnné plnění indikátorů - kvalitativních - skutečnost v roce 2019 (vyplní se podle druhu sociální služby v návaznosti na regionální karty sociálních služeb - RKSS; vyplní se údaje za službu poskytovanou v rámci kategorie A sítě sociálních služeb v Karlovarském kraji)
B2: Část C - Plnění indikátorů - výpočet vratek za nesplnění indikátorů - skutečnost v roce 2027 pro správnou funkci výpočtu je nutno: - na úvodním listu vybrat správný druh sociální služby - v části D zaměstnanci vyplnit tabulku - počty úvazků pracovníků v rámci kategorie A sítě .. - v části B vyplnit skutečné hodnoty indikátorů - v části E náklady vyplnit hodnoty poskytnuté výše neinvestiční dotace 1 / dotace 2 / dofinancování | Q2: Projekt
B4: Výpočet je nastaven na typ služby : | D4: =INDEX(data!A1:A35,'úvodní list'!J15) -> nevybráno
B5: (volbu druhu služby pro výpočet lze provést výběrem druhu služby na úvodním listu formuláře)
B7: Tabulka předepsaných indikátorů a skutečných hodnot indikátorů
B9: Předepsané hodnoty
B10: Typ a název indikátoru | C10: hodnota | D10: poznámka
B11: indikátor 1 (jednotka kapacity)
B12: =INDEX(data!L1:L35,'úvodní list'!J15) | D12: zadejte hodnotu indikátoru z přílohy č. 1 pověření k poskytování služeb obecného hospodářského zájmu v rámci kategorie A sítě sociálních služeb v Karlovarském kraji | H12: =IF(C13>C12,"zadaná minimální hodnota indikátoru 1 je větší než maximální hodnota indikátoru 1"," ")
B13: =INDEX(data!M1:M35,'úvodní list'!J15) | D13: zadejte hodnotu indikátoru z přílohy č.1 Veřejnoprávní smlouvy o poskytnutí dotace z rozpočtu Karlovarského kraje na zajištění sociálních služeb v roce 2027
B14: indikátor 2
B15: =INDEX(data!N1:N35,'úvodní list'!J15) | D15: zadejte hodnotu indikátoru z přílohy č.1 Veřejnoprávní smlouvy o poskytnutí dotace z rozpočtu Karlovarského kraje na zajištění sociálních služeb v roce 2027
B16: Skutečné hodnoty
B17: =INDEX(data!C1:C35,'úvodní list'!J15) | C17: =INDEX(data!D1:D35,'úvodní list'!J15) -> 0 | D17: =INDEX(data!E1:E35,'úvodní list'!J15) -> vyberte druh sociální služby na úvodním listu formuláře | F17: zadat odkaz na indikátor
B18: =INDEX(data!F1:F35,'úvodní list'!J15) | C18: =INDEX(data!G1:G35,'úvodní list'!J15) -> 0 | D18: =INDEX(data!H1:H35,'úvodní list'!J15) -> vyberte druh sociální služby na úvodním listu formuláře | F18: zadat odkaz na indikátor (měnit podle typu ZZ)
C21: =IF(C17>C12,"Službu je nutno rozdělit s důvodu překročení maximální hodnoty indikátoru 1 !!!"," ")
B23: indikátor 1
B24: minimální plnění indikátoru 1 (90%) | C24: =C13*0.9 -> 0 | D24: žlutě podbarvené části budou skryty
B25: koeficient | C25: =IF(C17<C24,(C24-C17)/C24,0) -> 0
B26: zaokrouhlený koeficient | C26: =ROUND(C25,3) -> 0
B27: čerpání dotace 1 | C27: ='část E náklady'!G28+'část E náklady'!G66 -> 0
B28: čerpání dotace 2 | C28: ='část E náklady'!I28+'část E náklady'!I66 -> 0
B29: čerpání dofinancování | C29: ='část E náklady'!J28+'část E náklady'!J66 -> 0
B30: typ dotace a vratky | C30: hodnota (v Kč) | D30: poznámka | F30: Pozor u projektových ZZ (dotace 3)
B31: poskytnutá výše neinvestiční dotace 1 | C31: ='část E náklady'!E5 -> 0 | D31: hodnota z části E náklady, buňka E5 | F31: zadat odkaz odkud se přenáší hodnota
B32: vratka dotace 1 - nesplnění indikátoru 1 | C32: =IF(C27,ROUNDDOWN(C31*C26,-2),0) -> 0 | D32: vypočtená vratka
B33: poskytnutá výše neinvestiční dotace 2 | C33: ='část E náklady'!E15 -> 0 | D33: hodnota z části E náklady, buňka E15 | F33: zadat odkaz odkud se přenáší hodnota
B34: vratka dotace 2 - nesplnění indikátoru 1 | C34: =IF(C28,ROUNDDOWN(C33*C26,-2),0) -> 0 | D34: vypočtená vratka
B35: poskytnutá výše dofinancování | C35: ='část E náklady'!E20 -> 0 | D35: hodnota z části E náklady, buňka E20 | F35: zadat odkaz odkud se přenáší hodnota
B36: vratka dofinancování - nesplnění indikátoru 1 | C36: =IF(C29,ROUNDDOWN(C35*C26,-2),0) -> 0 | D36: vypočtená vratka
B37: vratky indikátor 1 celkem | C37: =C32+C34+C36 -> 0
B39: indikátor 2
B40: minimální procentní hodnota plnění indikátoru 2 - obložnost (65% / 50%) | C40: =IF('úvodní list'!J15=8,50,65) -> 65 | D40: informativně
B41: minimální plnění indikátoru 2 | C41: =IF(B15="obložnost (min.)",C15/100,C15*C40/100) -> 0 | D41: přímo % (obložnost), nebo vypočtená hodnota | F41: podmínka, zda vratka indikátoru 1 = 0, pokud ne, vratka 2 se neuplatní
B42: vratka ano/ne | C42: =IF(C41>C18,IF(C37>0,0,1),0) -> 0 | D42: ano=1 / ne=0
B43: poskytnutá výše neinvestiční dotace 1 | C43: ='část E náklady'!E5 -> 0 | D43: hodnota z části E náklady, buňka E5 | F43: zadat odkaz odkud se přenáší hodnota
B44: vratka dotace 1 - nesplnění indikátoru 2 | C44: =IF(C42=1,IF(C27,(ROUNDDOWN(C43*0.02,-2)),0),0) -> 0 | D44: vypočtená vratka
B45: poskytnutá výše neinvestiční dotace 2 | C45: ='část E náklady'!E15 -> 0 | D45: hodnota z části E náklady, buňka E15 | F45: zadat odkaz odkud se přenáší hodnota
B46: vratka dotace 2 - nesplnění indikátoru 2 | C46: =IF(C42=1,IF(C28,(ROUNDDOWN(C45*0.02,-2)),0),0) -> 0 | D46: vypočtená vratka
B47: poskytnutá výše dofinancování | C47: ='část E náklady'!E20 -> 0 | D47: hodnota z části E náklady, buňka E20 | F47: zadat odkaz odkud se přenáší hodnota
...

Sheet část D zaměstnanci
A1: Část D - Pracovníci služby - skutečnost v roce 2027
A2: Část D - Pracovníci služby - skutečnost za období leden - srpen 2019
A4: Tabulka - počty úvazků pracovníků v rámci kategorie A sítě sociálních služeb v Karlovarském kraji
M5: Detekce chyby
B6: Pracovní pozice | E6: Úvazky - pracovní smlouvy | F6: Rozsah práce (hod.) - dohody o pracovní činnosti | G6: Úvazky - dohody o pracovní činnosti | H6: Rozsah práce (hod.) - dohody o provedení práce | I6: Úvazky - dohody o provedení práce | J6: Úvazky - obchodní smlouvy | K6: Úvazky celkem | M6: Chybí náklady na úvazky - pracovní smlouvy | N6: Chybí náklady na úvazky - dohody o pracovní činnosti | O6: Chybí náklady na úvazky - dohody o provedení práce
A7: 1 | B7: Pracovníci v přímé péči celkem | E7: =ROUND(E8+E9+E14+E28+E37+E38,2) -> 0 | F7: =F8+F9+F14+F28+F37+F38 -> 0 | G7: =ROUND(G8+G9+G14+G28+G37+G38,2) -> 0 | H7: =H8+H9+H14+H28+H37+H38 -> 0 | I7: =ROUND(I8+I9+I14+I28+I37+I38,4) -> 0 | J7: =ROUND(J8+J9+J14+J28+J37+J38,2) -> 0 | K7: =K8+K9+K14+K28+K37+K38 -> 0 | Q7: /* - pozn. zvýraznění položky ve sloupci Úvazky - obchodní smlouvy na tomto řádku nastane v případě, že je zadán úvazek, a že náklady na listu část E náklady, ve sloupci za část služby poskytovanou v rámci kategorie A sítě na řádku 2.6.8 jsou nulové
A8: 1.1 | B8: Sociální pracovníci | G8: =F8/data!$J$20 -> 0 | I8: =H8/data!$J$20 -> 0 | K8: =E8+G8+I8+J8 -> 0 | M8: =E8 -> 0 | N8: =G8 -> 0 | O8: =H8 -> 0
A9: 1.2 | B9: Pracovníci v sociálních službách | E9: =E10+E11+E12+E13 -> 0 | F9: =F10+F11+F12+F13 -> 0 | G9: =G10+G11+G12+G13 -> 0 | H9: =H10+H11+H12+H13 -> 0 | I9: =I10+I11+I12+I13 -> 0 | J9: =J10+J11+J12+J13 -> 0 | K9: =K10+K11+K12+K13 -> 0 | M9: =E9 -> 0 | N9: =G9 -> 0 | O9: =H9 -> 0
A10: 1.2.1 | B10: Přímá obslužná péče | G10: =F10/data!$J$20 -> 0 | I10: =H10/data!$J$20 -> 0 | K10: =E10+G10+I10+J10 -> 0
A11: 1.2.2 | B11: Základní výchovná nepedagogická činnost | G11: =F11/data!$J$20 -> 0 | I11: =H11/data!$J$20 -> 0 | K11: =E11+G11+I11+J11 -> 0
A12: 1.2.3 | B12: Pečovatelská činnost | G12: =F12/data!$J$20 -> 0 | I12: =H12/data!$J$20 -> 0 | K12: =E12+G12+I12+J12 -> 0
A13: 1.2.4 | B13: Činnosti pod dohledem sociálního pracovníka | G13: =F13/data!$J$20 -> 0 | I13: =H13/data!$J$20 -> 0 | K13: =E13+G13+I13+J13 -> 0
A14: 1.3 | B14: Zdravotničtí pracovníci | E14: =E15+E16 -> 0 | F14: =F15+F16 -> 0 | G14: =G15+G16 -> 0 | H14: =H15+H16 -> 0 | I14: =I15+I16 -> 0 | J14: =J15+J16 -> 0 | K14: =K15+K16 -> 0 | M14: =E14 -> 0 | N14: =G14 -> 0 | O14: =H14 -> 0
A15: 1.3.1 | B15: Lékař | G15: =F15/data!$J$20 -> 0 | I15: =H15/data!$J$20 -> 0 | K15: =E15+G15+I15+J15 -> 0
A16: 1.3.2 | B16: Nelékařští zdravotničtí pracovníci | E16: =E17+E18+E19+E20+E21+E22+E23+E24+E25+E26+E27 -> 0 | F16: =F17+F18+F19+F20+F21+F22+F23+F24+F25+F26+F27 -> 0 | G16: =G17+G18+G19+G20+G21+G22+G23+G24+G25+G26+G27 -> 0 | H16: =H17+H18+H19+H20+H21+H22+H23+H24+H25+H26+H27 -> 0 | I16: =I17+I18+I19+I20+I21+I22+I23+I24+I25+I26+I27 -> 0 | J16: =J17+J18+J19+J20+J21+J22+J23+J24+J25+J26+J27 -> 0 | K16: =K17+K18+K19+K20+K21+K22+K23+K24+K25+K26+K27 -> 0
A17: 1.3.2.1 | B17: Všeobecná sestra | G17: =F17/data!$J$20 -> 0 | I17: =H17/data!$J$20 -> 0 | K17: =E17+G17+I17+J17 -> 0
A18: 1.3.2.2 | B18: Zdravotnický asistent | G18: =F18/data!$J$20 -> 0 | I18: =H18/data!$J$20 -> 0 | K18: =E18+G18+I18+J18 -> 0
A19: 1.3.2.3 | B19: Fyzioterapeut | G19: =F19/data!$J$20 -> 0 | I19: =H19/data!$J$20 -> 0 | K19: =E19+G19+I19+J19 -> 0
A20: 1.3.2.4 | B20: Ergoterapeut | G20: =F20/data!$J$20 -> 0 | I20: =H20/data!$J$20 -> 0 | K20: =E20+G20+I20+J20 -> 0
A21: 1.3.2.5 | B21: Zdravotně-sociální pracovník | G21: =F21/data!$J$20 -> 0 | I21: =H21/data!$J$20 -> 0 | K21: =E21+G21+I21+J21 -> 0
A22: 1.3.2.6 | B22: Nutriční terapeut | G22: =F22/data!$J$20 -> 0 | I22: =H22/data!$J$20 -> 0 | K22: =E22+G22+I22+J22 -> 0
A23: 1.3.2.7 | B23: Adiktolog | G23: =F23/data!$J$20 -> 0 | I23: =H23/data!$J$20 -> 0 | K23: =E23+G23+I23+J23 -> 0
A24: 1.3.2.8 | B24: Ošetřovatel | G24: =F24/data!$J$20 -> 0 | I24: =H24/data!$J$20 -> 0 | K24: =E24+G24+I24+J24 -> 0
A25: 1.3.2.9 | B25: Sanitář | G25: =F25/data!$J$20 -> 0 | I25: =H25/data!$J$20 -> 0 | K25: =E25+G25+I25+J25 -> 0
A26: 1.3.2.10 | B26: Jiný odborný pracovník | G26: =F26/data!$J$20 -> 0 | I26: =H26/data!$J$20 -> 0 | K26: =E26+G26+I26+J26 -> 0
A27: 1.3.2.11 | B27: Jiný výše neuvedený pracovník | G27: =F27/data!$J$20 -> 0 | I27: =H27/data!$J$20 -> 0 | K27: =E27+G27+I27+J27 -> 0
A28: 1.4 | B28: Pedagogičtí pracovníci | E28: =E29+E30+E31+E32+E33+E34+E35+E36 -> 0 | F28: =F29+F30+F31+F32+F33+F34+F35+F36 -> 0 | G28: =G29+G30+G31+G32+G33+G34+G35+G36 -> 0 | H28: =H29+H30+H31+H32+H33+H34+H35+H36 -> 0 | I28: =I29+I30+I31+I32+I33+I34+I35+I36 -> 0 | J28: =J29+J30+J31+J32+J33+J34+J35+J36 -> 0 | K28: =K29+K30+K31+K32+K33+K34+K35+K36 -> 0 | M28: =E28 -> 0 | N28: =G28 -> 0 | O28: =H28 -> 0
A29: 1.4.1 | B29: Učitel | G29: =F29/data!$J$20 -> 0 | I29: =H29/data!$J$20 -> 0 | K29: =E29+G29+I29+J29 -> 0
A30: 1.4.2 | B30: Vychovatel | G30: =F30/data!$J$20 -> 0 | I30: =H30/data!$J$20 -> 0 | K30: =E30+G30+I30+J30 -> 0
A31: 1.4.3 | B31: Speciální pedagog | G31: =F31/data!$J$20 -> 0 | I31: =H31/data!$J$20 -> 0 | K31: =E31+G31+I31+J31 -> 0
A32: 1.4.4 | B32: Psycholog | G32: =F32/data!$J$20 -> 0 | I32: =H32/data!$J$20 -> 0 | K32: =E32+G32+I32+J32 -> 0
A33: 1.4.5 | B33: Pedagog volného času | G33: =F33/data!$J$20 -> 0 | I33: =H33/data!$J$20 -> 0 | K33: =E33+G33+I33+J33 -> 0
A34: 1.4.6 | B34: Asistent pedagoga | G34: =F34/data!$J$20 -> 0 | I34: =H34/data!$J$20 -> 0 | K34: =E34+G34+I34+J34 -> 0
A35: 1.4.7 | B35: Trenér | G35: =F35/data!$J$20 -> 0 | I35: =H35/data!$J$20 -> 0 | K35: =E35+G35+I35+J35 -> 0
A36: 1.4.8 | B36: Vedoucí pedagogický pracovník | G36: =F36/data!$J$20 -> 0 | I36: =H36/data!$J$20 -> 0 | K36: =E36+G36+I36+J36 -> 0
A37: 1.5 | B37: Manželští a rodinní poradci | G37: =F37/data!$J$20 -> 0 | I37: =H37/data!$J$20 -> 0 | K37: =E37+G37+I37+J37 -> 0 | M37: =E37 -> 0 | N37: =G37 -> 0 | O37: =H37 -> 0
A38: 1.6 | B38: Další odborní pracovníci, kteří přímo poskytují sociální služby | G38: =F38/data!$J$20 -> 0 | I38: =H38/data!$J$20 -> 0 | K38: =E38+G38+I38+J38 -> 0 | M38: =E38 -> 0 | N38: =G38 -> 0 | O38: =H38 -> 0
A39: 2 | B39: Ostatní pracovníci celkem | E39: =E40+E46+E50 -> 0 | F39: =F40+F46+F50 -> 0 | G39: =G40+G46+G50 -> 0 | H39: =H40+H46+H50 -> 0 | I39: =I40+I46+I50 -> 0 | J39: =J40+J46+J50 -> 0 | K39: =K40+K46+K50 -> 0 | Q39: /* - pozn. zvýraznění položky ve sloupci Úvazky - obchodní smlouvy na tomto řádku nastane v případě, že je zadán úvazek, a že náklady na listu část E náklady, ve sloupci za část služby poskytovanou v rámci kategorie A sítě na řádku 2.6.9 jsou nulové
A40: 2.1 | B40: Ostatní pracovníci (obslužný personál) | E40: =E41+E42+E43+E44+E45 -> 0 | F40: =F41+F42+F43+F44+F45 -> 0 | G40: =G41+G42+G43+G44+G45 -> 0 | H40: =H41+H42+H43+H44+H45 -> 0 | I40: =I41+I42+I43+I44+I45 -> 0 | J40: =J41+J42+J43+J44+J45 -> 0 | K40: =K41+K42+K43+K44+K45 -> 0 | M40: =E40 -> 0 | N40: =G40 -> 0 | O40: =H40 -> 0
A41: 2.1.1 | B41: Pracovníci - prádelna | G41: =F41/data!$J$20 -> 0 | I41: =H41/data!$J$20 -> 0 | K41: =E41+G41+I41+J41 -> 0
...

Sheet část E náklady
A1: Část E - Náklady služby - skutečnost v roce 2027
A2: Část E - Náklady služby - skutečnost za období leden - srpen 2019
A4: Požadavek na neinvestiční dotaci 1
A5: Poskytnutá výše neinvestiční dotace 1
A6: Vyčerpaná výše neinvestiční dotace 1 | E6: =G88 -> 0
A7: Vratka neinvestiční dotace 1 celkem (vratka dle ustanovení Čl. VI. odst. 18 / Čl. VI. odst. 19 smlouvy) | E7: =E5-E6 -> 0
A8: - z toho vratka neinvestiční dotace 1 na učitý konkrétní účel dle ustanovení čl. III. odst. 1 smlouvy
A10: Poskytnutá výše neinvestiční dotace 3
A11: Vyčerpaná výše neinvestiční dotace 3 | E11: =H88 -> 0
A12: Vratka neinvestiční dotace 3 (vratka dle ustanovení Čl. VI. odst. 19 / Čl. VI. odst. 20 smlouvy) | E12: =E10-E11 -> 0
A14: Požadavek na neinvestiční dotaci 2
A15: Poskytnutá výše neinvestiční dotace 2
A16: Vyčerpaná výše neinvestiční dotace 2 | E16: =I88 -> 0
A17: Vratka neinvestiční dotace 2 (vratka dle ustanovení Čl. VI. odst. 18 / Čl. VI. odst. 19 smlouvy) | E17: =E15-E16 -> 0
A19: Požadavek na dofinancování dle Průběžné zprávy o poskytování sociální služby za období leden - duben 2027
A20: Poskytnutá výše dofinancování
A21: Vyčerpaná výše dofinancování | E21: =J88 -> 0
A22: Vratka dofinancování (vratka dle ustanovení Čl. VI. odst. 18 / Čl. VI. odst. 19 smlouvy) | E22: =E20-E21 -> 0
A26: Nákladová položka | E26: Náklady 2027 skutečnost | G26: Čerpání neinvestiční dotace 1 | H26: Čerpání neinvestiční dotace 3 | I26: Čerpání neinvestiční dotace 2 | J26: Čerpání dofinancování | K26: Komentář | M26: Detekce chyby
E27: celkem (za celou sociální službu - identifikátor) | F27: za část služby poskytovanou v rámci kategorie A sítě sociálních služeb v Karlovarském kraji | M27: osobní náklad za celou sociální službu není krytý úvazkem | N27: osobní náklad za část službyv rámci kategorie A sítě není krytý úvazkem | O27: náklad za část služby v rámci kategorie A sítě je větší, než náklad za celou službu | P27: součet čerpání neinvestičních dotací a dofinancování je vyšší, než náklad za část služby poskytované v rámci kategorie A sítě
A28: 1 Osobní náklady | E28: =E29+E41+E53+E65 -> 0 | F28: =F29+F41+F53+F65 -> 0 | G28: =G29+G41+G53+G65 -> 0 | H28: =H29+H41+H53+H65 -> 0 | I28: =I29+I41+I53+I65 -> 0 | J28: =J29+J41+J53+J65 -> 0
A29: 1.1 Pracovní smlouvy | E29: =E30+E37 -> 0 | F29: =F30+F37 -> 0 | G29: =G30+G37 -> 0 | H29: =H30+H37 -> 0 | I29: =I30+I37 -> 0 | J29: =J30+J37 -> 0
A30: 1.1.1 Pracovníci v přímé péči celkem | E30: =E31+E32+E33+E34+E35+E36 -> 0 | F30: =F31+F32+F33+F34+F35+F36 -> 0 | G30: =G31+G32+G33+G34+G35+G36 -> 0 | H30: =H31+H32+H33+H34+H35+H36 -> 0 | I30: =I31+I32+I33+I34+I35+I36 -> 0 | J30: =J31+J32+J33+J34+J35+J36 -> 0
A31: 1.1.1.1 Sociální pracovníci | M31: =E31 -> 0 | N31: =F31 -> 0 | O31: =F31 -> 0 | P31: =G31+H31+I31+J31 -> 0
A32: 1.1.1.2 Pracovníci v sociálních službách | M32: =E32 -> 0 | N32: =F32 -> 0 | O32: =F32 -> 0 | P32: =G32+H32+I32+J32 -> 0
A33: 1.1.1.3 Zdravotničtí pracovníci | M33: =E33 -> 0 | N33: =F33 -> 0 | O33: =F33 -> 0 | P33: =G33+H33+I33+J33 -> 0
A34: 1.1.1.4 Pedagogičtí pracovníci | M34: =E34 -> 0 | N34: =F34 -> 0 | O34: =F34 -> 0 | P34: =G34+H34+I34+J34 -> 0
A35: 1.1.1.5 Manželští a rodinní poradci | M35: =E35 -> 0 | N35: =F35 -> 0 | O35: =F35 -> 0 | P35: =G35+H35+I35+J35 -> 0
A36: 1.1.1.6 Další odborní pracovníci, kteří přímo poskytují sociální služby | M36: =E36 -> 0 | N36: =F36 -> 0 | O36: =F36 -> 0 | P36: =G36+H36+I36+J36 -> 0
A37: 1.1.2 Ostatní pracovníci celkem | E37: =E38+E39+E40 -> 0 | F37: =F38+F39+F40 -> 0 | G37: =G38+G39+G40 -> 0 | H37: =H38+H39+H40 -> 0 | I37: =I38+I39+I40 -> 0 | J37: =J38+J39+J40 -> 0
A38: 1.1.2.1 Ostatní pracovníci (obslužný personál) | M38: =E38 -> 0 | N38: =F38 -> 0 | O38: =F38 -> 0 | P38: =G38+H38+I38+J38 -> 0
A39: 1.1.2.2 Vedoucí pracovníci | M39: =E39 -> 0 | N39: =F39 -> 0 | O39: =F39 -> 0 | P39: =G39+H39+I39+J39 -> 0
A40: 1.1.2.3 Administrativní pracovníci | M40: =E40 -> 0 | N40: =F40 -> 0 | O40: =F40 -> 0 | P40: =G40+H40+I40+J40 -> 0
A41: 1.2 Dohody o pracovní činnosti | E41: =E42+E49 -> 0 | F41: =F42+F49 -> 0 | G41: =G42+G49 -> 0 | H41: =H42+H49 -> 0 | I41: =I42+I49 -> 0 | J41: =J42+J49 -> 0
A42: 1.2.1 Pracovníci v přímé péči celkem | E42: =E43+E44+E45+E46+E47+E48 -> 0 | F42: =F43+F44+F45+F46+F47+F48 -> 0 | G42: =G43+G44+G45+G46+G47+G48 -> 0 | H42: =H43+H44+H45+H46+H47+H48 -> 0 | I42: =I43+I44+I45+I46+I47+I48 -> 0 | J42: =J43+J44+J45+J46+J47+J48 -> 0
A43: 1.2.1.1 Sociální pracovníci | M43: =E43 -> 0 | N43: =F43 -> 0 | O43: =F43 -> 0 | P43: =G43+H43+I43+J43 -> 0
A44: 1.2.1.2 Pracovníci v sociálních službách | M44: =E44 -> 0 | N44: =F44 -> 0 | O44: =F44 -> 0 | P44: =G44+H44+I44+J44 -> 0
A45: 1.2.1.3 Zdravotničtí pracovníci | M45: =E45 -> 0 | N45: =F45 -> 0 | O45: =F45 -> 0 | P45: =G45+H45+I45+J45 -> 0
A46: 1.2.1.4 Pedagogičtí pracovníci | M46: =E46 -> 0 | N46: =F46 -> 0 | O46: =F46 -> 0 | P46: =G46+H46+I46+J46 -> 0
A47: 1.2.1.5 Manželští a rodinní poradci | M47: =E47 -> 0 | N47: =F47 -> 0 | O47: =F47 -> 0 | P47: =G47+H47+I47+J47 -> 0
...

Sheet část F zdroje
A1: Část F - Výnosy (zdroje) služby - skutečnost v roce 2027
A2: Část F - Výnosy (zdroje) služby - skutečnost za období leden - srpen 2019
E4: Skutečnost 2027 | G4: Komentář | K4: Detekce chyby
E5: celkem (za celou sociální službu - identifikátor) | F5: za část služby poskytovanou v rámci kategorie A sítě sociálních služeb v Karlovarském kraji | K5: Výnosy za celou sociální službu jsou menší, než výnosy za část služby v rámci kategorie A sítě
A6: Neinvestiční dotace 2 - dotace z rozpočtu Karlovarského kraje dle ustanovení § 105 zákona o sociálních službách | E6: ='část E náklady'!E16-'část E náklady'!I87 -> 0 | F6: ='část E náklady'!E16-'část E náklady'!I87 -> 0 | G6: od vyčerpané neinvestiční dotace 2 je odečtena vratka prostředků z dotace 2 z důvodu nesplnění stanovené hodnoty plnění indikátorů
A7: Neinvestiční dotace 1 - dotace z rozpočtu Karlovarského kraje dle ustanovení § 101a zákona o sociálních službách | E7: ='část E náklady'!E6-'část E náklady'!G87 -> 0 | F7: ='část E náklady'!E6-'část E náklady'!G87 -> 0 | G7: od vyčerpané neinvestiční dotace 1 je odečtena vratka prostředků z dotace 1 z důvodu nesplnění stanovené hodnoty plnění indikátorů
A8: Neinvestiční dotace 3 - dotace z rozpočtu Karlovarského kraje v rámci projektu Podpora vybraných služeb sociální prevence | E8: ='část E náklady'!E11-'část E náklady'!H87 -> 0 | F8: ='část E náklady'!E11-'část E náklady'!H87 -> 0 | G8: od neinvestiční dotace 3 je odečtena i vratka prostředků z dotace 3 z důvodu nesplnění stanovené hodnoty plnění indikátorů
A9: Dofinancování sociální služby - dotace z rozpočtu Karlovarského kraje dle ustanovení § 105 zákona o sociálních službách | E9: ='část E náklady'!E21-'část E náklady'!J87 -> 0 | F9: ='část E náklady'!E21-'část E náklady'!J87 -> 0 | G9: od vyčerpané výše dofinancování je odečtena vratka prostředků z dofinancování z důvodu nesplnění stanovené hodnoty plnění indikátorů
A10: Karlovarský kraj - příspěvek zřizovatele (vyplňují pouze příspěvkové organizace zřízené krajem) | K10: =F10 -> 0
A11: Ostatní kraje - dotace z rozpočtů krajů (rozepište konkrétní částky od jednotlivých krajů, včetně názvu kraje) | H11: =IF(AND(LEN(G11)=0)*OR(E11<>0,F11<>0)," DOPLŇTE KOMENTÁŘ"," ") | K11: =F11 -> 0
A12: Obce - dotace z rozpočtů obcí | F12: ='část G obce'!C33 -> 0 | K12: =F12 -> 0
A13: Obce - příspěvky zřizovatele | F13: ='část G obce'!D33 -> 0 | K13: =F13 -> 0
A14: Dotace Úřad vlády ČR | K14: =F14 -> 0
A15: Dotace ostatní resorty státní správy (uveďte jaké, včetně konkrétních částek) | H15: =IF(AND(LEN(G15)=0)*OR(E15<>0,F15<>0)," DOPLŇTE KOMENTÁŘ"," ") | K15: =F15 -> 0
A16: Úřad práce ČR | K16: =F16 -> 0
A17: Pěstounská péče - dohoda o výkonu | K17: =F17 -> 0
A18: Strukturální fondy (vlastní projekty poskytovatele sociálních služeb) | K18: =F18 -> 0
A19: Strukturální fondy (projekt Karlovarského kraje) | K19: =F19 -> 0
A20: Strukturální fondy (projekt obce) | K20: =F20 -> 0
A21: Strukturální fondy (ostatní) | K21: =F21 -> 0
A22: Úhrady od uživatelů (za základní činnosti sociální služby) | K22: =F22 -> 0
A23: Úhrady od uživatelů (za fakultativní činnosti) | G23: =IF(E23=0," ","Službu je nutno rozdělit (fakultativní činnosti nejsou součástí A sitě sociálních služeb)") | K23: =F23 -> 0
A24: Fondy zdravotních pojišťoven | K24: =F24 -> 0
A25: Nadace, sponzoři | K25: =F25 -> 0
A26: Jiné zdroje (uveďte jaké) | H26: =IF(AND(LEN(G26)=0)*OR(E26<>0,F26<>0)," DOPLŇTE KOMENTÁŘ"," ") | K26: =F26 -> 0
A27: Celkem | E27: =SUM(E6:E26) -> 0 | F27: =SUM(F6:F26) -> 0
A29: Komentář:
A31: Náklady 2027 celkem (za celou sociální službu - identifikátor) | E31: ='část E náklady'!E88 -> 0
A32: Výnosy 2027 celkem (za celou sociální službu - identifikátor) | E32: =E27 -> 0
A33: Rozdíl (výnosy - náklady) | E33: =E32-E31 -> 0
A34: Náklady 2027 (za část služby poskytovanou v rámci kategorie A sítě sociálních služeb v Karlovarském kraji) | E34: ='část E náklady'!F88 -> 0
A35: Výnosy 2027 (za část služby poskytovanou v rámci kategorie A sítě sociálních služeb v Karlovarském kraji) | E35: =F27 -> 0
A36: Rozdíl (výnosy - náklady) | E36: =E35-E34 -> 0

Sheet část F zdroje zisk
A1: Část F - Výnosy (zdroje) služby - skutečnost v roce 2023
A2: Část F - Výnosy (zdroje) služby - skutečnost za období leden - srpen 2019
E4: Skutečnost 2023 | G4: Komentář | K4: Detekce chyby
E5: celkem (za celou sociální službu - identifikátor) | F5: za část služby poskytovanou v rámci kategorie A sítě sociálních služeb v Karlovarském kraji | K5: Výnosy za celou sociální službu jsou menší, než výnosy za část služby v rámci kategorie A sítě
A6: Neinvestiční dotace 2 - dotace z rozpočtu Karlovarského kraje dle ustanovení § 105 zákona o sociálních službách | E6: ='část E náklady'!E16-'část E náklady'!I87 -> 0 | F6: ='část E náklady'!E16-'část E náklady'!I87 -> 0 | G6: od vyčerpané neinvestiční dotace 2 je odečtena vratka prostředků z dotace 2 z důvodu nesplnění stanovené hodnoty plnění indikátorů
A7: Neinvestiční dotace 1 - dotace z rozpočtu Karlovarského kraje dle ustanovení § 101a zákona o sociálních službách | E7: ='část E náklady'!E6-'část E náklady'!G87 -> 0 | F7: ='část E náklady'!E6-'část E náklady'!G87 -> 0 | G7: od vyčerpané neinvestiční dotace 1 je odečtena vratka prostředků z dotace 1 z důvodu nesplnění stanovené hodnoty plnění indikátorů
A8: Neinvestiční dotace 3 - dotace z rozpočtu Karlovarského kraje v rámci projektu Podpora vybraných služeb sociální prevence | E8: ='část E náklady'!E11-'část E náklady'!H87 -> 0 | F8: ='část E náklady'!E11-'část E náklady'!H87 -> 0 | G8: od neinvestiční dotace 3 je odečtena i vratka prostředků z dotace 3 z důvodu nesplnění stanovené hodnoty plnění indikátorů
A9: Dofinancování sociální služby - dotace z rozpočtu Karlovarského kraje dle ustanovení § 105 zákona o sociálních službách | E9: ='část E náklady'!E21-'část E náklady'!J87 -> 0 | F9: ='část E náklady'!E21-'část E náklady'!J87 -> 0 | G9: od vyčerpané výše dofinancování je odečtena vratka prostředků z dofinancování z důvodu nesplnění stanovené hodnoty plnění indikátorů
A10: Karlovarský kraj - příspěvek zřizovatele (vyplňují pouze příspěvkové organizace zřízené krajem) | K10: =F10 -> 0
A11: Ostatní kraje - dotace z rozpočtů krajů (rozepište konkrétní částky od jednotlivých krajů, včetně názvu kraje) | H11: =IF(AND(LEN(G11)=0)*OR(E11<>0,F11<>0)," DOPLŇTE KOMENTÁŘ"," ") | K11: =F11 -> 0
A12: Obce - dotace z rozpočtů obcí | F12: ='část G obce'!C33 -> 0 | K12: =F12 -> 0
A13: Obce - příspěvky zřizovatele | F13: ='část G obce'!D33 -> 0 | K13: =F13 -> 0
A14: Dotace Úřad vlády ČR | K14: =F14 -> 0
A15: Dotace ostatní resorty státní správy (uveďte jaké, včetně konkrétních částek) | H15: =IF(AND(LEN(G15)=0)*OR(E15<>0,F15<>0)," DOPLŇTE KOMENTÁŘ"," ") | K15: =F15 -> 0
A16: Úřad práce ČR | K16: =F16 -> 0
A17: Pěstounská péče - dohoda o výkonu | K17: =F17 -> 0
A18: Strukturální fondy (vlastní projekty poskytovatele sociálních služeb) | K18: =F18 -> 0
A19: Strukturální fondy (projekt Karlovarského kraje) | K19: =F19 -> 0
A20: Strukturální fondy (projekt obce) | K20: =F20 -> 0
A21: Strukturální fondy (ostatní) | K21: =F21 -> 0
A22: Úhrady od uživatelů (za základní činnosti sociální služby) | K22: =F22 -> 0
A23: Úhrady od uživatelů (za fakultativní činnosti) | G23: =IF(E23=0," ","Službu je nutno rozdělit (fakultativní činnosti nejsou součástí A sitě sociálních služeb)") | K23: =F23 -> 0
A24: Fondy zdravotních pojišťoven | K24: =F24 -> 0
A25: Nadace, sponzoři | K25: =F25 -> 0
A26: Jiné zdroje (uveďte jaké) | H26: =IF(AND(LEN(G26)=0)*OR(E26<>0,F26<>0)," DOPLŇTE KOMENTÁŘ"," ") | K26: =F26 -> 0
A27: Celkem | E27: =SUM(E6:E26) -> 0 | F27: =SUM(F6:F26) -> 0
A29: Komentář:
A31: Náklady 2023 celkem (za celou sociální službu - identifikátor) | E31: ='část E náklady'!E88 -> 0 | G31: rozpočítání vratky za nadměrné vyrovnání
A32: Výnosy 2023 celkem (za celou sociální službu - identifikátor) | E32: =E27 -> 0 | G32: vratka neinvestiční dotace 1 | H32: =IF(E36>0,(F7/(F6+F7+F9))*E36,0) -> 0
A33: Rozdíl (výnosy - náklady) | E33: =E32-E31 -> 0 | G33: vratka neinvestiční dotace 2 | H33: =IF(E36>0,(F6/(F6+F7+F9))*E36,0) -> 0
A34: Náklady 2023 (za část služby poskytovanou v rámci kategorie A sítě sociálních služeb v Karlovarském kraji) | E34: ='část E náklady'!F88 -> 0 | G34: vratka dofinancování | H34: =IF(E36>0,(F9/(F6+F7+F9))*E36,0) -> 0
A35: Výnosy 2023 (za část služby poskytovanou v rámci kategorie A sítě sociálních služeb v Karlovarském kraji) | E35: =F27 -> 0 | G35: vratka celkem | H35: =SUM(H32:H34) -> 0
A36: Rozdíl (výnosy - náklady) | E36: =E35-E34 -> 0 | F36: poznámka: v případě kladného výsledku se jedná o nadměrné vyrovnání - bude vyčíslena vratka neinvestiční dotace 1, neinvestiční dotace 2, dofinancování - viz tabulka rozpočítání vratky …
B43: doplnit výpočet přiměřeného zisku

Sheet část G obce
A1: Část G - Výnosy (zdroje) služby - obce - skutečnost v roce 2027 (vyplní se údaje za část služby poskytovanou v rámci kategorie A sítě sociálních služeb v Karlovarském kraji)
A2: Část G - Výnosy (zdroje) služby - obce - skutečnost za období leden - srpen 2019 (vyplní se údaje za část služby poskytovanou v rámci kategorie A sítě sociálních služeb v Karlovarském kraji)
A4: Výběr obce | B4: Obec | C4: Skutečnost 2027 | E4: Komentář
C5: Dotace z rozpočtu obce | D5: Příspěvek zřizovatele
B6: =IF($F6=1," ",INDEX(data!$A$36:$A$169,$F6,1)) | F6: 1
B7: =IF($F7=1," ",INDEX(data!$A$36:$A$169,$F7,1)) | F7: 1
B8: =IF($F8=1," ",INDEX(data!$A$36:$A$169,$F8,1)) | F8: 1
B9: =IF($F9=1," ",INDEX(data!$A$36:$A$169,$F9,1)) | F9: 1
B10: =IF($F10=1," ",INDEX(data!$A$36:$A$169,$F10,1)) | F10: 1
B11: =IF($F11=1," ",INDEX(data!$A$36:$A$169,$F11,1)) | F11: 1
B12: =IF($F12=1," ",INDEX(data!$A$36:$A$169,$F12,1)) | F12: 1
B13: =IF($F13=1," ",INDEX(data!$A$36:$A$169,$F13,1)) | F13: 1
B14: =IF($F14=1," ",INDEX(data!$A$36:$A$169,$F14,1)) | F14: 1
B15: =IF($F15=1," ",INDEX(data!$A$36:$A$169,$F15,1)) | F15: 1
B16: =IF($F16=1," ",INDEX(data!$A$36:$A$169,$F16,1)) | F16: 1
B17: =IF($F17=1," ",INDEX(data!$A$36:$A$169,$F17,1)) | F17: 1
... B29: =IF($F29=1," ",INDEX(data!$A$36:$A$169,$F29,1)) | F29: 1
A30: jiné - uveďte jaké
A31: jiné - uveďte jaké
A32: jiné - uveďte jaké
A33: Celkem | C33: =SUM(C6:C32) -> 0 | D33: =SUM(D6:D32) -> 0
A35: Komentář:

Sheet část H přílohy
A1: Část H - Seznam příloh k Závěrečné zprávě o poskytování sociální služby
A3: Příloha č. 1 | C3: Doložení publicity finanční podpory od Karlovarského kraje
A4: Příloha č. 2 | C4: …
A5: Příloha č. 3 | C5: …
A6: Příloha č. 4 | C6: …
A7: Příloha č. 5 | C7: …
A10: Příloha č. 1 | C10: Doložení publicity finanční podpory od Karlovarského kraje
A11: Příloha č. 2 | C11: …
A12: Příloha č. 3 | C12: …
A13: Příloha č. 4 | C13: …
A14: Příloha č. 5 | C14: …

Sheet kontrola
A1: Položky | C1: Zaměstnanci - úvazky síť A | H1: Náklady síť A | K1: Zaměstnanci - úvazky celkem | P1: Náklady celkem
C2: Úvazky - pracovní smlouvy | D2: Úvazky - DPČ | E2: Úvazky - DPP | F2: Úvazky - obchodní smlouvy | G2: Úvazky celkem | H2: Pracovní smlouvy | I2: DPČ | J2: DPP | K2: Úvazky - pracovní smlouvy | L2: Úvazky - DPČ | M2: Úvazky - DPP | N2: Úvazky - obchodní smlouvy | O2: Úvazky celkem | P2: Pracovní smlouvy | Q2: DPČ | R2: DPP | T2: Tento list bude pro poskytovatele skryt
A3: 1 | B3: Pracovníci v přímé péči celkem | C3: ='část D zaměstnanci'!E7 -> 0 | D3: ='část D zaměstnanci'!G7 -> 0 | E3: ='část D zaměstnanci'!I7 -> 0 | F3: ='část D zaměstnanci'!J7 -> 0 | G3: ='část D zaměstnanci'!K7 -> 0 | H3: ='část E náklady'!$F$30 -> 0 | I3: ='část E náklady'!F42 -> 0 | J3: ='část E náklady'!F54 -> 0 | K3: =ROUND(('část D zaměstnanci'!E59),2) -> 0 | L3: =ROUND(('část D zaměstnanci'!G59),2) -> 0 | M3: =ROUND(('část D zaměstnanci'!I59),4) -> 0 | N3: =ROUND(('část D zaměstnanci'!J59),2) -> 0 | O3: =ROUND(('část D zaměstnanci'!K59),4) -> 0 | P3: =ROUND(('část E náklady'!E30),2) -> 0 | Q3: =ROUND(('část E náklady'!E42),2) -> 0 | R3: =ROUND(('část E náklady'!E54),2) -> 0 | T3: V tabulkách pro síť A:
A4: 1.1 | B4: Sociální pracovníci | C4: ='část D zaměstnanci'!E8 -> 0 | D4: ='část D zaměstnanci'!G8 -> 0 | E4: ='část D zaměstnanci'!I8 -> 0 | F4: ='část D zaměstnanci'!J8 -> 0 | G4: ='část D zaměstnanci'!K8 -> 0 | H4: ='část E náklady'!$F$31 -> 0 | I4: ='část E náklady'!F43 -> 0 | J4: ='část E náklady'!F55 -> 0 | K4: =ROUND(('část D zaměstnanci'!E60),2) -> 0 | L4: =ROUND(('část D zaměstnanci'!G60),2) -> 0 | M4: =ROUND(('část D zaměstnanci'!I60),4) -> 0 | N4: =ROUND(('část D zaměstnanci'!J60),2) -> 0 | O4: =ROUND(('část D zaměstnanci'!K60),4) -> 0 | P4: =ROUND(('část E náklady'!E31),2) -> 0 | Q4: =ROUND(('část E náklady'!E43),2) -> 0 | R4: =ROUND(('část E náklady'!E55),2) -> 0 | T4: - pokud je zadán úvazek, nebo
A5: 1.2 | B5: Pracovníci v sociálních službách | C5: ='část D zaměstnanci'!E9 -> 0 | D5: ='část D zaměstnanci'!G9 -> 0 | E5: ='část D zaměstnanci'!I9 -> 0 | F5: ='část D zaměstnanci'!J9 -> 0 | G5: ='část D zaměstnanci'!K9 -> 0 | H5: ='část E náklady'!$F$32 -> 0 | I5: ='část E náklady'!F44 -> 0 | J5: ='část E náklady'!F56 -> 0 | K5: =ROUND(('část D zaměstnanci'!E61),2) -> 0 | L5: =ROUND(('část D zaměstnanci'!G61),2) -> 0 | M5: =ROUND(('část D zaměstnanci'!I61),4) -> 0 | N5: =ROUND(('část D zaměstnanci'!J61),2) -> 0 | O5: =ROUND(('část D zaměstnanci'!K61),4) -> 0 | P5: =ROUND(('část E náklady'!E32),2) -> 0 | Q5: =ROUND(('část E náklady'!E44),2) -> 0 | R5: =ROUND(('část E náklady'!E56),2) -> 0 | T5: náklady z úvazku v odpovídajících
A6: 1.2.1 | B6: Přímá obslužná péče | C6: ='část D zaměstnanci'!E10 -> 0 | D6: ='část D zaměstnanci'!G10 -> 0 | E6: ='část D zaměstnanci'!I10 -> 0 | F6: ='část D zaměstnanci'!J10 -> 0 | G6: ='část D zaměstnanci'!K10 -> 0 | H6: --- | I6: --- | J6: --- | K6: =ROUND(('část D zaměstnanci'!E62),2) -> 0 | L6: =ROUND(('část D zaměstnanci'!G62),2) -> 0 | M6: =ROUND(('část D zaměstnanci'!I62),4) -> 0 | N6: =ROUND(('část D zaměstnanci'!J62),2) -> 0 | O6: =ROUND(('část D zaměstnanci'!K62),4) -> 0 | P6: --- | Q6: --- | R6: --- | T6: položkách řádků (modré), buňky se
A7: 1.2.2 | B7: Základní výchovná nepedagogická činnost | C7: ='část D zaměstnanci'!E11 -> 0 | D7: ='část D zaměstnanci'!G11 -> 0 | E7: ='část D zaměstnanci'!I11 -> 0 | F7: ='část D zaměstnanci'!J11 -> 0 | G7: ='část D zaměstnanci'!K11 -> 0 | H7: --- | I7: --- | J7: --- | K7: =ROUND(('část D zaměstnanci'!E63),2) -> 0 | L7: =ROUND(('část D zaměstnanci'!G63),2) -> 0 | M7: =ROUND(('část D zaměstnanci'!I63),4) -> 0 | N7: =ROUND(('část D zaměstnanci'!J63),2) -> 0 | O7: =ROUND(('část D zaměstnanci'!K63),4) -> 0 | P7: --- | Q7: --- | R7: --- | T7: zabarví zeleně, ale
A8: 1.2.3 | B8: Pečovatelská činnost | C8: ='část D zaměstnanci'!E12 -> 0 | D8: ='část D zaměstnanci'!G12 -> 0 | E8: ='část D zaměstnanci'!I12 -> 0 | F8: ='část D zaměstnanci'!J12 -> 0 | G8: ='část D zaměstnanci'!K12 -> 0 | H8: --- | I8: --- | J8: --- | K8: =ROUND(('část D zaměstnanci'!E64),2) -> 0 | L8: =ROUND(('část D zaměstnanci'!G64),2) -> 0 | M8: =ROUND(('část D zaměstnanci'!I64),4) -> 0 | N8: =ROUND(('část D zaměstnanci'!J64),2) -> 0 | O8: =ROUND(('část D zaměstnanci'!K64),4) -> 0 | P8: --- | Q8: --- | R8: --- | T8: - pokud úvazek není kryt
A9: 1.2.4 | B9: Činnosti pod dohledem sociálního pracovníka | C9: ='část D zaměstnanci'!E13 -> 0 | D9: ='část D zaměstnanci'!G13 -> 0 | E9: ='část D zaměstnanci'!I13 -> 0 | F9: ='část D zaměstnanci'!J13 -> 0 | G9: ='část D zaměstnanci'!K13 -> 0 | H9: --- | I9: --- | J9: --- | K9: =ROUND(('část D zaměstnanci'!E65),2) -> 0 | L9: =ROUND(('část D zaměstnanci'!G65),2) -> 0 | M9: =ROUND(('část D zaměstnanci'!I65),4) -> 0 | N9: =ROUND(('část D zaměstnanci'!J65),2) -> 0 | O9: =ROUND(('část D zaměstnanci'!K65),4) -> 0 | P9: --- | Q9: --- | R9: --- | T9: náklady, nebo k vykázaným
A10: 1.3 | B10: Zdravotničtí pracovníci | C10: ='část D zaměstnanci'!E14 -> 0 | D10: ='část D zaměstnanci'!G14 -> 0 | E10: ='část D zaměstnanci'!I14 -> 0 | F10: ='část D zaměstnanci'!J14 -> 0 | G10: ='část D zaměstnanci'!K14 -> 0 | H10: ='část E náklady'!$F$33 -> 0 | I10: ='část E náklady'!F45 -> 0 | J10: ='část E náklady'!F57 -> 0 | K10: =ROUND(('část D zaměstnanci'!E66),2) -> 0 | L10: =ROUND(('část D zaměstnanci'!G66),2) -> 0 | M10: =ROUND(('část D zaměstnanci'!I66),4) -> 0 | N10: =ROUND(('část D zaměstnanci'!J66),2) -> 0 | O10: =ROUND(('část D zaměstnanci'!K66),4) -> 0 | P10: =ROUND(('část E náklady'!E33),2) -> 0 | Q10: =ROUND(('část E náklady'!E45),2) -> 0 | R10: =ROUND(('část E náklady'!E57),2) -> 0 | T10: nákladům není uveden
A11: 1.3.1 | B11: Lékař | C11: ='část D zaměstnanci'!E15 -> 0 | D11: ='část D zaměstnanci'!G15 -> 0 | E11: ='část D zaměstnanci'!I15 -> 0 | F11: ='část D zaměstnanci'!J15 -> 0 | G11: ='část D zaměstnanci'!K15 -> 0 | H11: --- | I11: --- | J11: --- | K11: =ROUND(('část D zaměstnanci'!E67),2) -> 0 | L11: =ROUND(('část D zaměstnanci'!G67),2) -> 0 | M11: =ROUND(('část D zaměstnanci'!I67),4) -> 0 | N11: =ROUND(('část D zaměstnanci'!J67),2) -> 0 | O11: =ROUND(('část D zaměstnanci'!K67),4) -> 0 | P11: --- | Q11: --- | R11: --- | T11: úvazek, zabarví se červeně
A12: 1.3.2 | B12: Nelékařští zdravotničtí pracovníci | C12: ='část D zaměstnanci'!E16 -> 0 | D12: ='část D zaměstnanci'!G16 -> 0 | E12: ='část D zaměstnanci'!I16 -> 0 | F12: ='část D zaměstnanci'!J16 -> 0 | G12: ='část D zaměstnanci'!K16 -> 0 | H12: --- | I12: --- | J12: --- | K12: =ROUND(('část D zaměstnanci'!E68),2) -> 0 | L12: =ROUND(('část D zaměstnanci'!G68),2) -> 0 | M12: =ROUND(('část D zaměstnanci'!I68),4) -> 0 | N12: =ROUND(('část D zaměstnanci'!J68),2) -> 0 | O12: =ROUND(('část D zaměstnanci'!K68),4) -> 0 | P12: --- | Q12: --- | R12: --- | T12: (pozn. K úvazkům z obchodních
A13: 1.3.2.1 | B13: Všeobecná sestra | C13: ='část D zaměstnanci'!E17 -> 0 | D13: ='část D zaměstnanci'!G17 -> 0 | E13: ='část D zaměstnanci'!I17 -> 0 | F13: ='část D zaměstnanci'!J17 -> 0 | G13: ='část D zaměstnanci'!K17 -> 0 | H13: --- | I13: --- | J13: --- | K13: =ROUND(('část D zaměstnanci'!E69),2) -> 0 | L13: =ROUND(('část D zaměstnanci'!G69),2) -> 0 | M13: =ROUND(('část D zaměstnanci'!I69),4) -> 0 | N13: =ROUND(('část D zaměstnanci'!J69),2) -> 0 | O13: =ROUND(('část D zaměstnanci'!K69),4) -> 0 | P13: --- | Q13: --- | R13: --- | T13: smluv jsou náklady uvedeny
