Workbook
Name druhysluzeb: [1]data!$A$1:$A$33
Name druhysluzeb: [1]data!$A$1:$A$33
Name druhysluzeb: [1]data!$A$1:$A$33
Name druhysluzeb: data!$A$1:$A$33

Sheet úvodní list
A4: Závěrečná zpráva o poskytování sociální služby za rok 2027 - ambulantní a terénní služby sociální péče (vyplňují sociální služby centra denních služeb, denní stacionáře, odlehčovací služby (ambulantní, terénní forma), osobní asistence, pečovatelská služba, podpora samostatného bydlení, průvodcovské a předčitatelské služby, tísňová péče)
A5: Závěrečná zpráva o poskytování sociální služby v rámci projektu Podpora vybraných služeb sociální prevence za období 1. 1. 2019 - 31. 8. 2019 - ambulantní a terénní služby sociální péče (vyplňují sociální služby podpora samostatného bydlení)
A6: Závěrečná zpráva o poskytování sociální služby za rok 2021 - ambulantní a terénní služby sociální prevence a poradenství (vyplňují sociální služby kontaktní centra, krizová pomoc (ambulantní, terénní forma), nízkoprahová denní centra, nízkoprahová zařízení pro děti a mládež, noclehárny, odborné sociální poradenství, raná péče, služby následné péče (ambulantní forma), sociálně aktivizační služby pro rodiny s dětmi, sociálně aktivizační služby pro seniory a osoby se zdravotním postižením, sociálně terapeutické dílny pro cílovu skupinu osoby s duševním onemocněním, sociální rehabilitace (ambulantní, terénní forma), telefonická krizová pomoc, terénní programy, tlumočnické služby)
A7: Závěrečná zpráva o poskytování sociální služby v rámci projektu Podpora vybraných služeb sociální prevence za období 1. 1. 2019 - 31. 8. 2019 - ambulantní a terénní služby sociální prevence (vyplňují sociální služby intervenční centra (ambulantní, terénní forma), nízkoprahová denní centra, sociální rehabilitace (ambulantní, terénní forma), sociálně terapeutické dílny)
A8: Závěrečná zpráva o poskytování sociální služby za rok 2021 - pobytové služby sociální péče (vyplňují sociální služby domovy pro osoby se zdravotním postižením, domovy pro seniory, domovy se zvláštním režimem, chráněné bydlení, odlehčovací služby (pobytová forma), sociální služby poskytované ve zdravotnických zařízeních lůžkové péče, týdenní stacionáře)
A9: Závěrečná zpráva o poskytování sociální služby za rok 2021 - pobytové služby sociální prevence (vyplňují sociální služby azylové domy, domy na půl cesty, krizová pomoc (pobytová forma), služby následné péče (pobytová forma), sociální rehabilitace (pobytová forma), terapeutické komunity)
A10: Závěrečná zpráva o poskytování sociální služby v rámci projektu Podpora vybraných služeb sociální prevece za období 1. 1. 2019 - 31. 8. 2019 - pobytové služby sociální prevence (vyplňují sociální služby azylové domy, domy na půl cesty, intervenční centra (pobytová forma))
A12: Název poskytovatele sociální služby (příjemce)
A13: IČO | K13: =IFERROR(IF((SEARCH(" ",E13))," IČO nesmí obsahovat mezery")," ")
A14: Název služby
A15: Druh sociální služby (dle zákona o sociálních službách) | E15: nevybráno | J15: =MATCH(E15,data!$A$1:$A$35,0) -> 1 | K15: =IF(J15=1," vyberte, prosím, vhodnou alternativu"," ") -> vyberte, prosím, vhodnou alternativu
A16: Identifikátor služby | K16: =IFERROR(IF((SEARCH(" ",E16))," Identifikátor služby nesmí obsahovat mezery")," ")
A18: Daň z přidané hodnoty (vyberte vhodnou alternativu)) | E18: nevybráno | J18: =MATCH(E18,data!$J$25:$J$27,0) -> 1 | K18: =IF(J18=1," vyberte, prosím, vhodnou alternativu"," ") -> vyberte, prosím, vhodnou alternativu
A20: Kontaktní osoba pro zpracování závěrečné zprávy | E20: funkce:
E21: jméno, příjmení, titul:
E22: telefon:
E23: e-mail:
A25: Prohlášení:
A26: Prohlašuji, že údaje uváděné v této zprávě jsou správné a pravdivé.
A28: Zástupce statutárního orgánu, popř. osoba oprávněná zastupovat příjemce (jedná-li za příjemce více zástupců statutárního orgánu současně, uvedou se všechny tyto osoby) | E28: funkce:
E29: jméno, příjmení, titul:
A31: Místo, datum:
A33: Podpis (zástupce statutárního orgánu*, popř. osoba oprávněná zastupovat příjemce**):
A35: * v případě, kdy za příjemce jedná více zástupců statutárního orgánu současně, musí být závěrečná zpráva podepsána všemi zástupci statutárního orgánu
A36: ** v případě osoby oprávněné zastupovat příjemce odlišné od statutárního orgánu je nutné doložit kopii dokladu opravňujícího zastupovat příjemce
B38: ID: | C38: =Sehrávání!BU44 -> 0

Sheet část A zhodnocení
A1: Část A - Zhodnocení poskytování sociální služby (zhodnoťte průběh poskytování služby, výsledky působení služby, popište případné změny, které nastaly v poskytování služby oproti jejímu popisu v žádosti) Vyplnění není povinné.

Sheet část B ind_AT_péče
A1: Část B - Souhrnné plnění indikátorů - kvantitativních - skutečnost v roce 2027 (vyplní se příslušné tabulky dle druhu sociální služby, vyplní se údaje za službu poskytovanou v rámci kategorie A sítě sociálních služeb v Karlovarském kraji, tj. max. hodnoty indikátorů dle přílohy č. 1 Pověření k poskytování služeb obecného hospodářského zájmu - pokud není dále u jednotlivých tabulek uvedeno jinak)
A3: Ambulantní a terénní služba sociální péče (vyplňují sociální služby centra denních služeb, denní stacionáře, odlehčovací služby (ambulantní, terénní forma), osobní asistence, pečovatelská služba, podpora samostatného bydlení, průvodcovské a předčitatelské služby, tísňová péče)
A5: indikátor | E5: skutečná hodnota (1. pololetí 2027) | F5: skutečná hodnota (3. čtvrtletí 2027) | G5: skutečná hodnota (4. čtvrtletí 2027) | H5: skutečná hodnota (rok 2027) | I5: skutečná hodnota (rok 2027, za celou sociální službu - identifikátor) | K5: Detekce chyby | L5: Ke zvýraznění buněk dojde v případě že: - hodnoty ve sloupci skutečných hodnot za celou sociální službu jsou menší než hodnoty ve sloupci skutečná hodnota – platí pro řádky provozních dob a pro řádek celkový počet uživatelů - v řádku celkový počet uživatelů jsou skutečné hodnoty v časových obdobích (pololetí, čtvrtletí, ..) větší než hodnota ve sloupci skutečná hodnota (pozor, hodnota ve sloupci skutečná hodnota se přenáší ze sloupce celkem (řádek celkem) z tabulky struktura uživatelů!)
A6: provozní doba - celkový počet hodin | H6: =E6+F6+G6 -> 0 | K6: =H6 -> 0
A7: provozní doba - celkový počet dnů | H7: =E7+F7+G7 -> 0 | K7: =H7 -> 0
A8: celkový počet uživatelů | H8: =G24 -> 0 | K8: =H8 -> 0
A9: celkový počet uživatel-dnů (všechny druhy sociálních služeb kromě tísňové péče) | H9: =E9+F9+G9 -> 0
A10: celkový počet uživatel-hodin (všechny druhy sociálních služeb kromě tísňové péče) | H10: =E10+F10+G10 -> 0
A11: počet poskytnutých úkonů (pouze pečovatelská služba) | H11: =E11+F11+G11 -> 0
A12: počet hodin poskytování přímé péče v rámci setkání (pouze pečovatelská služba) | H12: =E12+F12+G12 -> 0
A13: počet hodin pracovní pohotovosti (pouze tísňová péče) | H13: =E13+F13+G13 -> 0
A14: počet využití zařízení tísňové péče (pouze tísňová péče) | H14: =E14+F14+G14 -> 0
A16: Komentář:
A18: struktura uživatelů služby dle stupně závislosti na pomoci jiné fyzické osoby | E18: osoby do 18 let | F18: osoby nad 18 let | G18: celkem | H18: procentní složení uživatelů
A19: stupeň 1 | G19: =E19+F19 -> 0 | H19: =IF($G$24=0,0,G19/$G$24) -> 0
A20: stupeň 2 | G20: =E20+F20 -> 0 | H20: =IF($G$24=0,0,G20/$G$24) -> 0
A21: stupeň 3 | G21: =E21+F21 -> 0 | H21: =IF($G$24=0,0,G21/$G$24) -> 0
A22: stupeň 4 | G22: =E22+F22 -> 0 | H22: =IF($G$24=0,0,G22/$G$24) -> 0
A23: ostatní | G23: =E23+F23 -> 0 | H23: =IF($G$24=0,0,G23/$G$24) -> 0
A24: celkem | E24: =SUM(E19:E23) -> 0 | F24: =SUM(F19:F23) -> 0 | G24: =SUM(G19:G23) -> 0 | H24: =SUM(H19:H23) -> 0
A26: Komentář:
A28: struktura uživatelů služby dle cílové skupiny
A30: Část B - Souhrnné plnění indikátorů - kvantitativních - skutečnost za období leden - srpen 2019 (vyplní se příslušné tabulky dle druhu sociální služby, vyplní se údaje za službu poskytovanou v rámci kategorie A sítě sociálních služeb v Karlovarském kraji, tj. max. hodnoty indikátorů dle přílohy č. 1 Pověření k poskytování služeb obecného hospodářského zájmu v rámci projektu Podpora vybraných služeb sociální prevence - pokud není dále u jednotlivých tabulek uvedeno jinak)
A32: Ambulantní a terénní služba sociální péče (vyplňují sociální služby podpora samostatného bydlení)
A34: indikátor | E34: skutečná hodnota (1. pololetí 2019) | F34: skutečná hodnota (červenec - srpen 2019) | H34: skutečná hodnota (leden - srpen 2019) | I34: skutečná hodnota (leden - srpen 2019, za celou sociální službu - identifikátor) | K34: Detekce chyby | L34: Ke zvýraznění buněk dojde v případě že: - hodnoty ve sloupci skutečných hodnot za celou sociální službu jsou menší než hodnoty ve sloupci skutečná hodnota – platí pro řádky provozních dob a pro řádek celkový počet uživatelů - v řádku celkový počet uživatelů jsou skutečné hodnoty v časových obdobích (pololetí, čtvrtletí, ..) větší než hodnota ve sloupci skutečná hodnota (pozor, hodnota ve sloupci skutečná hodnota se přenáší ze sloupce celkem (řádek celkem) z tabulky struktura uživatelů!)
A35: provozní doba - celkový počet hodin | H35: =E35+F35 -> 0 | K35: =H35 -> 0
A36: provozní doba - celkový počet dnů | H36: =E36+F36 -> 0 | K36: =H36 -> 0
A37: celkový počet uživatelů | H37: =G49 -> 0 | K37: =H37 -> 0
A38: celkový počet uživatel-dnů | H38: =E38+F38 -> 0
A39: celkový počet uživatel-hodin | H39: =E39+F39 -> 0
A41: Komentář:
A43: struktura uživatelů služby dle stupně závislosti na pomoci jiné fyzické osoby | E43: osoby do 18 let | F43: osoby nad 18 let | G43: celkem | H43: procentní složení uživatelů
A44: stupeň 1 | G44: =SUM(E44:F44) -> 0 | H44: =IF($G$49=0,0,G44/$G$49) -> 0
A45: stupeň 2 | G45: =SUM(E45:F45) -> 0 | H45: =IF($G$49=0,0,G45/$G$49) -> 0
A46: stupeň 3 | G46: =SUM(E46:F46) -> 0 | H46: =IF($G$49=0,0,G46/$G$49) -> 0
A47: stupeň 4 | G47: =SUM(E47:F47) -> 0 | H47: =IF($G$49=0,0,G47/$G$49) -> 0
A48: ostatní | G48: =SUM(E48:F48) -> 0 | H48: =IF($G$49=0,0,G48/$G$49) -> 0
A49: celkem | E49: =SUM(E44:E48) -> 0 | F49: =SUM(F44:F48) -> 0 | G49: =SUM(G44:G48) -> 0 | H49: =SUM(H44:H48) -> 0
A51: Komentář:

Sheet část B ind_AT_prev
A1: Část B - Souhrnné plnění indikátorů - kvantitativních - skutečnost v roce 2021 (vyplní se příslušné tabulky dle druhu sociální služby, vyplní se údaje za službu poskytovanou v rámci kategorie A sítě sociálních služeb v Karlovarském kraji, tj. max. hodnoty indikátorů dle přílohy č. 1 Pověření k poskytování služeb obecného hospodářského zájmu - pokud není dále u jednotlivých tabulek uvedeno jinak)
A3: Ambulantní a terénní služba sociální prevence a poradenství (vyplňují sociální služby kontaktní centra, krizová pomoc (ambulantní, terénní forma), nízkoprahová denní centra, nízkoprahová zařízení pro děti a mládež, noclehárny, odborné sociální poradenství, raná péče, služby následné péče (ambulantní forma), sociálně aktivizační služby pro rodiny s dětmi, sociálně aktivizační služby pro seniory a osoby se zdravotním postižením, sociálně terapeutické dílny pro cílovou skupinu osoby s duševním onemocněním, sociální rehabilitace (ambulantní, terénní forma), telefonická krizová pomoc, terénní programy, tlumočnické služby)
A5: indikátor | E5: skutečná hodnota (1. pololetí 2021) | F5: skutečná hodnota (3. čtvrtletí 2021) | G5: skutečná hodnota (4. čtvrtletí 2021) | H5: skutečná hodnota (rok 2021) | I5: skutečná hodnota (rok 2021, za celou sociální službu - identifikátor) | K5: Detekce chyby | L5: Ke zvýraznění buněk dojde v případě že: - hodnoty ve sloupci skutečných hodnot za celou sociální službu jsou menší než hodnoty ve sloupci skutečná hodnota – platí pro řádky provozních dob, pro řádek celkový počet uživatelů, pro řádek celkový počet hovorů a pro řádek celkový počet lůžek - v řádku celkový počet uživatelů jsou skutečné hodnoty v časových obdobích (pololetí, čtvrtletí, ..) větší než hodnota ve sloupci skutečná hodnota
A6: provozní doba - celkový počet hodin | H6: =E6+F6+G6 -> 0 | K6: =H6 -> 0
A7: provozní doba - celkový počet dnů | H7: =E7+F7+G7 -> 0 | K7: =H7 -> 0
A8: celkový počet uživatelů (všechny druhy sociálních služeb kromě telefonické krizové pomoci) | K8: =H8 -> 0
A9: celkový počet hovorů (pouze telefonická krizová pomoc) | H9: =E9+F9+G9 -> 0 | K9: =H9 -> 0
A10: počet lůžek (pouze noclehárny) | K10: =H10 -> 0
A11: celkový počet uživatel-dnů | H11: =E11+F11+G11 -> 0
A12: celkový počet uživatel-hodin (pouze sociálně terapeutické dílny) | H12: =E12+F12+G12 -> 0
A13: celkový počet intervencí (všechny druhy sociálních služeb kromě sociálně terapeutických dílen) | H13: =E13+F13+G13 -> 0
A14: celkový počet kontaktů (všechny druhy sociálních služeb kromě sociálně terapeutických dílen) | H14: =E14+F14+G14 -> 0
A16: Komentář:
A18: struktura uživatelů služby dle stupně závislosti na pomoci jiné fyzické osoby (pouze sociálně terapeutické dílny) | E18: osoby do 18 let | F18: osoby nad 18 let | G18: celkem | H18: procentní složení uživatelů
A19: stupeň 1 | G19: =SUM(E19:F19) -> 0 | H19: =IF($G$24=0,0,G19/$G$24) -> 0
A20: stupeň 2 | G20: =SUM(E20:F20) -> 0 | H20: =IF($G$24=0,0,G20/$G$24) -> 0
A21: stupeň 3 | G21: =SUM(E21:F21) -> 0 | H21: =IF($G$24=0,0,G21/$G$24) -> 0
A22: stupeň 4 | G22: =SUM(E22:F22) -> 0 | H22: =IF($G$24=0,0,G22/$G$24) -> 0
A23: ostatní | G23: =SUM(E23:F23) -> 0 | H23: =IF($G$24=0,0,G23/$G$24) -> 0
A24: celkem | E24: =SUM(E19:E23) -> 0 | F24: =SUM(F19:F23) -> 0 | G24: =SUM(G19:G23) -> 0 | H24: =SUM(H19:H23) -> 0
A26: Komentář:
A28: Část B - Souhrnné plnění indikátorů - kvantitativních - skutečnost za období leden - srpen 2019 (vyplní se příslušné tabulky dle druhu sociální služby, vyplní se údaje za službu poskytovanou v rámci kategorie A sítě sociálních služeb v Karlovarském kraji, tj. max. hodnoty indikátorů dle přílohy č. 1 Pověření k poskytování služeb obecného hospodářského zájmu v rámci projektu Podpora vybraných služeb sociální prevence - pokud není dále u jednotlivých tabulek uvedeno jinak)
A30: Ambulantní a terénní služba sociální prevence (vyplňují sociální služby intervenční centra (ambulantní, terénní forma), nízkoprahová denní centra, sociální rehabilitace (ambulantní, terénní forma), sociálně terapeutické dílny)
A32: indikátor | E32: skutečná hodnota (1. pololetí 2019) | F32: skutečná hodnota (červenec - srpen 2019) | H32: skutečná hodnota (leden - srpen 2019) | I32: skutečná hodnota (leden - srpen 2019, za celou sociální službu - identifikátor) | K32: Detekce chyby | L32: Ke zvýraznění buněk dojde v případě že: - hodnoty ve sloupci skutečných hodnot za celou sociální službu jsou menší než hodnoty ve sloupci skutečná hodnota – platí pro řádky provozních dob a pro řádek celkový počet uživatelů - v řádku celkový počet uživatelů jsou skutečné hodnoty v časových obdobích (pololetí, čtvrtletí, ..) větší než hodnota ve sloupci skutečná hodnota
A33: provozní doba - celkový počet dnů | H33: =E33+F33 -> 0 | K33: =H33 -> 0
A34: provozní doba - celkový počet hodin | H34: =E34+F34 -> 0 | K34: =H34 -> 0
A35: celkový počet uživatelů | K35: =H35 -> 0
A36: celkový počet uživatel-dnů | H36: =E36+F36 -> 0
A37: celkový počet uživatel-hodin (pouze sociálně terapeutické dílny) | H37: =E37+F37 -> 0
A38: celkový počet intervencí (všechny druhy sociálních služeb kromě sociálně terapeutických dílen) | H38: =E38+F38 -> 0
A39: celkový počet kontaktů (všechny druhy sociálních služeb kromě sociálně terapeutických dílen) | H39: =E39+F39 -> 0
A41: Komentář:
A43: struktura uživatelů služby dle stupně závislosti na pomoci jiné fyzické osoby (pouze sociálně terapeutické dílny) | E43: osoby do 18 let | F43: osoby nad 18 let | G43: celkem | H43: procentní složení uživatelů
A44: stupeň 1 | G44: =SUM(E44:F44) -> 0 | H44: =IF($G$49=0,0,G44/$G$49) -> 0
A45: stupeň 2 | G45: =SUM(E45:F45) -> 0 | H45: =IF($G$49=0,0,G45/$G$49) -> 0
A46: stupeň 3 | G46: =SUM(E46:F46) -> 0 | H46: =IF($G$49=0,0,G46/$G$49) -> 0
A47: stupeň 4 | G47: =SUM(E47:F47) -> 0 | H47: =IF($G$49=0,0,G47/$G$49) -> 0
A48: ostatní | G48: =SUM(E48:F48) -> 0 | H48: =IF($G$49=0,0,G48/$G$49) -> 0
A49: celkem | E49: =SUM(E44:E48) -> 0 | F49: =SUM(F44:F48) -> 0 | G49: =SUM(G44:G48) -> 0 | H49: =SUM(H44:H48) -> 0
A51: Komentář:

Sheet část B ind_P_péče
A1: Část B - Souhrnné plnění indikátorů - kvantitativních - skutečnost v roce 2021 (vyplní se příslušné tabulky dle druhu sociální služby, vyplní se údaje za službu poskytovanou v rámci kategorie A sítě sociálních služeb v Karlovarském kraji, tj. max. hodnoty indikátorů dle přílohy č. 1 Pověření k poskytování služeb obecného hospodářského zájmu - pokud není dále u jednotlivých tabulek uvedeno jinak)
A3: Pobytová služba sociální péče (vyplňují sociální služby domovy pro osoby se zdravotním postižením, domovy pro seniory, domovy se zvláštním režimem, chráněné bydlení, odlehčovací služby (pobytová forma), sociální služby poskytované ve zdravotnických zařízeních lůžkové péče, týdenní stacionáře)
A5: indikátor | E5: skutečná hodnota (1. pololetí 2021) | F5: skutečná hodnota (3. čtvrtletí 2021) | G5: skutečná hodnota (4. čtvrtletí 2021) | H5: skutečná hodnota (rok 2021) | I5: skutečná hodnota (rok 2021, za celou sociální službu - identifikátor) | K5: Detekce chyby | L5: Ke zvýraznění buněk dojde v případě že: - hodnoty ve sloupci skutečných hodnot za celou sociální službu jsou menší než hodnoty ve sloupci skutečná hodnota – platí pro řádek počet lůžek, řádek počet dnů poskytování (provozu) služby, řádek celkový skutečný využitý počet lůžko-dnů, řádek obložnost a řádek celkový počet uživatelů - v řádku celkový počet uživatelů jsou skutečné hodnoty v časových obdobích (pololetí, čtvrtletí, ..) větší než hodnota ve sloupci skutečná hodnota (pozor, hodnota ve sloupci skutečná hodnota se přenáší ze sloupce celkem (řádek celkem) z tabulky struktura uživatelů!) - v řádku obložnost (celkový skutečný využitý počet lůžko-dnů / celková kapacita lůžko-dnů) je hodnota větší než 1 (větší než 100%) - detekováno přímo v tabulce - v řádku celkový skutečný využitý počet lůžko-dnů je hodnota větší než v řádku celková kapacita lůžko-dnů (platí pro sloupce všech časových období)
A6: počet lůžek | K6: =H6 -> 0
A7: počet dnů poskytování (provozu) služby | H7: =E7+F7+G7 -> 0 | K7: =H7 -> 0
A8: celková kapacita počtu lůžko-dnů | E8: =E6*E7 -> 0 | F8: =F6*F7 -> 0 | G8: =G6*G7 -> 0 | H8: =H6*H7 -> 0 | I8: =I6*I7 -> 0 | K8: =H8 -> 0
A9: celkový skutečný využitý počet lůžko-dnů | H9: =E9+F9+G9 -> 0 | K9: =H9 -> 0
A10: obložnost | E10: =IF(E8=0,0,E9/E8) -> 0 | F10: =IF(F8=0,0,F9/F8) -> 0 | G10: =IF(G8=0,0,G9/G8) -> 0 | H10: =IF(H8=0,0,H9/H8) -> 0 | I10: =IF(I8=0,0,I9/I8) -> 0
A11: celkový počet uživatelů | H11: =G21 -> 0 | K11: =$H$11 -> 0
A13: Komentář:
A15: struktura uživatelů služby dle stupně závislosti na pomoci jiné fyzické osoby | E15: osoby do 18 let | F15: osoby nad 18 let | G15: celkem | H15: procentní složení uživatelů
A16: stupeň 1 | G16: =E16+F16 -> 0 | H16: =IF($G$21=0,0,G16/$G$21) -> 0
A17: stupeň 2 | G17: =E17+F17 -> 0 | H17: =IF($G$21=0,0,G17/$G$21) -> 0
A18: stupeň 3 | G18: =E18+F18 -> 0 | H18: =IF($G$21=0,0,G18/$G$21) -> 0
A19: stupeň 4 | G19: =E19+F19 -> 0 | H19: =IF($G$21=0,0,G19/$G$21) -> 0
A20: ostatní | G20: =E20+F20 -> 0 | H20: =IF($G$21=0,0,G20/$G$21) -> 0
A21: celkem | E21: =SUM(E16:E20) -> 0 | F21: =F16+F17+F18+F19+F20 -> 0 | G21: =SUM(G16:G20) -> 0 | H21: =SUM(H16:H20) -> 0
A23: Komentář:
A25: struktura lůžek dle jejich obsazení uživateli podle stupně závislosti na pomoci jiné fyzické osoby | E25: počet lůžek | F25: procentní složení uživatelů
A26: stupeň 1 | E26: =$H$6*H16 -> 0 | F26: =IF($E$31=0,0,E26/$E$31) -> 0
A27: stupeň 2 | E27: =$H$6*H17 -> 0 | F27: =IF($E$31=0,0,E27/$E$31) -> 0
A28: stupeň 3 | E28: =$H$6*H18 -> 0 | F28: =IF($E$31=0,0,E28/$E$31) -> 0
A29: stupeň 4 | E29: =$H$6*H19 -> 0 | F29: =IF($E$31=0,0,E29/$E$31) -> 0
A30: ostatní | E30: =$H$6*H20 -> 0 | F30: =IF($E$31=0,0,E30/$E$31) -> 0
A31: celkem | E31: =SUM(E26:E30) -> 0 | F31: =SUM(F26:F30) -> 0
A33: Komentář:

Sheet část B ind_P_prev
A1: Část B - Souhrnné plnění indikátorů - kvantitativních - skutečnost v roce 2021 (vyplní se příslušné tabulky dle druhu sociální služby, vyplní se údaje za službu poskytovanou v rámci kategorie A sítě sociálních služeb v Karlovarském kraji, tj. max. hodnoty indikátorů dle přílohy č. 1 Pověření k poskytování služeb obecného hospodářského zájmu - pokud není dále u jednotlivých tabulek uvedeno jinak)
A3: Pobytová služba sociální prevence (vyplňují sociální služby azylové domy, domy na půl cesty, krizová pomoc (pobytová forma), služby následné péče (pobytová forma), sociální rehabilitace (pobytová forma), terapeutické komunity)
A5: indikátor | E5: skutečná hodnota (1. pololetí 2020) | F5: skutečná hodnota (3. čtvrtletí 2020) | G5: skutečná hodnota (4. čtvrtletí 2020) | H5: skutečná hodnota (rok 2020) | I5: skutečná hodnota (rok 2020, za celou sociální službu - identifikátor) | K5: Detekce chyby | L5: Ke zvýraznění buněk dojde v případě že: - hodnoty ve sloupci skutečných hodnot za celou sociální službu jsou menší než hodnoty ve sloupci skutečná hodnota – platí pro řádek počet lůžek, řádek počet dnů poskytování (provozu) služby, řádek celkový skutečný využitý počet lůžko-dnů, řádek obložnost a řádek celkový počet uživatelů - v řádku celkový počet uživatelů jsou skutečné hodnoty v časových obdobích (pololetí, čtvrtletí, ..) větší než hodnota ve sloupci skutečná hodnota - v řádku obložnost (celková kapacita lůžko-dnů / celkový skutečný využitý počet lůžko-dnů) je hodnota větší než 1 (větší než 100%) - detekováno přímo v tabulce - v řádku celkový skutečný využitý počet lůžko-dnů je hodnota větší než v řádku celková kapacita lůžko-dnů (platí pro sloupce všech časových období)
A6: počet lůžek | K6: =H6 -> 0
A7: počet dnů poskytování (provozu) služby | H7: =E7+F7+G7 -> 0 | K7: =H7 -> 0
A8: celková kapacita počtu lůžko-dnů | E8: =E6*E7 -> 0 | F8: =F6*F7 -> 0 | G8: =G6*G7 -> 0 | H8: =H6*H7 -> 0 | I8: =I6*I7 -> 0 | K8: =H8 -> 0
A9: celkový skutečný využitý počet lůžko-dnů | H9: =E9+F9+G9 -> 0
A10: obložnost | E10: =IF(E8=0,0,E9/E8) -> 0 | F10: =IF(F8=0,0,F9/F8) -> 0 | G10: =IF(G8=0,0,G9/G8) -> 0 | H10: =IF(H8=0,0,H9/H8) -> 0 | I10: =IF(I8=0,0,I9/I8) -> 0 | K10: =H10 -> 0
A11: celkový počet uživatelů | K11: =$H$11 -> 0
A12: celkový počet intervencí | H12: =E12+F12+G12 -> 0
A14: Komentář:
A17: Část B - Souhrnné plnění indikátorů - kvantitativních - skutečnost za období leden - srpen 2019 (vyplní se příslušné tabulky dle druhu sociální služby, vyplní se údaje za službu poskytovanou v rámci kategorie A sítě sociálních služeb v Karlovarském kraji, tj. max. hodnoty indikátorů dle přílohy č. 1 Pověření k poskytování služeb obecného hospodářského zájmu v rámci projektu Podpora vybraných služeb sociální prevence - pokud není dále u jednotlivých tabulek uvedeno jinak)
A19: Pobytová služba sociální prevence (vyplňují sociální služby azylové domy, domy na půl cesty, intervenční centra (pobytová forma))
A21: indikátor | E21: skutečná hodnota (1. pololetí 2019) | F21: skutečná hodnota (červenec - srpen 2019) | H21: skutečná hodnota (leden - srpen 2019) | I21: skutečná hodnota (leden - srpen 2019, za celou sociální službu - identifikátor) | K21: Detekce chyby | L21: Ke zvýraznění buněk dojde v případě že: - hodnoty ve sloupci skutečných hodnot za celou sociální službu jsou menší než hodnoty ve sloupci skutečná hodnota – platí pro řádek počet lůžek, řádek počet dnů poskytování (provozu) služby, řádek celkový skutečný využitý počet lůžko-dnů, řádek obložnost a řádek celkový počet uživatelů - v řádku celkový počet uživatelů jsou skutečné hodnoty v časových obdobích (pololetí, čtvrtletí, ..) větší než hodnota ve sloupci skutečná hodnota - v řádku obložnost (celkový skutečný využitý počet lůžko-dnů / celková kapacita lůžko-dnů) je hodnota větší než 1 (větší než 100%) - detekováno přímo v tabulce - v řádku celkový skutečný využitý počet lůžko-dnů je hodnota větší než v řádku celková kapacita lůžko-dnů (platí pro sloupce všech časových období)
A22: počet lůžek | K22: =H22 -> 0
A23: počet dnů poskytování (provozu) služby | H23: =E23+F23 -> 0 | K23: =H23 -> 0
A24: celková kapacita počtu lůžko-dnů | E24: =E22*E23 -> 0 | F24: =F22*F23 -> 0 | H24: =H22*H23 -> 0 | I24: =I22*I23 -> 0 | K24: =H24 -> 0
A25: celkový skutečný využitý počet lůžko-dnů | H25: =E25+F25 -> 0 | K25: =H25 -> 0
A26: obložnost | E26: =IF(E24=0,0,E25/E24) -> 0 | F26: =IF(F24=0,0,F25/F24) -> 0 | H26: =IF(H24=0,0,H25/H24) -> 0 | I26: =IF(I24=0,0,I25/I24) -> 0 | K26: =H26 -> 0
A27: celkový počet uživatelů | K27: =H27 -> 0
A28: celkový počet intervencí | H28: =E28+F28 -> 0
A30: Komentář:

Sheet část C indikátory
A1: Část C - Souhrnné plnění indikátorů - kvalitativních - skutečnost v roce 2019 (vyplní se podle druhu sociální služby v návaznosti na regionální karty sociálních služeb - RKSS; vyplní se údaje za službu poskytovanou v rámci kategorie A sítě sociálních služeb v Karlovarském kraji)
B2: Část C - Plnění indikátorů - výpočet vratek za nesplnění indikátorů - skutečnost v roce 2027 pro správnou funkci výpočtu je nutno: - na úvodním listu vybrat správný druh sociální služby - v části D zaměstnanci vyplnit tabulku - počty úvazků pracovníků v rámci kategorie A sítě .. - v části B vyplnit skutečné hodnoty indikátorů - v části E náklady vyplnit hodnoty poskytnuté výše neinvestiční dotace 1 / dotace 2 / dofinancování | Q2: Projekt
B4: Výpočet je nastaven na typ služby : | D4: =INDEX(data!A1:A35,'úvodní list'!J15) -> nevybráno
B5: (volbu druhu služby pro výpočet lze provést výběrem druhu služby na úvodním listu formuláře)
B7: Tabulka předepsaných indikátorů a skutečných hodnot indikátorů
B9: Předepsané hodnoty
B10: Typ a název indikátoru | C10: hodnota | D10: poznámka
B11: indikátor 1 (jednotka kapacity)
B12: =INDEX(data!L1:L35,'úvodní list'!J15) | D12: zadejte hodnotu indikátoru z přílohy č. 1 pověření k poskytování služeb obecného hospodářského zájmu v rámci kategorie A sítě sociálních služeb v Karlovarském kraji | H12: =IF(C13>C12,"zadaná minimální hodnota indikátoru 1 je větší než maximální hodnota indikátoru 1"," ")
B13: =INDEX(data!M1:M35,'úvodní list'!J15) | D13: zadejte hodnotu indikátoru z přílohy č.1 Veřejnoprávní smlouvy o poskytnutí dotace z rozpočtu Karlovarského kraje na zajištění sociálních služeb v roce 2027
B14: indikátor 2
B15: =INDEX(data!N1:N35,'úvodní list'!J15) | D15: zadejte hodnotu indikátoru z přílohy č.1 Veřejnoprávní smlouvy o poskytnutí dotace z rozpočtu Karlovarského kraje na zajištění sociálních služeb v roce 2027
B16: Skutečné hodnoty
B17: =INDEX(data!C1:C35,'úvodní list'!J15) | C17: =INDEX(data!D1:D35,'úvodní list'!J15) -> 0 | D17: =INDEX(data!E1:E35,'úvodní list'!J15) -> vyberte druh sociální služby na úvodním listu formuláře | F17: zadat odkaz na indikátor
B18: =INDEX(data!F1:F35,'úvodní list'!J15) | C18: =INDEX(data!G1:G35,'úvodní list'!J15) -> 0 | D18: =INDEX(data!H1:H35,'úvodní list'!J15) -> vyberte druh sociální služby na úvodním listu formuláře | F18: zadat odkaz na indikátor (měnit podle typu ZZ)
C21: =IF(C17>C12,"Službu je nutno rozdělit s důvodu překročení maximální hodnoty indikátoru 1 !!!"," ")
B23: indikátor 1
B24: minimální plnění indikátoru 1 (90%) | C24: =C13*0.9 -> 0 | D24: žlutě podbarvené části budou skryty
B25: koeficient | C25: =IF(C17<C24,(C24-C17)/C24,0) -> 0
B26: zaokrouhlený koeficient | C26: =ROUND(C25,3) -> 0
B27: čerpání dotace 1 | C27: ='část E náklady'!G28+'část E náklady'!G66 -> 0
B28: čerpání dotace 2 | C28: ='část E náklady'!I28+'část E náklady'!I66 -> 0
B29: čerpání dofinancování | C29: ='část E náklady'!J28+'část E náklady'!J66 -> 0
B30: typ dotace a vratky | C30: hodnota (v Kč) | D30: poznámka | F30: Pozor u projektových ZZ (dotace 3)
B31: poskytnutá výše neinvestiční dotace 1 | C31: ='část E náklady'!E5 -> 0 | D31: hodnota z části E náklady, buňka E5 | F31: zadat odkaz odkud se přenáší hodnota
B32: vratka dotace 1 - nesplnění indikátoru 1 | C32: =IF(C27,ROUNDDOWN(C31*C26,-2),0) -> 0 | D32: vypočtená vratka
B33: poskytnutá výše neinvestiční dotace 2 | C33: ='část E náklady'!E15 -> 0 | D33: hodnota z části E náklady, buňka E15 | F33: zadat odkaz odkud se přenáší hodnota
B34: vratka dotace 2 - nesplnění indikátoru 1 | C34: =IF(C28,ROUNDDOWN(C33*C26,-2),0) -> 0 | D34: vypočtená vratka
B35: poskytnutá výše dofinancování | C35: ='část E náklady'!E20 -> 0 | D35: hodnota z části E náklady, buňka E20 | F35: zadat odkaz odkud se přenáší hodnota
B36: vratka dofinancování - nesplnění indikátoru 1 | C36: =IF(C29,ROUNDDOWN(C35*C26,-2),0) -> 0 | D36: vypočtená vratka
B37: vratky indikátor 1 celkem | C37: =C32+C34+C36 -> 0
B39: indikátor 2
B40: minimální procentní hodnota plnění indikátoru 2 - obložnost (65% / 50%) | C40: =IF('úvodní list'!J15=8,50,65) -> 65 | D40: informativně
B41: minimální plnění indikátoru 2 | C41: =IF(B15="obložnost (min.)",C15/100,C15*C40/100) -> 0 | D41: přímo % (obložnost), nebo vypočtená hodnota | F41: podmínka, zda vratka indikátoru 1 = 0, pokud ne, vratka 2 se neuplatní
B42: vratka ano/ne | C42: =IF(C41>C18,IF(C37>0,0,1),0) -> 0 | D42: ano=1 / ne=0
B43: poskytnutá výše neinvestiční dotace 1 | C43: ='část E náklady'!E5 -> 0 | D43: hodnota z části E náklady, buňka E5 | F43: zadat odkaz odkud se přenáší hodnota
B44: vratka dotace 1 - nesplnění indikátoru 2 | C44: =IF(C42=1,IF(C27,(ROUNDDOWN(C43*0.02,-2)),0),0) -> 0 | D44: vypočtená vratka
B45: poskytnutá výše neinvestiční dotace 2 | C45: ='část E náklady'!E15 -> 0 | D45: hodnota z části E náklady, buňka E15 | F45: zadat odkaz odkud se přenáší hodnota
B46: vratka dotace 2 - nesplnění indikátoru 2 | C46: =IF(C42=1,IF(C28,(ROUNDDOWN(C45*0.02,-2)),0),0) -> 0 | D46: vypočtená vratka
B47: poskytnutá výše dofinancování | C47: ='část E náklady'!E20 -> 0 | D47: hodnota z části E náklady, buňka E20 | F47: zadat odkaz odkud se přenáší hodnota
B48: vratka dofinancování - nesplnění indikátoru 2 | C48: =IF(C42=1,IF(C29,(ROUNDDOWN(C47*0.02,-2)),0),0) -> 0 | D48: vypočtená vratka
B49: vratky indikátor 2 celkem | C49: =C44+C46+C48 -> 0 | D49: pozn.: v případě, že existuje vratka dotace z důvodu nesplnění indikátoru 1, vratka z důvodu nesplnění indikátoru 2 se neuplatní
B51: vratka dotace 1 - celkem | C51: =C32+C44 -> 0 | D51: hodnoty vypočítaných vratek se přenesou do části E náklady
B52: vratka dotace 2 - celkem | C52: =C34+C46 -> 0
B53: vratka dofinancování - celkem | C53: =C36+C48 -> 0

Sheet část D zaměstnanci
A1: Část D - Pracovníci služby - skutečnost v roce 2027
A2: Část D - Pracovníci služby - skutečnost za období leden - srpen 2019
A4: Tabulka - počty úvazků pracovníků v rámci kategorie A sítě sociálních služeb v Karlovarském kraji
M5: Detekce chyby
B6: Pracovní pozice | E6: Úvazky - pracovní smlouvy | F6: Rozsah práce (hod.) - dohody o pracovní činnosti | G6: Úvazky - dohody o pracovní činnosti | H6: Rozsah práce (hod.) - dohody o provedení práce | I6: Úvazky - dohody o provedení práce | J6: Úvazky - obchodní smlouvy | K6: Úvazky celkem | M6: Chybí náklady na úvazky - pracovní smlouvy | N6: Chybí náklady na úvazky - dohody o pracovní činnosti | O6: Chybí náklady na úvazky - dohody o provedení práce
A7: 1 | B7: Pracovníci v přímé péči celkem | E7: =ROUND(E8+E9+E14+E28+E37+E38,2) -> 0 | F7: =F8+F9+F14+F28+F37+F38 -> 0 | G7: =ROUND(G8+G9+G14+G28+G37+G38,2) -> 0 | H7: =H8+H9+H14+H28+H37+H38 -> 0 | I7: =ROUND(I8+I9+I14+I28+I37+I38,4) -> 0 | J7: =ROUND(J8+J9+J14+J28+J37+J38,2) -> 0 | K7: =K8+K9+K14+K28+K37+K38 -> 0 | Q7: /* - pozn. zvýraznění položky ve sloupci Úvazky - obchodní smlouvy na tomto řádku nastane v případě, že je zadán úvazek, a že náklady na listu část E náklady, ve sloupci za část služby poskytovanou v rámci kategorie A sítě na řádku 2.6.8 jsou nulové
A8: 1.1 | B8: Sociální pracovníci | G8: =F8/data!$J$20 -> 0 | I8: =H8/data!$J$20 -> 0 | K8: =E8+G8+I8+J8 -> 0 | M8: =E8 -> 0 | N8: =G8 -> 0 | O8: =H8 -> 0
A9: 1.2 | B9: Pracovníci v sociálních službách | E9: =E10+E11+E12+E13 -> 0 | F9: =F10+F11+F12+F13 -> 0 | G9: =G10+G11+G12+G13 -> 0 | H9: =H10+H11+H12+H13 -> 0 | I9: =I10+I11+I12+I13 -> 0 | J9: =J10+J11+J12+J13 -> 0 | K9: =K10+K11+K12+K13 -> 0 | M9: =E9 -> 0 | N9: =G9 -> 0 | O9: =H9 -> 0
A10: 1.2.1 | B10: Přímá obslužná péče | G10: =F10/data!$J$20 -> 0 | I10: =H10/data!$J$20 -> 0 | K10: =E10+G10+I10+J10 -> 0
A11: 1.2.2 | B11: Základní výchovná nepedagogická činnost | G11: =F11/data!$J$20 -> 0 | I11: =H11/data!$J$20 -> 0 | K11: =E11+G11+I11+J11 -> 0
A12: 1.2.3 | B12: Pečovatelská činnost | G12: =F12/data!$J$20 -> 0 | I12: =H12/data!$J$20 -> 0 | K12: =E12+G12+I12+J12 -> 0
A13: 1.2.4 | B13: Činnosti pod dohledem sociálního pracovníka | G13: =F13/data!$J$20 -> 0 | I13: =H13/data!$J$20 -> 0 | K13: =E13+G13+I13+J13 -> 0
A14: 1.3 | B14: Zdravotničtí pracovníci | E14: =E15+E16 -> 0 | F14: =F15+F16 -> 0 | G14: =G15+G16 -> 0 | H14: =H15+H16 -> 0 | I14: =I15+I16 -> 0 | J14: =J15+J16 -> 0 | K14: =K15+K16 -> 0 | M14: =E14 -> 0 | N14: =G14 -> 0 | O14: =H14 -> 0
A15: 1.3.1 | B15: Lékař | G15: =F15/data!$J$20 -> 0 | I15: =H15/data!$J$20 -> 0 | K15: =E15+G15+I15+J15 -> 0
A16: 1.3.2 | B16: Nelékařští zdravotničtí pracovníci | E16: =E17+E18+E19+E20+E21+E22+E23+E24+E25+E26+E27 -> 0 | F16: =F17+F18+F19+F20+F21+F22+F23+F24+F25+F26+F27 -> 0 | G16: =G17+G18+G19+G20+G21+G22+G23+G24+G25+G26+G27 -> 0 | H16: =H17+H18+H19+H20+H21+H22+H23+H24+H25+H26+H27 -> 0 | I16: =I17+I18+I19+I20+I21+I22+I23+I24+I25+I26+I27 -> 0 | J16: =J17+J18+J19+J20+J21+J22+J23+J24+J25+J26+J27 -> 0 | K16: =K17+K18+K19+K20+K21+K22+K23+K24+K25+K26+K27 -> 0
A17: 1.3.2.1 | B17: Všeobecná sestra | G17: =F17/data!$J$20 -> 0 | I17: =H17/data!$J$20 -> 0 | K17: =E17+G17+I17+J17 -> 0
A18: 1.3.2.2 | B18: Zdravotnický asistent | G18: =F18/data!$J$20 -> 0 | I18: =H18/data!$J$20 -> 0 | K18: =E18+G18+I18+J18 -> 0
A19: 1.3.2.3 | B19: Fyzioterapeut | G19: =F19/data!$J$20 -> 0 | I19: =H19/data!$J$20 -> 0 | K19: =E19+G19+I19+J19 -> 0
A20: 1.3.2.4 | B20: Ergoterapeut | G20: =F20/data!$J$20 -> 0 | I20: =H20/data!$J$20 -> 0 | K20: =E20+G20+I20+J20 -> 0
A21: 1.3.2.5 | B21: Zdravotně-sociální pracovník | G21: =F21/data!$J$20 -> 0 | I21: =H21/data!$J$20 -> 0 | K21: =E21+G21+I21+J21 -> 0
A22: 1.3.2.6 | B22: Nutriční terapeut | G22: =F22/data!$J$20 -> 0 | I22: =H22/data!$J$20 -> 0 | K22: =E22+G22+I22+J22 -> 0
A23: 1.3.2.7 | B23: Adiktolog | G23: =F23/data!$J$20 -> 0 | I23: =H23/data!$J$20 -> 0 | K23: =E23+G23+I23+J23 -> 0
A24: 1.3.2.8 | B24: Ošetřovatel | G24: =F24/data!$J$20 -> 0 | I24: =H24/data!$J$20 -> 0 | K24: =E24+G24+I24+J24 -> 0
A25: 1.3.2.9 | B25: Sanitář | G25: =F25/data!$J$20 -> 0 | I25: =H25/data!$J$20 -> 0 | K25: =E25+G25+I25+J25 -> 0
A26: 1.3.2.10 | B26: Jiný odborný pracovník | G26: =F26/data!$J$20 -> 0 | I26: =H26/data!$J$20 -> 0 | K26: =E26+G26+I26+J26 -> 0
A27: 1.3.2.11 | B27: Jiný výše neuvedený pracovník | G27: =F27/data!$J$20 -> 0 | I27: =H27/data!$J$20 -> 0 | K27: =E27+G27+I27+J27 -> 0
A28: 1.4 | B28: Pedagogičtí pracovníci | E28: =E29+E30+E31+E32+E33+E34+E35+E36 -> 0 | F28: =F29+F30+F31+F32+F33+F34+F35+F36 -> 0 | G28: =G29+G30+G31+G32+G33+G34+G35+G36 -> 0 | H28: =H29+H30+H31+H32+H33+H34+H35+H36 -> 0 | I28: =I29+I30+I31+I32+I33+I34+I35+I36 -> 0 | J28: =J29+J30+J31+J32+J33+J34+J35+J36 -> 0 | K28: =K29+K30+K31+K32+K33+K34+K35+K36 -> 0 | M28: =E28 -> 0 | N28: =G28 -> 0 | O28: =H28 -> 0
A29: 1.4.1 | B29: Učitel | G29: =F29/data!$J$20 -> 0 | I29: =H29/data!$J$20 -> 0 | K29: =E29+G29+I29+J29 -> 0
A30: 1.4.2 | B30: Vychovatel | G30: =F30/data!$J$20 -> 0 | I30: =H30/data!$J$20 -> 0 | K30: =E30+G30+I30+J30 -> 0
A31: 1.4.3 | B31: Speciální pedagog | G31: =F31/data!$J$20 -> 0 | I31: =H31/data!$J$20 -> 0 | K31: =E31+G31+I31+J31 -> 0
A32: 1.4.4 | B32: Psycholog | G32: =F32/data!$J$20 -> 0 | I32: =H32/data!$J$20 -> 0 | K32: =E32+G32+I32+J32 -> 0
A33: 1.4.5 | B33: Pedagog volného času | G33: =F33/data!$J$20 -> 0 | I33: =H33/data!$J$20 -> 0 | K33: =E33+G33+I33+J33 -> 0
A34: 1.4.6 | B34: Asistent pedagoga | G34: =F34/data!$J$20 -> 0 | I34: =H34/data!$J$20 -> 0 | K34: =E34+G34+I34+J34 -> 0
A35: 1.4.7 | B35: Trenér | G35: =F35/data!$J$20 -> 0 | I35: =H35/data!$J$20 -> 0 | K35: =E35+G35+I35+J35 -> 0
A36: 1.4.8 | B36: Vedoucí pedagogický pracovník | G36: =F36/data!$J$20 -> 0 | I36: =H36/data!$J$20 -> 0 | K36: =E36+G36+I36+J36 -> 0
A37: 1.5 | B37: Manželští a rodinní poradci | G37: =F37/data!$J$20 -> 0 | I37: =H37/data!$J$20 -> 0 | K37: =E37+G37+I37+J37 -> 0 | M37: =E37 -> 0 | N37: =G37 -> 0 | O37: =H37 -> 0
A38: 1.6 | B38: Další odborní pracovníci, kteří přímo poskytují sociální služby | G38: =F38/data!$J$20 -> 0 | I38: =H38/data!$J$20 -> 0 | K38: =E38+G38+I38+J38 -> 0 | M38: =E38 -> 0 | N38: =G38 -> 0 | O38: =H38 -> 0
A39: 2 | B39: Ostatní pracovníci celkem | E39: =E40+E46+E50 -> 0 | F39: =F40+F46+F50 -> 0 | G39: =G40+G46+G50 -> 0 | H39: =H40+H46+H50 -> 0 | I39: =I40+I46+I50 -> 0 | J39: =J40+J46+J50 -> 0 | K39: =K40+K46+K50 -> 0 | Q39: /* - pozn. zvýraznění položky ve sloupci Úvazky - obchodní smlouvy na tomto řádku nastane v případě, že je zadán úvazek, a že náklady na listu část E náklady, ve sloupci za část služby poskytovanou v rámci kategorie A sítě na řádku 2.6.9 jsou nulové
A40: 2.1 | B40: Ostatní pracovníci (obslužný personál) | E40: =E41+E42+E43+E44+E45 -> 0 | F40: =F41+F42+F43+F44+F45 -> 0 | G40: =G41+G42+G43+G44+G45 -> 0 | H40: =H41+H42+H43+H44+H45 -> 0 | I40: =I41+I42+I43+I44+I45 -> 0 | J40: =J41+J42+J43+J44+J45 -> 0 | K40: =K41+K42+K43+K44+K45 -> 0 | M40: =E40 -> 0 | N40: =G40 -> 0 | O40: =H40 -> 0
A41: 2.1.1 | B41: Pracovníci - prádelna | G41: =F41/data!$J$20 -> 0 | I41: =H41/data!$J$20 -> 0 | K41: =E41+G41+I41+J41 -> 0
A42: 2.1.2 | B42: Pracovníci - stravování | G42: =F42/data!$J$20 -> 0 | I42: =H42/data!$J$20 -> 0 | K42: =E42+G42+I42+J42 -> 0
A43: 2.1.3 | B43: Pracovníci - údržba | G43: =F43/data!$J$20 -> 0 | I43: =H43/data!$J$20 -> 0 | K43: =E43+G43+I43+J43 -> 0
A44: 2.1.4 | B44: Pracovníci - úklid | G44: =F44/data!$J$20 -> 0 | I44: =H44/data!$J$20 -> 0 | K44: =E44+G44+I44+J44 -> 0
A45: 2.1.5 | B45: Pracovníci - obslužný personál ostatní | G45: =F45/data!$J$20 -> 0 | I45: =H45/data!$J$20 -> 0 | K45: =E45+G45+I45+J45 -> 0
A46: 2.2 | B46: Vedoucí pracovníci | E46: =E47+E48+E49 -> 0 | F46: =F47+F48+F49 -> 0 | G46: =G47+G48+G49 -> 0 | H46: =H47+H48+H49 -> 0 | I46: =I47+I48+I49 -> 0 | J46: =J47+J48+J49 -> 0 | K46: =K47+K48+K49 -> 0 | M46: =E46 -> 0 | N46: =G46 -> 0 | O46: =H46 -> 0
A47: 2.2.1 | B47: Vedoucí organizace | G47: =F47/data!$J$20 -> 0 | I47: =H47/data!$J$20 -> 0 | K47: =E47+G47+I47+J47 -> 0
A48: 2.2.2 | B48: Vedoucí služby | G48: =F48/data!$J$20 -> 0 | I48: =H48/data!$J$20 -> 0 | K48: =E48+G48+I48+J48 -> 0
A49: 2.2.3 | B49: Ostatní vedoucí pracovníci | G49: =F49/data!$J$20 -> 0 | I49: =H49/data!$J$20 -> 0 | K49: =E49+G49+I49+J49 -> 0
A50: 2.3 | B50: Administrativní pracovníci | E50: =E51+E52+E53 -> 0 | F50: =F51+F52+F53 -> 0 | G50: =G51+G52+G53 -> 0 | H50: =H51+H52+H53 -> 0 | I50: =I51+I52+I53 -> 0 | J50: =J51+J52+J53 -> 0 | K50: =K51+K52+K53 -> 0 | M50: =E50 -> 0 | N50: =G50 -> 0 | O50: =H50 -> 0
A51: 2.3.1 | B51: Pracovníci - sekretářské a asistenční pozice | G51: =F51/data!$J$20 -> 0 | I51: =H51/data!$J$20 -> 0 | K51: =E51+G51+I51+J51 -> 0
A52: 2.3.2 | B52: Účetní | G52: =F52/data!$J$20 -> 0 | I52: =H52/data!$J$20 -> 0 | K52: =E52+G52+I52+J52 -> 0
A53: 2.3.3 | B53: Ostatní administrativní pracovníci | G53: =F53/data!$J$20 -> 0 | I53: =H53/data!$J$20 -> 0 | K53: =E53+G53+I53+J53 -> 0
B54: Pracovníci (hodiny) celkem | E54: =E7+E39 -> 0 | F54: =F7+F39 -> 0 | G54: =G7+G39 -> 0 | H54: =H7+H39 -> 0 | I54: =I7+I39 -> 0 | J54: =J7+J39 -> 0 | K54: =K7+K39 -> 0
A56: Tabulka - počty úvazků pracovníků celkem za celou sociální službu (identifikátor)
M57: Detekce chyby
B58: Pracovní pozice | E58: Úvazky - pracovní smlouvy | F58: Rozsah práce (hod.) - dohody o pracovní činnosti | G58: Úvazky - dohody o pracovní činnosti | H58: Rozsah práce (hod.) - dohody o provedení práce | I58: Úvazky - dohody o provedení práce | J58: Úvazky - obchodní smlouvy | K58: Úvazky celkem | M58: Chybí náklady na úvazky - pracovní smlouvy | N58: Chybí náklady na úvazky - dohody o pracovní činnosti | O58: Chybí náklady na úvazky - dohody o provedení práce
A59: 1 | B59: Pracovníci v přímé péči celkem | E59: =ROUND(E60+E61+E66+E80+E89+E90,2) -> 0 | F59: =F60+F61+F66+F80+F89+F90 -> 0 | G59: =ROUND(G60+G61+G66+G80+G89+G90,2) -> 0 | H59: =H60+H61+H66+H80+H89+H90 -> 0 | I59: =ROUND(I60+I61+I66+I80+I89+I90,4) -> 0 | J59: =ROUND(J60+J61+J66+J80+J89+J90,2) -> 0 | K59: =K60+K61+K66+K80+K89+K90 -> 0 | Q59: /* - pozn. zvýraznění položky ve sloupci Úvazky - obchodní smlouvy na tomto řádku nastane v případě, že je zadán úvazek, a že náklady na listu část E náklady, ve sloupci celkem (za celou sociální službu) na řádku 2.6.8 jsou nulové
A60: 1.1 | B60: Sociální pracovníci | G60: =F60/data!$J$20 -> 0 | I60: =H60/data!$J$20 -> 0 | K60: =E60+G60+I60+J60 -> 0 | M60: =E60 -> 0 | N60: =G60 -> 0 | O60: =H60 -> 0
A61: 1.2 | B61: Pracovníci v sociálních službách | E61: =E62+E63+E64+E65 -> 0 | F61: =F62+F63+F64+F65 -> 0 | G61: =G62+G63+G64+G65 -> 0 | H61: =H62+H63+H64+H65 -> 0 | I61: =I62+I63+I64+I65 -> 0 | J61: =J62+J63+J64+J65 -> 0 | K61: =K62+K63+K64+K65 -> 0 | M61: =E61 -> 0 | N61: =G61 -> 0 | O61: =H61 -> 0
A62: 1.2.1 | B62: Přímá obslužná péče | G62: =F62/data!$J$20 -> 0 | I62: =H62/data!$J$20 -> 0 | K62: =E62+G62+I62+J62 -> 0
A63: 1.2.2 | B63: Základní výchovná nepedagogická činnost | G63: =F63/data!$J$20 -> 0 | I63: =H63/data!$J$20 -> 0 | K63: =E63+G63+I63+J63 -> 0
A64: 1.2.3 | B64: Pečovatelská činnost | G64: =F64/data!$J$20 -> 0 | I64: =H64/data!$J$20 -> 0 | K64: =E64+G64+I64+J64 -> 0
A65: 1.2.4 | B65: Činnosti pod dohledem sociálního pracovníka | G65: =F65/data!$J$20 -> 0 | I65: =H65/data!$J$20 -> 0 | K65: =E65+G65+I65+J65 -> 0
A66: 1.3 | B66: Zdravotničtí pracovníci | E66: =E67+E68 -> 0 | F66: =F67+F68 -> 0 | G66: =G67+G68 -> 0 | H66: =H67+H68 -> 0 | I66: =I67+I68 -> 0 | J66: =J67+J68 -> 0 | K66: =K67+K68 -> 0 | M66: =E66 -> 0 | N66: =G66 -> 0 | O66: =H66 -> 0
A67: 1.3.1 | B67: Lékař | G67: =F67/data!$J$20 -> 0 | I67: =H67/data!$J$20 -> 0 | K67: =E67+G67+I67+J67 -> 0
A68: 1.3.2 | B68: Nelékařští zdravotničtí pracovníci | E68: =E69+E70+E71+E72+E73+E74+E75+E76+E77+E78+E79 -> 0 | F68: =F69+F70+F71+F72+F73+F74+F75+F76+F77+F78+F79 -> 0 | G68: =G69+G70+G71+G72+G73+G74+G75+G76+G77+G78+G79 -> 0 | H68: =H69+H70+H71+H72+H73+H74+H75+H76+H77+H78+H79 -> 0 | I68: =I69+I70+I71+I72+I73+I74+I75+I76+I77+I78+I79 -> 0 | J68: =J69+J70+J71+J72+J73+J74+J75+J76+J77+J78+J79 -> 0 | K68: =K69+K70+K71+K72+K73+K74+K75+K76+K77+K78+K79 -> 0
A69: 1.3.2.1 | B69: Všeobecná sestra | G69: =F69/data!$J$20 -> 0 | I69: =H69/data!$J$20 -> 0 | K69: =E69+G69+I69+J69 -> 0
A70: 1.3.2.2 | B70: Zdravotnický asistent | G70: =F70/data!$J$20 -> 0 | I70: =H70/data!$J$20 -> 0 | K70: =E70+G70+I70+J70 -> 0
A71: 1.3.2.3 | B71: Fyzioterapeut | G71: =F71/data!$J$20 -> 0 | I71: =H71/data!$J$20 -> 0 | K71: =E71+G71+I71+J71 -> 0
A72: 1.3.2.4 | B72: Ergoterapeut | G72: =F72/data!$J$20 -> 0 | I72: =H72/data!$J$20 -> 0 | K72: =E72+G72+I72+J72 -> 0
A73: 1.3.2.5 | B73: Zdravotně-sociální pracovník | G73: =F73/data!$J$20 -> 0 | I73: =H73/data!$J$20 -> 0 | K73: =E73+G73+I73+J73 -> 0
A74: 1.3.2.6 | B74: Nutriční terapeut | G74: =F74/data!$J$20 -> 0 | I74: =H74/data!$J$20 -> 0 | K74: =E74+G74+I74+J74 -> 0
A75: 1.3.2.7 | B75: Adiktolog | G75: =F75/data!$J$20 -> 0 | I75: =H75/data!$J$20 -> 0 | K75: =E75+G75+I75+J75 -> 0
A76: 1.3.2.8 | B76: Ošetřovatel | G76: =F76/data!$J$20 -> 0 | I76: =H76/data!$J$20 -> 0 | K76: =E76+G76+I76+J76 -> 0
A77: 1.3.2.9 | B77: Sanitář | G77: =F77/data!$J$20 -> 0 | I77: =H77/data!$J$20 -> 0 | K77: =E77+G77+I77+J77 -> 0
A78: 1.3.2.10 | B78: Jiný odborný pracovník | G78: =F78/data!$J$20 -> 0 | I78: =H78/data!$J$20 -> 0 | K78: =E78+G78+I78+J78 -> 0
A79: 1.3.2.11 | B79: Jiný výše neuvedený pracovník | G79: =F79/data!$J$20 -> 0 | I79: =H79/data!$J$20 -> 0 | K79: =E79+G79+I79+J79 -> 0
A80: 1.4 | B80: Pedagogičtí pracovníci | E80: =E81+E82+E83+E84+E85+E86+E87+E88 -> 0 | F80: =F81+F82+F83+F84+F85+F86+F87+F88 -> 0 | G80: =G81+G82+G83+G84+G85+G86+G87+G88 -> 0 | H80: =H81+H82+H83+H84+H85+H86+H87+H88 -> 0 | I80: =I81+I82+I83+I84+I85+I86+I87+I88 -> 0 | J80: =J81+J82+J83+J84+J85+J86+J87+J88 -> 0 | K80: =K81+K82+K83+K84+K85+K86+K87+K88 -> 0 | M80: =E80 -> 0 | N80: =G80 -> 0 | O80: =H80 -> 0
A81: 1.4.1 | B81: Učitel | G81: =F81/data!$J$20 -> 0 | I81: =H81/data!$J$20 -> 0 | K81: =E81+G81+I81+J81 -> 0
A82: 1.4.2 | B82: Vychovatel | G82: =F82/data!$J$20 -> 0 | I82: =H82/data!$J$20 -> 0 | K82: =E82+G82+I82+J82 -> 0
A83: 1.4.3 | B83: Speciální pedagog | G83: =F83/data!$J$20 -> 0 | I83: =H83/data!$J$20 -> 0 | K83: =E83+G83+I83+J83 -> 0
A84: 1.4.4 | B84: Psycholog | G84: =F84/data!$J$20 -> 0 | I84: =H84/data!$J$20 -> 0 | K84: =E84+G84+I84+J84 -> 0
A85: 1.4.5 | B85: Pedagog volného času | G85: =F85/data!$J$20 -> 0 | I85: =H85/data!$J$20 -> 0 | K85: =E85+G85+I85+J85 -> 0
A86: 1.4.6 | B86: Asistent pedagoga | G86: =F86/data!$J$20 -> 0 | I86: =H86/data!$J$20 -> 0 | K86: =E86+G86+I86+J86 -> 0
A87: 1.4.7 | B87: Trenér | G87: =F87/data!$J$20 -> 0 | I87: =H87/data!$J$20 -> 0 | K87: =E87+G87+I87+J87 -> 0
A88: 1.4.8 | B88: Vedoucí pedagogický pracovník | G88: =F88/data!$J$20 -> 0 | I88: =H88/data!$J$20 -> 0 | K88: =E88+G88+I88+J88 -> 0
A89: 1.5 | B89: Manželští a rodinní poradci | G89: =F89/data!$J$20 -> 0 | I89: =H89/data!$J$20 -> 0 | K89: =E89+G89+I89+J89 -> 0 | M89: =E89 -> 0 | N89: =G89 -> 0 | O89: =H89 -> 0
A90: 1.6 | B90: Další odborní pracovníci, kteří přímo poskytují sociální služby | G90: =F90/data!$J$20 -> 0 | I90: =H90/data!$J$20 -> 0 | K90: =E90+G90+I90+J90 -> 0 | M90: =E90 -> 0 | N90: =G90 -> 0 | O90: =H90 -> 0
A91: 2 | B91: Ostatní pracovníci celkem | E91: =E92+E98+E102 -> 0 | F91: =F92+F98+F102 -> 0 | G91: =G92+G98+G102 -> 0 | H91: =H92+H98+H102 -> 0 | I91: =I92+I98+I102 -> 0 | J91: =J92+J98+J102 -> 0 | K91: =K92+K98+K102 -> 0 | Q91: /* - pozn. zvýraznění položky ve sloupci Úvazky - obchodní smlouvy na tomto řádku nastane v případě, že je zadán úvazek a že náklady na listu část E náklady, ve sloupci celkem (za celou sociální službu) na řádku 2.6.9 jsou nulové
A92: 2.1 | B92: Ostatní pracovníci (obslužný personál) | E92: =E93+E94+E95+E96+E97 -> 0 | F92: =F93+F94+F95+F96+F97 -> 0 | G92: =G93+G94+G95+G96+G97 -> 0 | H92: =H93+H94+H95+H96+H97 -> 0 | I92: =I93+I94+I95+I96+I97 -> 0 | J92: =J93+J94+J95+J96+J97 -> 0 | K92: =K93+K94+K95+K96+K97 -> 0 | M92: =E92 -> 0 | N92: =G92 -> 0 | O92: =H92 -> 0
A93: 2.1.1 | B93: Pracovníci - prádelna | G93: =F93/data!$J$20 -> 0 | I93: =H93/data!$J$20 -> 0 | K93: =E93+G93+I93+J93 -> 0
A94: 2.1.2 | B94: Pracovníci - stravování | G94: =F94/data!$J$20 -> 0 | I94: =H94/data!$J$20 -> 0 | K94: =E94+G94+I94+J94 -> 0
A95: 2.1.3 | B95: Pracovníci - údržba | G95: =F95/data!$J$20 -> 0 | I95: =H95/data!$J$20 -> 0 | K95: =E95+G95+I95+J95 -> 0
A96: 2.1.4 | B96: Pracovníci - úklid | G96: =F96/data!$J$20 -> 0 | I96: =H96/data!$J$20 -> 0 | K96: =E96+G96+I96+J96 -> 0
A97: 2.1.5 | B97: Pracovníci - obslužný personál ostatní | G97: =F97/data!$J$20 -> 0 | I97: =H97/data!$J$20 -> 0 | K97: =E97+G97+I97+J97 -> 0
A98: 2.2 | B98: Vedoucí pracovníci | E98: =E99+E100+E101 -> 0 | F98: =F99+F100+F101 -> 0 | G98: =G99+G100+G101 -> 0 | H98: =H99+H100+H101 -> 0 | I98: =I99+I100+I101 -> 0 | J98: =J99+J100+J101 -> 0 | K98: =K99+K100+K101 -> 0 | M98: =E98 -> 0 | N98: =G98 -> 0 | O98: =H98 -> 0
A99: 2.2.1 | B99: Vedoucí organizace | G99: =F99/data!$J$20 -> 0 | I99: =H99/data!$J$20 -> 0 | K99: =E99+G99+I99+J99 -> 0
A100: 2.2.2 | B100: Vedoucí služby | G100: =F100/data!$J$20 -> 0 | I100: =H100/data!$J$20 -> 0 | K100: =E100+G100+I100+J100 -> 0
A101: 2.2.3 | B101: Ostatní vedoucí pracovníci | G101: =F101/data!$J$20 -> 0 | I101: =H101/data!$J$20 -> 0 | K101: =E101+G101+I101+J101 -> 0
A102: 2.3 | B102: Administrativní pracovníci | E102: =E103+E104+E105 -> 0 | F102: =F103+F104+F105 -> 0 | G102: =G103+G104+G105 -> 0 | H102: =H103+H104+H105 -> 0 | I102: =I103+I104+I105 -> 0 | J102: =J103+J104+J105 -> 0 | K102: =K103+K104+K105 -> 0 | M102: =E102 -> 0 | N102: =G102 -> 0 | O102: =H102 -> 0
...

Sheet část E náklady
A1: Část E - Náklady služby - skutečnost v roce 2027
A2: Část E - Náklady služby - skutečnost za období leden - srpen 2019
A4: Požadavek na neinvestiční dotaci 1
A5: Poskytnutá výše neinvestiční dotace 1
A6: Vyčerpaná výše neinvestiční dotace 1 | E6: =G88 -> 0
A7: Vratka neinvestiční dotace 1 celkem (vratka dle ustanovení Čl. VI. odst. 18 / Čl. VI. odst. 19 smlouvy) | E7: =E5-E6 -> 0
A8: - z toho vratka neinvestiční dotace 1 na učitý konkrétní účel dle ustanovení čl. III. odst. 1 smlouvy
A10: Poskytnutá výše neinvestiční dotace 3
A11: Vyčerpaná výše neinvestiční dotace 3 | E11: =H88 -> 0
A12: Vratka neinvestiční dotace 3 (vratka dle ustanovení Čl. VI. odst. 19 / Čl. VI. odst. 20 smlouvy) | E12: =E10-E11 -> 0
A14: Požadavek na neinvestiční dotaci 2
A15: Poskytnutá výše neinvestiční dotace 2
A16: Vyčerpaná výše neinvestiční dotace 2 | E16: =I88 -> 0
A17: Vratka neinvestiční dotace 2 (vratka dle ustanovení Čl. VI. odst. 18 / Čl. VI. odst. 19 smlouvy) | E17: =E15-E16 -> 0
A19: Požadavek na dofinancování dle Průběžné zprávy o poskytování sociální služby za období leden - duben 2027
A20: Poskytnutá výše dofinancování
A21: Vyčerpaná výše dofinancování | E21: =J88 -> 0
A22: Vratka dofinancování (vratka dle ustanovení Čl. VI. odst. 18 / Čl. VI. odst. 19 smlouvy) | E22: =E20-E21 -> 0
A26: Nákladová položka | E26: Náklady 2027 skutečnost | G26: Čerpání neinvestiční dotace 1 | H26: Čerpání neinvestiční dotace 3 | I26: Čerpání neinvestiční dotace 2 | J26: Čerpání dofinancování | K26: Komentář | M26: Detekce chyby
E27: celkem (za celou sociální službu - identifikátor) | F27: za část služby poskytovanou v rámci kategorie A sítě sociálních služeb v Karlovarském kraji | M27: osobní náklad za celou sociální službu není krytý úvazkem | N27: osobní náklad za část službyv rámci kategorie A sítě není krytý úvazkem | O27: náklad za část služby v rámci kategorie A sítě je větší, než náklad za celou službu | P27: součet čerpání neinvestičních dotací a dofinancování je vyšší, než náklad za část služby poskytované v rámci kategorie A sítě
A28: 1 Osobní náklady | E28: =E29+E41+E53+E65 -> 0 | F28: =F29+F41+F53+F65 -> 0 | G28: =G29+G41+G53+G65 -> 0 | H28: =H29+H41+H53+H65 -> 0 | I28: =I29+I41+I53+I65 -> 0 | J28: =J29+J41+J53+J65 -> 0
A29: 1.1 Pracovní smlouvy | E29: =E30+E37 -> 0 | F29: =F30+F37 -> 0 | G29: =G30+G37 -> 0 | H29: =H30+H37 -> 0 | I29: =I30+I37 -> 0 | J29: =J30+J37 -> 0
A30: 1.1.1 Pracovníci v přímé péči celkem | E30: =E31+E32+E33+E34+E35+E36 -> 0 | F30: =F31+F32+F33+F34+F35+F36 -> 0 | G30: =G31+G32+G33+G34+G35+G36 -> 0 | H30: =H31+H32+H33+H34+H35+H36 -> 0 | I30: =I31+I32+I33+I34+I35+I36 -> 0 | J30: =J31+J32+J33+J34+J35+J36 -> 0
A31: 1.1.1.1 Sociální pracovníci | M31: =E31 -> 0 | N31: =F31 -> 0 | O31: =F31 -> 0 | P31: =G31+H31+I31+J31 -> 0
A32: 1.1.1.2 Pracovníci v sociálních službách | M32: =E32 -> 0 | N32: =F32 -> 0 | O32: =F32 -> 0 | P32: =G32+H32+I32+J32 -> 0
A33: 1.1.1.3 Zdravotničtí pracovníci | M33: =E33 -> 0 | N33: =F33 -> 0 | O33: =F33 -> 0 | P33: =G33+H33+I33+J33 -> 0
A34: 1.1.1.4 Pedagogičtí pracovníci | M34: =E34 -> 0 | N34: =F34 -> 0 | O34: =F34 -> 0 | P34: =G34+H34+I34+J34 -> 0
A35: 1.1.1.5 Manželští a rodinní poradci | M35: =E35 -> 0 | N35: =F35 -> 0 | O35: =F35 -> 0 | P35: =G35+H35+I35+J35 -> 0
A36: 1.1.1.6 Další odborní pracovníci, kteří přímo poskytují sociální služby | M36: =E36 -> 0 | N36: =F36 -> 0 | O36: =F36 -> 0 | P36: =G36+H36+I36+J36 -> 0
A37: 1.1.2 Ostatní pracovníci celkem | E37: =E38+E39+E40 -> 0 | F37: =F38+F39+F40 -> 0 | G37: =G38+G39+G40 -> 0 | H37: =H38+H39+H40 -> 0 | I37: =I38+I39+I40 -> 0 | J37: =J38+J39+J40 -> 0
A38: 1.1.2.1 Ostatní pracovníci (obslužný personál) | M38: =E38 -> 0 | N38: =F38 -> 0 | O38: =F38 -> 0 | P38: =G38+H38+I38+J38 -> 0
A39: 1.1.2.2 Vedoucí pracovníci | M39: =E39 -> 0 | N39: =F39 -> 0 | O39: =F39 -> 0 | P39: =G39+H39+I39+J39 -> 0
A40: 1.1.2.3 Administrativní pracovníci | M40: =E40 -> 0 | N40: =F40 -> 0 | O40: =F40 -> 0 | P40: =G40+H40+I40+J40 -> 0
A41: 1.2 Dohody o pracovní činnosti | E41: =E42+E49 -> 0 | F41: =F42+F49 -> 0 | G41: =G42+G49 -> 0 | H41: =H42+H49 -> 0 | I41: =I42+I49 -> 0 | J41: =J42+J49 -> 0
A42: 1.2.1 Pracovníci v přímé péči celkem | E42: =E43+E44+E45+E46+E47+E48 -> 0 | F42: =F43+F44+F45+F46+F47+F48 -> 0 | G42: =G43+G44+G45+G46+G47+G48 -> 0 | H42: =H43+H44+H45+H46+H47+H48 -> 0 | I42: =I43+I44+I45+I46+I47+I48 -> 0 | J42: =J43+J44+J45+J46+J47+J48 -> 0
A43: 1.2.1.1 Sociální pracovníci | M43: =E43 -> 0 | N43: =F43 -> 0 | O43: =F43 -> 0 | P43: =G43+H43+I43+J43 -> 0
A44: 1.2.1.2 Pracovníci v sociálních službách | M44: =E44 -> 0 | N44: =F44 -> 0 | O44: =F44 -> 0 | P44: =G44+H44+I44+J44 -> 0
A45: 1.2.1.3 Zdravotničtí pracovníci | M45: =E45 -> 0 | N45: =F45 -> 0 | O45: =F45 -> 0 | P45: =G45+H45+I45+J45 -> 0
A46: 1.2.1.4 Pedagogičtí pracovníci | M46: =E46 -> 0 | N46: =F46 -> 0 | O46: =F46 -> 0 | P46: =G46+H46+I46+J46 -> 0
A47: 1.2.1.5 Manželští a rodinní poradci | M47: =E47 -> 0 | N47: =F47 -> 0 | O47: =F47 -> 0 | P47: =G47+H47+I47+J47 -> 0
A48: 1.2.1.6 Další odborní pracovníci, kteří přímo poskytují sociální služby | M48: =E48 -> 0 | N48: =F48 -> 0 | O48: =F48 -> 0 | P48: =G48+H48+I48+J48 -> 0
A49: 1.2.2 Ostatní pracovníci celkem | E49: =E50+E51+E52 -> 0 | F49: =F50+F51+F52 -> 0 | G49: =G50+G51+G52 -> 0 | H49: =H50+H51+H52 -> 0 | I49: =I50+I51+I52 -> 0 | J49: =J50+J51+J52 -> 0
A50: 1.2.2.1 Ostatní pracovníci (obslužný personál) | M50: =E50 -> 0 | N50: =F50 -> 0 | O50: =F50 -> 0 | P50: =G50+H50+I50+J50 -> 0
A51: 1.2.2.2 Vedoucí pracovníci | M51: =E51 -> 0 | N51: =F51 -> 0 | O51: =F51 -> 0 | P51: =G51+H51+I51+J51 -> 0
A52: 1.2.2.3 Administrativní pracovníci | M52: =E52 -> 0 | N52: =F52 -> 0 | O52: =F52 -> 0 | P52: =G52+H52+I52+J52 -> 0
A53: 1.3 Dohody o provedení práce | E53: =E54+E61 -> 0 | F53: =F54+F61 -> 0 | G53: =G54+G61 -> 0 | H53: =H54+H61 -> 0 | I53: =I54+I61 -> 0 | J53: =J54+J61 -> 0
A54: 1.3.1 Pracovníci v přímé péči celkem | E54: =E55+E56+E57+E58+E59+E60 -> 0 | F54: =F55+F56+F57+F58+F59+F60 -> 0 | G54: =G55+G56+G57+G58+G59+G60 -> 0 | H54: =H55+H56+H57+H58+H59+H60 -> 0 | I54: =I55+I56+I57+I58+I59+I60 -> 0 | J54: =J55+J56+J57+J58+J59+J60 -> 0
A55: 1.3.1.1 Sociální pracovníci | M55: =E55 -> 0 | N55: =F55 -> 0 | O55: =F55 -> 0 | P55: =G55+H55+I55+J55 -> 0
A56: 1.3.1.2 Pracovníci v sociálních službách | M56: =E56 -> 0 | N56: =F56 -> 0 | O56: =F56 -> 0 | P56: =G56+H56+I56+J56 -> 0
A57: 1.3.1.3 Zdravotničtí pracovníci | M57: =E57 -> 0 | N57: =F57 -> 0 | O57: =F57 -> 0 | P57: =G57+H57+I57+J57 -> 0
A58: 1.3.1.4 Pedagogičtí pracovníci | M58: =E58 -> 0 | N58: =F58 -> 0 | O58: =F58 -> 0 | P58: =G58+H58+I58+J58 -> 0
A59: 1.3.1.5 Manželští a rodinní poradci | M59: =E59 -> 0 | N59: =F59 -> 0 | O59: =F59 -> 0 | P59: =G59+H59+I59+J59 -> 0
A60: 1.3.1.6 Další odborní pracovníci, kteří přímo poskytují sociální služby | M60: =E60 -> 0 | N60: =F60 -> 0 | O60: =F60 -> 0 | P60: =G60+H60+I60+J60 -> 0
A61: 1.3.2 Ostatní pracovníci celkem | E61: =E62+E63+E64 -> 0 | F61: =F62+F63+F64 -> 0 | G61: =G62+G63+G64 -> 0 | H61: =H62+H63+H64 -> 0 | I61: =I62+I63+I64 -> 0 | J61: =J62+J63+J64 -> 0
A62: 1.3.2.1 Ostatní pracovníci (obslužný personál) | M62: =E62 -> 0 | N62: =F62 -> 0 | O62: =F62 -> 0 | P62: =G62+H62+I62+J62 -> 0
A63: 1.3.2.2 Vedoucí pracovníci | M63: =E63 -> 0 | N63: =F63 -> 0 | O63: =F63 -> 0 | P63: =G63+H63+I63+J63 -> 0
A64: 1.3.2.3 Administrativní pracovníci | M64: =E64 -> 0 | N64: =F64 -> 0 | O64: =F64 -> 0 | P64: =G64+H64+I64+J64 -> 0
A65: 1.4 Jiné osobní náklady | M65: =E65 -> 0 | N65: =F65 -> 0 | O65: =F65 -> 0 | P65: =G65+H65+I65+J65 -> 0
A66: 2 Provozní náklady | E66: =E67+E70+E71+E72+E73+E74+E85+E86 -> 0 | F66: =F67+F70+F71+F72+F73+F74+F85+F86 -> 0 | G66: =G67+G70+G71+G72+G73+G74+G85+G86 -> 0 | H66: =H67+H70+H71+H72+H73+H74+H85+H86 -> 0 | I66: =I67+I70+I71+I72+I73+I74+I85+I86 -> 0 | J66: =J67+J70+J71+J72+J73+J74+J85+J86 -> 0
A67: 2.1 Dlouhodobý majetek | E67: =E68+E69 -> 0 | F67: =F68+F69 -> 0 | G67: =G68+G69 -> 0 | H67: =H68+H69 -> 0 | I67: =I68+I69 -> 0 | J67: =J68+J69 -> 0
A68: 2.1.1 Dlouhodobý nehmotný majetek | O68: =F68 -> 0 | P68: =G68+H68+I68+J68 -> 0
A69: 2.1.2 Dlouhodobý hmotný majetek | O69: =F69 -> 0 | P69: =G69+H69+I69+J69 -> 0
A70: 2.2 potraviny | O70: =F70 -> 0 | P70: =G70+H70+I70+J70 -> 0
A71: 2.3 kancelářské potřeby | O71: =F71 -> 0 | P71: =G71+H71+I71+J71 -> 0
A72: 2.4 pohonné hmoty | O72: =F72 -> 0 | P72: =G72+H72+I72+J72 -> 0
A73: 2.5 jiné spotřebované nákupy | O73: =F73 -> 0 | P73: =G73+H73+I73+J73 -> 0
A74: 2.6 Služby | E74: =E75+E76+E77+E78+E79+E80+E81+E82+E83+E84 -> 0 | F74: =F75+F76+F77+F78+F79+F80+F81+F82+F83+F84 -> 0 | G74: =G75+G76+G77+G78+G79+G80+G81+G82+G83+G84 -> 0 | H74: =H75+H76+H77+H78+H79+H80+H81+H82+H83+H84 -> 0 | I74: =I75+I76+I77+I78+I79+I80+I81+I82+I83+I84 -> 0 | J74: =J75+J76+J77+J78+J79+J80+J81+J82+J83+J84 -> 0
A75: 2.6.1 energie | O75: =F75 -> 0 | P75: =G75+H75+I75+J75 -> 0
A76: 2.6.2 telefony, internet, poštovné, ostatní spoje | O76: =F76 -> 0 | P76: =G76+H76+I76+J76 -> 0
A77: 2.6.3 nájemné | O77: =F77 -> 0 | P77: =G77+H77+I77+J77 -> 0
A78: 2.6.4 právní a ekonomické služby | O78: =F78 -> 0 | P78: =G78+H78+I78+J78 -> 0
A79: 2.6.5 školení a kurzy | O79: =F79 -> 0 | P79: =G79+H79+I79+J79 -> 0
A80: 2.6.6 opravy a udržování | O80: =F80 -> 0 | P80: =G80+H80+I80+J80 -> 0
A81: 2.6.7 cestovní náhrady | O81: =F81 -> 0 | P81: =G81+H81+I81+J81 -> 0
A82: 2.6.8 pracovníci v přímé péči (mimo prac.poměr, DPP, DPČ) | O82: =F82 -> 0 | P82: =G82+H82+I82+J82 -> 0 | R82: /* - pozn. zvýraznění položky ve sloupcích Náklady (celkem či za část služby A) na těchto řádcích nastane v případě, že odpovídající úvazky na listu část D zaměstnanci, ve sloupcích ˇUvazky - obchodní smlouvy na řádcích Pracovníci v přímé péči celkem či Ostatní pracovníci celkem jsou nulové
A83: 2.6.9 ostatní pracovníci (mimo prac.poměr, DPP, DPČ) | O83: =F83 -> 0 | P83: =G83+H83+I83+J83 -> 0
A84: 2.6.10 jiné | O84: =F84 -> 0 | P84: =G84+H84+I84+J84 -> 0
A85: 2.7 odpisy | O85: =F85 -> 0 | P85: =G85+H85+I85+J85 -> 0
A86: 2.8 ostatní náklady | O86: =F86 -> 0 | P86: =G86+H86+I86+J86 -> 0
A87: Nevyčerpané prostředky z dotace z důvodu nesplnění stanovené hodnoty plnění indikátorů uvedené v příloze č. 1 smlouvy | G87: ='část C indikátory'!C51 -> 0 | I87: ='část C indikátory'!C52 -> 0 | J87: ='část C indikátory'!C53 -> 0 | K87: poznámka: hodnoty vratek jsou přeneseny z části C indikátory
A88: Celkem | E88: =E28+E66 -> 0 | F88: =F28+F66 -> 0 | G88: =G28+G66+G87 -> 0 | H88: =H28+H66+H87 -> 0 | I88: =I28+I66+I87 -> 0 | J88: =J28+J66+J87 -> 0 | K88: poznámka: buňka se zvýrazní, když částka vyčerpané neinvestiční dotace (či dofinancování) je vyšší než částka poskytnuté neinvestiční dotace (či dofinancování)
A90: Komentář:

Sheet část F zdroje
A1: Část F - Výnosy (zdroje) služby - skutečnost v roce 2027
A2: Část F - Výnosy (zdroje) služby - skutečnost za období leden - srpen 2019
E4: Skutečnost 2027 | G4: Komentář | K4: Detekce chyby
E5: celkem (za celou sociální službu - identifikátor) | F5: za část služby poskytovanou v rámci kategorie A sítě sociálních služeb v Karlovarském kraji | K5: Výnosy za celou sociální službu jsou menší, než výnosy za část služby v rámci kategorie A sítě
A6: Neinvestiční dotace 2 - dotace z rozpočtu Karlovarského kraje dle ustanovení § 105 zákona o sociálních službách | E6: ='část E náklady'!E16-'část E náklady'!I87 -> 0 | F6: ='část E náklady'!E16-'část E náklady'!I87 -> 0 | G6: od vyčerpané neinvestiční dotace 2 je odečtena vratka prostředků z dotace 2 z důvodu nesplnění stanovené hodnoty plnění indikátorů
A7: Neinvestiční dotace 1 - dotace z rozpočtu Karlovarského kraje dle ustanovení § 101a zákona o sociálních službách | E7: ='část E náklady'!E6-'část E náklady'!G87 -> 0 | F7: ='část E náklady'!E6-'část E náklady'!G87 -> 0 | G7: od vyčerpané neinvestiční dotace 1 je odečtena vratka prostředků z dotace 1 z důvodu nesplnění stanovené hodnoty plnění indikátorů
A8: Neinvestiční dotace 3 - dotace z rozpočtu Karlovarského kraje v rámci projektu Podpora vybraných služeb sociální prevence | E8: ='část E náklady'!E11-'část E náklady'!H87 -> 0 | F8: ='část E náklady'!E11-'část E náklady'!H87 -> 0 | G8: od neinvestiční dotace 3 je odečtena i vratka prostředků z dotace 3 z důvodu nesplnění stanovené hodnoty plnění indikátorů
A9: Dofinancování sociální služby - dotace z rozpočtu Karlovarského kraje dle ustanovení § 105 zákona o sociálních službách | E9: ='část E náklady'!E21-'část E náklady'!J87 -> 0 | F9: ='část E náklady'!E21-'část E náklady'!J87 -> 0 | G9: od vyčerpané výše dofinancování je odečtena vratka prostředků z dofinancování z důvodu nesplnění stanovené hodnoty plnění indikátorů
A10: Karlovarský kraj - příspěvek zřizovatele (vyplňují pouze příspěvkové organizace zřízené krajem) | K10: =F10 -> 0
A11: Ostatní kraje - dotace z rozpočtů krajů (rozepište konkrétní částky od jednotlivých krajů, včetně názvu kraje) | H11: =IF(AND(LEN(G11)=0)*OR(E11<>0,F11<>0)," DOPLŇTE KOMENTÁŘ"," ") | K11: =F11 -> 0
A12: Obce - dotace z rozpočtů obcí | F12: ='část G obce'!C33 -> 0 | K12: =F12 -> 0
A13: Obce - příspěvky zřizovatele | F13: ='část G obce'!D33 -> 0 | K13: =F13 -> 0
A14: Dotace Úřad vlády ČR | K14: =F14 -> 0
A15: Dotace ostatní resorty státní správy (uveďte jaké, včetně konkrétních částek) | H15: =IF(AND(LEN(G15)=0)*OR(E15<>0,F15<>0)," DOPLŇTE KOMENTÁŘ"," ") | K15: =F15 -> 0
A16: Úřad práce ČR | K16: =F16 -> 0
A17: Pěstounská péče - dohoda o výkonu | K17: =F17 -> 0
A18: Strukturální fondy (vlastní projekty poskytovatele sociálních služeb) | K18: =F18 -> 0
A19: Strukturální fondy (projekt Karlovarského kraje) | K19: =F19 -> 0
A20: Strukturální fondy (projekt obce) | K20: =F20 -> 0
A21: Strukturální fondy (ostatní) | K21: =F21 -> 0
A22: Úhrady od uživatelů (za základní činnosti sociální služby) | K22: =F22 -> 0
A23: Úhrady od uživatelů (za fakultativní činnosti) | G23: =IF(E23=0," ","Službu je nutno rozdělit (fakultativní činnosti nejsou součástí A sitě sociálních služeb)") | K23: =F23 -> 0
A24: Fondy zdravotních pojišťoven | K24: =F24 -> 0
A25: Nadace, sponzoři | K25: =F25 -> 0
A26: Jiné zdroje (uveďte jaké) | H26: =IF(AND(LEN(G26)=0)*OR(E26<>0,F26<>0)," DOPLŇTE KOMENTÁŘ"," ") | K26: =F26 -> 0
A27: Celkem | E27: =SUM(E6:E26) -> 0 | F27: =SUM(F6:F26) -> 0
A29: Komentář:
A31: Náklady 2027 celkem (za celou sociální službu - identifikátor) | E31: ='část E náklady'!E88 -> 0
A32: Výnosy 2027 celkem (za celou sociální službu - identifikátor) | E32: =E27 -> 0
A33: Rozdíl (výnosy - náklady) | E33: =E32-E31 -> 0
A34: Náklady 2027 (za část služby poskytovanou v rámci kategorie A sítě sociálních služeb v Karlovarském kraji) | E34: ='část E náklady'!F88 -> 0
A35: Výnosy 2027 (za část služby poskytovanou v rámci kategorie A sítě sociálních služeb v Karlovarském kraji) | E35: =F27 -> 0
A36: Rozdíl (výnosy - náklady) | E36: =E35-E34 -> 0

Sheet část F zdroje zisk
A1: Část F - Výnosy (zdroje) služby - skutečnost v roce 2023
A2: Část F - Výnosy (zdroje) služby - skutečnost za období leden - srpen 2019
E4: Skutečnost 2023 | G4: Komentář | K4: Detekce chyby
E5: celkem (za celou sociální službu - identifikátor) | F5: za část služby poskytovanou v rámci kategorie A sítě sociálních služeb v Karlovarském kraji | K5: Výnosy za celou sociální službu jsou menší, než výnosy za část služby v rámci kategorie A sítě
A6: Neinvestiční dotace 2 - dotace z rozpočtu Karlovarského kraje dle ustanovení § 105 zákona o sociálních službách | E6: ='část E náklady'!E16-'část E náklady'!I87 -> 0 | F6: ='část E náklady'!E16-'část E náklady'!I87 -> 0 | G6: od vyčerpané neinvestiční dotace 2 je odečtena vratka prostředků z dotace 2 z důvodu nesplnění stanovené hodnoty plnění indikátorů
A7: Neinvestiční dotace 1 - dotace z rozpočtu Karlovarského kraje dle ustanovení § 101a zákona o sociálních službách | E7: ='část E náklady'!E6-'část E náklady'!G87 -> 0 | F7: ='část E náklady'!E6-'část E náklady'!G87 -> 0 | G7: od vyčerpané neinvestiční dotace 1 je odečtena vratka prostředků z dotace 1 z důvodu nesplnění stanovené hodnoty plnění indikátorů
A8: Neinvestiční dotace 3 - dotace z rozpočtu Karlovarského kraje v rámci projektu Podpora vybraných služeb sociální prevence | E8: ='část E náklady'!E11-'část E náklady'!H87 -> 0 | F8: ='část E náklady'!E11-'část E náklady'!H87 -> 0 | G8: od neinvestiční dotace 3 je odečtena i vratka prostředků z dotace 3 z důvodu nesplnění stanovené hodnoty plnění indikátorů
A9: Dofinancování sociální služby - dotace z rozpočtu Karlovarského kraje dle ustanovení § 105 zákona o sociálních službách | E9: ='část E náklady'!E21-'část E náklady'!J87 -> 0 | F9: ='část E náklady'!E21-'část E náklady'!J87 -> 0 | G9: od vyčerpané výše dofinancování je odečtena vratka prostředků z dofinancování z důvodu nesplnění stanovené hodnoty plnění indikátorů
A10: Karlovarský kraj - příspěvek zřizovatele (vyplňují pouze příspěvkové organizace zřízené krajem) | K10: =F10 -> 0
A11: Ostatní kraje - dotace z rozpočtů krajů (rozepište konkrétní částky od jednotlivých krajů, včetně názvu kraje) | H11: =IF(AND(LEN(G11)=0)*OR(E11<>0,F11<>0)," DOPLŇTE KOMENTÁŘ"," ") | K11: =F11 -> 0
A12: Obce - dotace z rozpočtů obcí | F12: ='část G obce'!C33 -> 0 | K12: =F12 -> 0
A13: Obce - příspěvky zřizovatele | F13: ='část G obce'!D33 -> 0 | K13: =F13 -> 0
A14: Dotace Úřad vlády ČR | K14: =F14 -> 0
A15: Dotace ostatní resorty státní správy (uveďte jaké, včetně konkrétních částek) | H15: =IF(AND(LEN(G15)=0)*OR(E15<>0,F15<>0)," DOPLŇTE KOMENTÁŘ"," ") | K15: =F15 -> 0
A16: Úřad práce ČR | K16: =F16 -> 0
A17: Pěstounská péče - dohoda o výkonu | K17: =F17 -> 0
A18: Strukturální fondy (vlastní projekty poskytovatele sociálních služeb) | K18: =F18 -> 0
A19: Strukturální fondy (projekt Karlovarského kraje) | K19: =F19 -> 0
A20: Strukturální fondy (projekt obce) | K20: =F20 -> 0
A21: Strukturální fondy (ostatní) | K21: =F21 -> 0
A22: Úhrady od uživatelů (za základní činnosti sociální služby) | K22: =F22 -> 0
A23: Úhrady od uživatelů (za fakultativní činnosti) | G23: =IF(E23=0," ","Službu je nutno rozdělit (fakultativní činnosti nejsou součástí A sitě sociálních služeb)") | K23: =F23 -> 0
A24: Fondy zdravotních pojišťoven | K24: =F24 -> 0
A25: Nadace, sponzoři | K25: =F25 -> 0
A26: Jiné zdroje (uveďte jaké) | H26: =IF(AND(LEN(G26)=0)*OR(E26<>0,F26<>0)," DOPLŇTE KOMENTÁŘ"," ") | K26: =F26 -> 0
A27: Celkem | E27: =SUM(E6:E26) -> 0 | F27: =SUM(F6:F26) -> 0
A29: Komentář:
A31: Náklady 2023 celkem (za celou sociální službu - identifikátor) | E31: ='část E náklady'!E88 -> 0 | G31: rozpočítání vratky za nadměrné vyrovnání
A32: Výnosy 2023 celkem (za celou sociální službu - identifikátor) | E32: =E27 -> 0 | G32: vratka neinvestiční dotace 1 | H32: =IF(E36>0,(F7/(F6+F7+F9))*E36,0) -> 0
A33: Rozdíl (výnosy - náklady) | E33: =E32-E31 -> 0 | G33: vratka neinvestiční dotace 2 | H33: =IF(E36>0,(F6/(F6+F7+F9))*E36,0) -> 0
A34: Náklady 2023 (za část služby poskytovanou v rámci kategorie A sítě sociálních služeb v Karlovarském kraji) | E34: ='část E náklady'!F88 -> 0 | G34: vratka dofinancování | H34: =IF(E36>0,(F9/(F6+F7+F9))*E36,0) -> 0
A35: Výnosy 2023 (za část služby poskytovanou v rámci kategorie A sítě sociálních služeb v Karlovarském kraji) | E35: =F27 -> 0 | G35: vratka celkem | H35: =SUM(H32:H34) -> 0
A36: Rozdíl (výnosy - náklady) | E36: =E35-E34 -> 0 | F36: poznámka: v případě kladného výsledku se jedná o nadměrné vyrovnání - bude vyčíslena vratka neinvestiční dotace 1, neinvestiční dotace 2, dofinancování - viz tabulka rozpočítání vratky …
B43: doplnit výpočet přiměřeného zisku

Sheet část G obce
A1: Část G - Výnosy (zdroje) služby - obce - skutečnost v roce 2027 (vyplní se údaje za část služby poskytovanou v rámci kategorie A sítě sociálních služeb v Karlovarském kraji)
A2: Část G - Výnosy (zdroje) služby - obce - skutečnost za období leden - srpen 2019 (vyplní se údaje za část služby poskytovanou v rámci kategorie A sítě sociálních služeb v Karlovarském kraji)
A4: Výběr obce | B4: Obec | C4: Skutečnost 2027 | E4: Komentář
C5: Dotace z rozpočtu obce | D5: Příspěvek zřizovatele
B6: =IF($F6=1," ",INDEX(data!$A$36:$A$169,$F6,1)) | F6: 1
B7: =IF($F7=1," ",INDEX(data!$A$36:$A$169,$F7,1)) | F7: 1
B8: =IF($F8=1," ",INDEX(data!$A$36:$A$169,$F8,1)) | F8: 1
B9: =IF($F9=1," ",INDEX(data!$A$36:$A$169,$F9,1)) | F9: 1
B10: =IF($F10=1," ",INDEX(data!$A$36:$A$169,$F10,1)) | F10: 1
B11: =IF($F11=1," ",INDEX(data!$A$36:$A$169,$F11,1)) | F11: 1
B12: =IF($F12=1," ",INDEX(data!$A$36:$A$169,$F12,1)) | F12: 1
B13: =IF($F13=1," ",INDEX(data!$A$36:$A$169,$F13,1)) | F13: 1
B14: =IF($F14=1," ",INDEX(data!$A$36:$A$169,$F14,1)) | F14: 1
B15: =IF($F15=1," ",INDEX(data!$A$36:$A$169,$F15,1)) | F15: 1
B16: =IF($F16=1," ",INDEX(data!$A$36:$A$169,$F16,1)) | F16: 1
B17: =IF($F17=1," ",INDEX(data!$A$36:$A$169,$F17,1)) | F17: 1
... B29: =IF($F29=1," ",INDEX(data!$A$36:$A$169,$F29,1)) | F29: 1
A30: jiné - uveďte jaké
A31: jiné - uveďte jaké
A32: jiné - uveďte jaké
A33: Celkem | C33: =SUM(C6:C32) -> 0 | D33: =SUM(D6:D32) -> 0
A35: Komentář:

Sheet část H přílohy
A1: Část H - Seznam příloh k Závěrečné zprávě o poskytování sociální služby
A3: Příloha č. 1 | C3: Doložení publicity finanční podpory od Karlovarského kraje
A4: Příloha č. 2 | C4: …
A5: Příloha č. 3 | C5: …
A6: Příloha č. 4 | C6: …
A7: Příloha č. 5 | C7: …
A10: Příloha č. 1 | C10: Doložení publicity finanční podpory od Karlovarského kraje
A11: Příloha č. 2 | C11: …
A12: Příloha č. 3 | C12: …
A13: Příloha č. 4 | C13: …
A14: Příloha č. 5 | C14: …

Sheet kontrola
A1: Položky | C1: Zaměstnanci - úvazky síť A | H1: Náklady síť A | K1: Zaměstnanci - úvazky celkem | P1: Náklady celkem
C2: Úvazky - pracovní smlouvy | D2: Úvazky - DPČ | E2: Úvazky - DPP | F2: Úvazky - obchodní smlouvy | G2: Úvazky celkem | H2: Pracovní smlouvy | I2: DPČ | J2: DPP | K2: Úvazky - pracovní smlouvy | L2: Úvazky - DPČ | M2: Úvazky - DPP | N2: Úvazky - obchodní smlouvy | O2: Úvazky celkem | P2: Pracovní smlouvy | Q2: DPČ | R2: DPP | T2: Tento list bude pro poskytovatele skryt
A3: 1 | B3: Pracovníci v přímé péči celkem | C3: ='část D zaměstnanci'!E7 -> 0 | D3: ='část D zaměstnanci'!G7 -> 0 | E3: ='část D zaměstnanci'!I7 -> 0 | F3: ='část D zaměstnanci'!J7 -> 0 | G3: ='část D zaměstnanci'!K7 -> 0 | H3: ='část E náklady'!$F$30 -> 0 | I3: ='část E náklady'!F42 -> 0 | J3: ='část E náklady'!F54 -> 0 | K3: =ROUND(('část D zaměstnanci'!E59),2) -> 0 | L3: =ROUND(('část D zaměstnanci'!G59),2) -> 0 | M3: =ROUND(('část D zaměstnanci'!I59),4) -> 0 | N3: =ROUND(('část D zaměstnanci'!J59),2) -> 0 | O3: =ROUND(('část D zaměstnanci'!K59),4) -> 0 | P3: =ROUND(('část E náklady'!E30),2) -> 0 | Q3: =ROUND(('část E náklady'!E42),2) -> 0 | R3: =ROUND(('část E náklady'!E54),2) -> 0 | T3: V tabulkách pro síť A:
A4: 1.1 | B4: Sociální pracovníci | C4: ='část D zaměstnanci'!E8 -> 0 | D4: ='část D zaměstnanci'!G8 -> 0 | E4: ='část D zaměstnanci'!I8 -> 0 | F4: ='část D zaměstnanci'!J8 -> 0 | G4: ='část D zaměstnanci'!K8 -> 0 | H4: ='část E náklady'!$F$31 -> 0 | I4: ='část E náklady'!F43 -> 0 | J4: ='část E náklady'!F55 -> 0 | K4: =ROUND(('část D zaměstnanci'!E60),2) -> 0 | L4: =ROUND(('část D zaměstnanci'!G60),2) -> 0 | M4: =ROUND(('část D zaměstnanci'!I60),4) -> 0 | N4: =ROUND(('část D zaměstnanci'!J60),2) -> 0 | O4: =ROUND(('část D zaměstnanci'!K60),4) -> 0 | P4: =ROUND(('část E náklady'!E31),2) -> 0 | Q4: =ROUND(('část E náklady'!E43),2) -> 0 | R4: =ROUND(('část E náklady'!E55),2) -> 0 | T4: - pokud je zadán úvazek, nebo
A5: 1.2 | B5: Pracovníci v sociálních službách | C5: ='část D zaměstnanci'!E9 -> 0 | D5: ='část D zaměstnanci'!G9 -> 0 | E5: ='část D zaměstnanci'!I9 -> 0 | F5: ='část D zaměstnanci'!J9 -> 0 | G5: ='část D zaměstnanci'!K9 -> 0 | H5: ='část E náklady'!$F$32 -> 0 | I5: ='část E náklady'!F44 -> 0 | J5: ='část E náklady'!F56 -> 0 | K5: =ROUND(('část D zaměstnanci'!E61),2) -> 0 | L5: =ROUND(('část D zaměstnanci'!G61),2) -> 0 | M5: =ROUND(('část D zaměstnanci'!I61),4) -> 0 | N5: =ROUND(('část D zaměstnanci'!J61),2) -> 0 | O5: =ROUND(('část D zaměstnanci'!K61),4) -> 0 | P5: =ROUND(('část E náklady'!E32),2) -> 0 | Q5: =ROUND(('část E náklady'!E44),2) -> 0 | R5: =ROUND(('část E náklady'!E56),2) -> 0 | T5: náklady z úvazku v odpovídajících
A6: 1.2.1 | B6: Přímá obslužná péče | C6: ='část D zaměstnanci'!E10 -> 0 | D6: ='část D zaměstnanci'!G10 -> 0 | E6: ='část D zaměstnanci'!I10 -> 0 | F6: ='část D zaměstnanci'!J10 -> 0 | G6: ='část D zaměstnanci'!K10 -> 0 | H6: --- | I6: --- | J6: --- | K6: =ROUND(('část D zaměstnanci'!E62),2) -> 0 | L6: =ROUND(('část D zaměstnanci'!G62),2) -> 0 | M6: =ROUND(('část D zaměstnanci'!I62),4) -> 0 | N6: =ROUND(('část D zaměstnanci'!J62),2) -> 0 | O6: =ROUND(('část D zaměstnanci'!K62),4) -> 0 | P6: --- | Q6: --- | R6: --- | T6: položkách řádků (modré), buňky se
A7: 1.2.2 | B7: Základní výchovná nepedagogická činnost | C7: ='část D zaměstnanci'!E11 -> 0 | D7: ='část D zaměstnanci'!G11 -> 0 | E7: ='část D zaměstnanci'!I11 -> 0 | F7: ='část D zaměstnanci'!J11 -> 0 | G7: ='část D zaměstnanci'!K11 -> 0 | H7: --- | I7: --- | J7: --- | K7: =ROUND(('část D zaměstnanci'!E63),2) -> 0 | L7: =ROUND(('část D zaměstnanci'!G63),2) -> 0 | M7: =ROUND(('část D zaměstnanci'!I63),4) -> 0 | N7: =ROUND(('část D zaměstnanci'!J63),2) -> 0 | O7: =ROUND(('část D zaměstnanci'!K63),4) -> 0 | P7: --- | Q7: --- | R7: --- | T7: zabarví zeleně, ale
A8: 1.2.3 | B8: Pečovatelská činnost | C8: ='část D zaměstnanci'!E12 -> 0 | D8: ='část D zaměstnanci'!G12 -> 0 | E8: ='část D zaměstnanci'!I12 -> 0 | F8: ='část D zaměstnanci'!J12 -> 0 | G8: ='část D zaměstnanci'!K12 -> 0 | H8: --- | I8: --- | J8: --- | K8: =ROUND(('část D zaměstnanci'!E64),2) -> 0 | L8: =ROUND(('část D zaměstnanci'!G64),2) -> 0 | M8: =ROUND(('část D zaměstnanci'!I64),4) -> 0 | N8: =ROUND(('část D zaměstnanci'!J64),2) -> 0 | O8: =ROUND(('část D zaměstnanci'!K64),4) -> 0 | P8: --- | Q8: --- | R8: --- | T8: - pokud úvazek není kryt
A9: 1.2.4 | B9: Činnosti pod dohledem sociálního pracovníka | C9: ='část D zaměstnanci'!E13 -> 0 | D9: ='část D zaměstnanci'!G13 -> 0 | E9: ='část D zaměstnanci'!I13 -> 0 | F9: ='část D zaměstnanci'!J13 -> 0 | G9: ='část D zaměstnanci'!K13 -> 0 | H9: --- | I9: --- | J9: --- | K9: =ROUND(('část D zaměstnanci'!E65),2) -> 0 | L9: =ROUND(('část D zaměstnanci'!G65),2) -> 0 | M9: =ROUND(('část D zaměstnanci'!I65),4) -> 0 | N9: =ROUND(('část D zaměstnanci'!J65),2) -> 0 | O9: =ROUND(('část D zaměstnanci'!K65),4) -> 0 | P9: --- | Q9: --- | R9: --- | T9: náklady, nebo k vykázaným
A10: 1.3 | B10: Zdravotničtí pracovníci | C10: ='část D zaměstnanci'!E14 -> 0 | D10: ='část D zaměstnanci'!G14 -> 0 | E10: ='část D zaměstnanci'!I14 -> 0 | F10: ='část D zaměstnanci'!J14 -> 0 | G10: ='část D zaměstnanci'!K14 -> 0 | H10: ='část E náklady'!$F$33 -> 0 | I10: ='část E náklady'!F45 -> 0 | J10: ='část E náklady'!F57 -> 0 | K10: =ROUND(('část D zaměstnanci'!E66),2) -> 0 | L10: =ROUND(('část D zaměstnanci'!G66),2) -> 0 | M10: =ROUND(('část D zaměstnanci'!I66),4) -> 0 | N10: =ROUND(('část D zaměstnanci'!J66),2) -> 0 | O10: =ROUND(('část D zaměstnanci'!K66),4) -> 0 | P10: =ROUND(('část E náklady'!E33),2) -> 0 | Q10: =ROUND(('část E náklady'!E45),2) -> 0 | R10: =ROUND(('část E náklady'!E57),2) -> 0 | T10: nákladům není uveden
A11: 1.3.1 | B11: Lékař | C11: ='část D zaměstnanci'!E15 -> 0 | D11: ='část D zaměstnanci'!G15 -> 0 | E11: ='část D zaměstnanci'!I15 -> 0 | F11: ='část D zaměstnanci'!J15 -> 0 | G11: ='část D zaměstnanci'!K15 -> 0 | H11: --- | I11: --- | J11: --- | K11: =ROUND(('část D zaměstnanci'!E67),2) -> 0 | L11: =ROUND(('část D zaměstnanci'!G67),2) -> 0 | M11: =ROUND(('část D zaměstnanci'!I67),4) -> 0 | N11: =ROUND(('část D zaměstnanci'!J67),2) -> 0 | O11: =ROUND(('část D zaměstnanci'!K67),4) -> 0 | P11: --- | Q11: --- | R11: --- | T11: úvazek, zabarví se červeně
A12: 1.3.2 | B12: Nelékařští zdravotničtí pracovníci | C12: ='část D zaměstnanci'!E16 -> 0 | D12: ='část D zaměstnanci'!G16 -> 0 | E12: ='část D zaměstnanci'!I16 -> 0 | F12: ='část D zaměstnanci'!J16 -> 0 | G12: ='část D zaměstnanci'!K16 -> 0 | H12: --- | I12: --- | J12: --- | K12: =ROUND(('část D zaměstnanci'!E68),2) -> 0 | L12: =ROUND(('část D zaměstnanci'!G68),2) -> 0 | M12: =ROUND(('část D zaměstnanci'!I68),4) -> 0 | N12: =ROUND(('část D zaměstnanci'!J68),2) -> 0 | O12: =ROUND(('část D zaměstnanci'!K68),4) -> 0 | P12: --- | Q12: --- | R12: --- | T12: (pozn. K úvazkům z obchodních
A13: 1.3.2.1 | B13: Všeobecná sestra | C13: ='část D zaměstnanci'!E17 -> 0 | D13: ='část D zaměstnanci'!G17 -> 0 | E13: ='část D zaměstnanci'!I17 -> 0 | F13: ='část D zaměstnanci'!J17 -> 0 | G13: ='část D zaměstnanci'!K17 -> 0 | H13: --- | I13: --- | J13: --- | K13: =ROUND(('část D zaměstnanci'!E69),2) -> 0 | L13: =ROUND(('část D zaměstnanci'!G69),2) -> 0 | M13: =ROUND(('část D zaměstnanci'!I69),4) -> 0 | N13: =ROUND(('část D zaměstnanci'!J69),2) -> 0 | O13: =ROUND(('část D zaměstnanci'!K69),4) -> 0 | P13: --- | Q13: --- | R13: --- | T13: smluv jsou náklady uvedeny
A14: 1.3.2.2 | B14: Zdravotnický asistent | C14: ='část D zaměstnanci'!E18 -> 0 | D14: ='část D zaměstnanci'!G18 -> 0 | E14: ='část D zaměstnanci'!I18 -> 0 | F14: ='část D zaměstnanci'!J18 -> 0 | G14: ='část D zaměstnanci'!K18 -> 0 | H14: --- | I14: --- | J14: --- | K14: =ROUND(('část D zaměstnanci'!E70),2) -> 0 | L14: =ROUND(('část D zaměstnanci'!G70),2) -> 0 | M14: =ROUND(('část D zaměstnanci'!I70),4) -> 0 | N14: =ROUND(('část D zaměstnanci'!J70),2) -> 0 | O14: =ROUND(('část D zaměstnanci'!K70),4) -> 0 | P14: --- | Q14: --- | R14: --- | T14: zvlášť v malé tabulce dole, porovnáván
A15: 1.3.2.3 | B15: Fyzioterapeut | C15: ='část D zaměstnanci'!E19 -> 0 | D15: ='část D zaměstnanci'!G19 -> 0 | E15: ='část D zaměstnanci'!I19 -> 0 | F15: ='část D zaměstnanci'!J19 -> 0 | G15: ='část D zaměstnanci'!K19 -> 0 | H15: --- | I15: --- | J15: --- | K15: =ROUND(('část D zaměstnanci'!E71),2) -> 0 | L15: =ROUND(('část D zaměstnanci'!G71),2) -> 0 | M15: =ROUND(('část D zaměstnanci'!I71),4) -> 0 | N15: =ROUND(('část D zaměstnanci'!J71),2) -> 0 | O15: =ROUND(('část D zaměstnanci'!K71),4) -> 0 | P15: --- | Q15: --- | R15: --- | T15: není sloupec úvazky celkem)
A16: 1.3.2.4 | B16: Ergoterapeut | C16: ='část D zaměstnanci'!E20 -> 0 | D16: ='část D zaměstnanci'!G20 -> 0 | E16: ='část D zaměstnanci'!I20 -> 0 | F16: ='část D zaměstnanci'!J20 -> 0 | G16: ='část D zaměstnanci'!K20 -> 0 | H16: --- | I16: --- | J16: --- | K16: =ROUND(('část D zaměstnanci'!E72),2) -> 0 | L16: =ROUND(('část D zaměstnanci'!G72),2) -> 0 | M16: =ROUND(('část D zaměstnanci'!I72),4) -> 0 | N16: =ROUND(('část D zaměstnanci'!J72),2) -> 0 | O16: =ROUND(('část D zaměstnanci'!K72),4) -> 0 | P16: --- | Q16: --- | R16: --- | T16: V tabulkách pro celou síť:
A17: 1.3.2.5 | B17: Zdravotně-sociální pracovník | C17: ='část D zaměstnanci'!E21 -> 0 | D17: ='část D zaměstnanci'!G21 -> 0 | E17: ='část D zaměstnanci'!I21 -> 0 | F17: ='část D zaměstnanci'!J21 -> 0 | G17: ='část D zaměstnanci'!K21 -> 0 | H17: --- | I17: --- | J17: --- | K17: =ROUND(('část D zaměstnanci'!E73),2) -> 0 | L17: =ROUND(('část D zaměstnanci'!G73),2) -> 0 | M17: =ROUND(('část D zaměstnanci'!I73),4) -> 0 | N17: =ROUND(('část D zaměstnanci'!J73),2) -> 0 | O17: =ROUND(('část D zaměstnanci'!K73),4) -> 0 | P17: --- | Q17: --- | R17: --- | T17: - hodnoty ve všech uvedených
A18: 1.3.2.6 | B18: Nutriční terapeut | C18: ='část D zaměstnanci'!E22 -> 0 | D18: ='část D zaměstnanci'!G22 -> 0 | E18: ='část D zaměstnanci'!I22 -> 0 | F18: ='část D zaměstnanci'!J22 -> 0 | G18: ='část D zaměstnanci'!K22 -> 0 | H18: --- | I18: --- | J18: --- | K18: =ROUND(('část D zaměstnanci'!E74),2) -> 0 | L18: =ROUND(('část D zaměstnanci'!G74),2) -> 0 | M18: =ROUND(('část D zaměstnanci'!I74),4) -> 0 | N18: =ROUND(('část D zaměstnanci'!J74),2) -> 0 | O18: =ROUND(('část D zaměstnanci'!K74),4) -> 0 | P18: --- | Q18: --- | R18: --- | T18: buňkách jsou srovnávány
A19: 1.3.2.7 | B19: Adiktolog | C19: ='část D zaměstnanci'!E23 -> 0 | D19: ='část D zaměstnanci'!G23 -> 0 | E19: ='část D zaměstnanci'!I23 -> 0 | F19: ='část D zaměstnanci'!J23 -> 0 | G19: ='část D zaměstnanci'!K23 -> 0 | H19: --- | I19: --- | J19: --- | K19: =ROUND(('část D zaměstnanci'!E75),2) -> 0 | L19: =ROUND(('část D zaměstnanci'!G75),2) -> 0 | M19: =ROUND(('část D zaměstnanci'!I75),4) -> 0 | N19: =ROUND(('část D zaměstnanci'!J75),2) -> 0 | O19: =ROUND(('část D zaměstnanci'!K75),4) -> 0 | P19: --- | Q19: --- | R19: --- | T19: s odpovídajícími hodnotami buněk
A20: 1.3.2.8 | B20: Ošetřovatel | C20: ='část D zaměstnanci'!E24 -> 0 | D20: ='část D zaměstnanci'!G24 -> 0 | E20: ='část D zaměstnanci'!I24 -> 0 | F20: ='část D zaměstnanci'!J24 -> 0 | G20: ='část D zaměstnanci'!K24 -> 0 | H20: --- | I20: --- | J20: --- | K20: =ROUND(('část D zaměstnanci'!E76),2) -> 0 | L20: =ROUND(('část D zaměstnanci'!G76),2) -> 0 | M20: =ROUND(('část D zaměstnanci'!I76),4) -> 0 | N20: =ROUND(('část D zaměstnanci'!J76),2) -> 0 | O20: =ROUND(('část D zaměstnanci'!K76),4) -> 0 | P20: --- | Q20: --- | R20: --- | T20: v tabulkách pro síť A a pokud:
A21: 1.3.2.9 | B21: Sanitář | C21: ='část D zaměstnanci'!E25 -> 0 | D21: ='část D zaměstnanci'!G25 -> 0 | E21: ='část D zaměstnanci'!I25 -> 0 | F21: ='část D zaměstnanci'!J25 -> 0 | G21: ='část D zaměstnanci'!K25 -> 0 | H21: --- | I21: --- | J21: --- | K21: =ROUND(('část D zaměstnanci'!E77),2) -> 0 | L21: =ROUND(('část D zaměstnanci'!G77),2) -> 0 | M21: =ROUND(('část D zaměstnanci'!I77),4) -> 0 | N21: =ROUND(('část D zaměstnanci'!J77),2) -> 0 | O21: =ROUND(('část D zaměstnanci'!K77),4) -> 0 | P21: --- | Q21: --- | R21: --- | T21: - jsou shodné, zabarví se zeleně
A22: 1.3.2.10 | B22: Jiný odborný pracovník | C22: ='část D zaměstnanci'!E26 -> 0 | D22: ='část D zaměstnanci'!G26 -> 0 | E22: ='část D zaměstnanci'!I26 -> 0 | F22: ='část D zaměstnanci'!J26 -> 0 | G22: ='část D zaměstnanci'!K26 -> 0 | H22: --- | I22: --- | J22: --- | K22: =ROUND(('část D zaměstnanci'!E78),2) -> 0 | L22: =ROUND(('část D zaměstnanci'!G78),2) -> 0 | M22: =ROUND(('část D zaměstnanci'!I78),4) -> 0 | N22: =ROUND(('část D zaměstnanci'!J78),2) -> 0 | O22: =ROUND(('část D zaměstnanci'!K78),4) -> 0 | P22: --- | Q22: --- | R22: --- | T22: - hodnoty pro celou šíť jsou vyšší,
A23: 1.3.2.11 | B23: Jiný výše neuvedený pracovník | C23: ='část D zaměstnanci'!E27 -> 0 | D23: ='část D zaměstnanci'!G27 -> 0 | E23: ='část D zaměstnanci'!I27 -> 0 | F23: ='část D zaměstnanci'!J27 -> 0 | G23: ='část D zaměstnanci'!K27 -> 0 | H23: --- | I23: --- | J23: --- | K23: =ROUND(('část D zaměstnanci'!E79),2) -> 0 | L23: =ROUND(('část D zaměstnanci'!G79),2) -> 0 | M23: =ROUND(('část D zaměstnanci'!I79),4) -> 0 | N23: =ROUND(('část D zaměstnanci'!J79),2) -> 0 | O23: =ROUND(('část D zaměstnanci'!K79),4) -> 0 | P23: --- | Q23: --- | R23: --- | T23: zabarví se žlutě
A24: 1.4 | B24: Pedagogičtí pracovníci | C24: ='část D zaměstnanci'!E28 -> 0 | D24: ='část D zaměstnanci'!G28 -> 0 | E24: ='část D zaměstnanci'!I28 -> 0 | F24: ='část D zaměstnanci'!J28 -> 0 | G24: ='část D zaměstnanci'!K28 -> 0 | H24: ='část E náklady'!$F$34 -> 0 | I24: ='část E náklady'!F46 -> 0 | J24: ='část E náklady'!F58 -> 0 | K24: =ROUND(('část D zaměstnanci'!E80),2) -> 0 | L24: =ROUND(('část D zaměstnanci'!G80),2) -> 0 | M24: =ROUND(('část D zaměstnanci'!I80),4) -> 0 | N24: =ROUND(('část D zaměstnanci'!J80),2) -> 0 | O24: =ROUND(('část D zaměstnanci'!K80),4) -> 0 | P24: =ROUND(('část E náklady'!E34),2) -> 0 | Q24: =ROUND(('část E náklady'!E46),2) -> 0 | R24: =ROUND(('část E náklady'!E58),2) -> 0 | T24: - hodnoty pro celou šíť jsou nižší,
A25: 1.4.1 | B25: Učitel | C25: ='část D zaměstnanci'!E29 -> 0 | D25: ='část D zaměstnanci'!G29 -> 0 | E25: ='část D zaměstnanci'!I29 -> 0 | F25: ='část D zaměstnanci'!J29 -> 0 | G25: ='část D zaměstnanci'!K29 -> 0 | H25: --- | I25: --- | J25: --- | K25: =ROUND(('část D zaměstnanci'!E81),2) -> 0 | L25: =ROUND(('část D zaměstnanci'!G81),2) -> 0 | M25: =ROUND(('část D zaměstnanci'!I81),4) -> 0 | N25: =ROUND(('část D zaměstnanci'!J81),2) -> 0 | O25: =ROUND(('část D zaměstnanci'!K81),4) -> 0 | P25: --- | Q25: --- | R25: --- | T25: zabarví se červeně
A26: 1.4.2 | B26: Vychovatel | C26: ='část D zaměstnanci'!E30 -> 0 | D26: ='část D zaměstnanci'!G30 -> 0 | E26: ='část D zaměstnanci'!I30 -> 0 | F26: ='část D zaměstnanci'!J30 -> 0 | G26: ='část D zaměstnanci'!K30 -> 0 | H26: --- | I26: --- | J26: --- | K26: =ROUND(('část D zaměstnanci'!E82),2) -> 0 | L26: =ROUND(('část D zaměstnanci'!G82),2) -> 0 | M26: =ROUND(('část D zaměstnanci'!I82),4) -> 0 | N26: =ROUND(('část D zaměstnanci'!J82),2) -> 0 | O26: =ROUND(('část D zaměstnanci'!K82),4) -> 0 | P26: --- | Q26: --- | R26: ---
A27: 1.4.3 | B27: Speciální pedagog | C27: ='část D zaměstnanci'!E31 -> 0 | D27: ='část D zaměstnanci'!G31 -> 0 | E27: ='část D zaměstnanci'!I31 -> 0 | F27: ='část D zaměstnanci'!J31 -> 0 | G27: ='část D zaměstnanci'!K31 -> 0 | H27: --- | I27: --- | J27: --- | K27: =ROUND(('část D zaměstnanci'!E83),2) -> 0 | L27: =ROUND(('část D zaměstnanci'!G83),2) -> 0 | M27: =ROUND(('část D zaměstnanci'!I83),4) -> 0 | N27: =ROUND(('část D zaměstnanci'!J83),2) -> 0 | O27: =ROUND(('část D zaměstnanci'!K83),4) -> 0 | P27: --- | Q27: --- | R27: --- | T27: =IF(G4=0,"VE SLUŽBĚ NENÍ SOCIÁLNÍ PRACOVNÍK!!!"," ") -> VE SLUŽBĚ NENÍ SOCIÁLNÍ PRACOVNÍK!!!
A28: 1.4.4 | B28: Psycholog | C28: ='část D zaměstnanci'!E32 -> 0 | D28: ='část D zaměstnanci'!G32 -> 0 | E28: ='část D zaměstnanci'!I32 -> 0 | F28: ='část D zaměstnanci'!J32 -> 0 | G28: ='část D zaměstnanci'!K32 -> 0 | H28: --- | I28: --- | J28: --- | K28: =ROUND(('část D zaměstnanci'!E84),2) -> 0 | L28: =ROUND(('část D zaměstnanci'!G84),2) -> 0 | M28: =ROUND(('část D zaměstnanci'!I84),4) -> 0 | N28: =ROUND(('část D zaměstnanci'!J84),2) -> 0 | O28: =ROUND(('část D zaměstnanci'!K84),4) -> 0 | P28: --- | Q28: --- | R28: --- | T28: Tech.:
A29: 1.4.5 | B29: Pedagog volného času | C29: ='část D zaměstnanci'!E33 -> 0 | D29: ='část D zaměstnanci'!G33 -> 0 | E29: ='část D zaměstnanci'!I33 -> 0 | F29: ='část D zaměstnanci'!J33 -> 0 | G29: ='část D zaměstnanci'!K33 -> 0 | H29: --- | I29: --- | J29: --- | K29: =ROUND(('část D zaměstnanci'!E85),2) -> 0 | L29: =ROUND(('část D zaměstnanci'!G85),2) -> 0 | M29: =ROUND(('část D zaměstnanci'!I85),4) -> 0 | N29: =ROUND(('část D zaměstnanci'!J85),2) -> 0 | O29: =ROUND(('část D zaměstnanci'!K85),4) -> 0 | P29: --- | Q29: --- | R29: --- | T29: - srovnávány jsou hodnoty
A30: 1.4.6 | B30: Asistent pedagoga | C30: ='část D zaměstnanci'!E34 -> 0 | D30: ='část D zaměstnanci'!G34 -> 0 | E30: ='část D zaměstnanci'!I34 -> 0 | F30: ='část D zaměstnanci'!J34 -> 0 | G30: ='část D zaměstnanci'!K34 -> 0 | H30: --- | I30: --- | J30: --- | K30: =ROUND(('část D zaměstnanci'!E86),2) -> 0 | L30: =ROUND(('část D zaměstnanci'!G86),2) -> 0 | M30: =ROUND(('část D zaměstnanci'!I86),4) -> 0 | N30: =ROUND(('část D zaměstnanci'!J86),2) -> 0 | O30: =ROUND(('část D zaměstnanci'!K86),4) -> 0 | P30: --- | Q30: --- | R30: --- | T30: zaokrouhlené na dvě desetinná
A31: 1.4.7 | B31: Trenér | C31: ='část D zaměstnanci'!E35 -> 0 | D31: ='část D zaměstnanci'!G35 -> 0 | E31: ='část D zaměstnanci'!I35 -> 0 | F31: ='část D zaměstnanci'!J35 -> 0 | G31: ='část D zaměstnanci'!K35 -> 0 | H31: --- | I31: --- | J31: --- | K31: =ROUND(('část D zaměstnanci'!E87),2) -> 0 | L31: =ROUND(('část D zaměstnanci'!G87),2) -> 0 | M31: =ROUND(('část D zaměstnanci'!I87),4) -> 0 | N31: =ROUND(('část D zaměstnanci'!J87),2) -> 0 | O31: =ROUND(('část D zaměstnanci'!K87),4) -> 0 | P31: --- | Q31: --- | R31: --- | T31: místa (vyjma položky úvazky DPP (hod.))
A32: 1.4.8 | B32: Vedoucí pedagogický pracovník | C32: ='část D zaměstnanci'!E36 -> 0 | D32: ='část D zaměstnanci'!G36 -> 0 | E32: ='část D zaměstnanci'!I36 -> 0 | F32: ='část D zaměstnanci'!J36 -> 0 | G32: ='část D zaměstnanci'!K36 -> 0 | H32: --- | I32: --- | J32: --- | K32: =ROUND(('část D zaměstnanci'!E88),2) -> 0 | L32: =ROUND(('část D zaměstnanci'!G88),2) -> 0 | M32: =ROUND(('část D zaměstnanci'!I88),4) -> 0 | N32: =ROUND(('část D zaměstnanci'!J88),2) -> 0 | O32: =ROUND(('část D zaměstnanci'!K88),4) -> 0 | P32: --- | Q32: --- | R32: --- | T32: - při porovnávání úvazků
A33: 1.5 | B33: Manželští a rodinní poradci | C33: ='část D zaměstnanci'!E37 -> 0 | D33: ='část D zaměstnanci'!G37 -> 0 | E33: ='část D zaměstnanci'!I37 -> 0 | F33: ='část D zaměstnanci'!J37 -> 0 | G33: ='část D zaměstnanci'!K37 -> 0 | H33: ='část E náklady'!$F$35 -> 0 | I33: ='část E náklady'!F47 -> 0 | J33: ='část E náklady'!F59 -> 0 | K33: =ROUND(('část D zaměstnanci'!E89),2) -> 0 | L33: =ROUND(('část D zaměstnanci'!G89),2) -> 0 | M33: =ROUND(('část D zaměstnanci'!I89),4) -> 0 | N33: =ROUND(('část D zaměstnanci'!J89),2) -> 0 | O33: =ROUND(('část D zaměstnanci'!K89),4) -> 0 | P33: =ROUND(('část E náklady'!E35),2) -> 0 | Q33: =ROUND(('část E náklady'!E47),2) -> 0 | R33: =ROUND(('část E náklady'!E59),2) -> 0 | T33: a nákladů nesmí být nenulový úvazek
A34: 1.6 | B34: Další odborní pracovníci, kteří přímo poskytují sociální služby | C34: ='část D zaměstnanci'!E38 -> 0 | D34: ='část D zaměstnanci'!G38 -> 0 | E34: ='část D zaměstnanci'!I38 -> 0 | F34: ='část D zaměstnanci'!J38 -> 0 | G34: ='část D zaměstnanci'!K38 -> 0 | H34: ='část E náklady'!$F$36 -> 0 | I34: ='část E náklady'!F48 -> 0 | J34: ='část E náklady'!F60 -> 0 | K34: =ROUND(('část D zaměstnanci'!E90),2) -> 0 | L34: =ROUND(('část D zaměstnanci'!G90),2) -> 0 | M34: =ROUND(('část D zaměstnanci'!I90),4) -> 0 | N34: =ROUND(('část D zaměstnanci'!J90),2) -> 0 | O34: =ROUND(('část D zaměstnanci'!K90),4) -> 0 | P34: =ROUND(('část E náklady'!E36),2) -> 0 | Q34: =ROUND(('část E náklady'!E48),2) -> 0 | R34: =ROUND(('část E náklady'!E60),2) -> 0 | T34: a nulový náklad a naopak
A35: 2 | B35: Ostatní pracovníci celkem | C35: ='část D zaměstnanci'!E39 -> 0 | D35: ='část D zaměstnanci'!G39 -> 0 | E35: ='část D zaměstnanci'!I39 -> 0 | F35: ='část D zaměstnanci'!J39 -> 0 | G35: ='část D zaměstnanci'!K39 -> 0 | H35: ='část E náklady'!$F$37 -> 0 | I35: ='část E náklady'!F49 -> 0 | J35: ='část E náklady'!F61 -> 0 | K35: =ROUND(('část D zaměstnanci'!E91),2) -> 0 | L35: =ROUND(('část D zaměstnanci'!G91),2) -> 0 | M35: =ROUND(('část D zaměstnanci'!I91),4) -> 0 | N35: =ROUND(('část D zaměstnanci'!J91),2) -> 0 | O35: =ROUND(('část D zaměstnanci'!K91),4) -> 0 | P35: =ROUND(('část E náklady'!E37),2) -> 0 | Q35: =ROUND(('část E náklady'!E49),2) -> 0 | R35: =ROUND(('část E náklady'!E61),2) -> 0 | T35: - plynulá škála přechodů - proto
A36: 2.1 | B36: Ostatní pracovníci (obslužný personál) | C36: ='část D zaměstnanci'!E40 -> 0 | D36: ='část D zaměstnanci'!G40 -> 0 | E36: ='část D zaměstnanci'!I40 -> 0 | F36: ='část D zaměstnanci'!J40 -> 0 | G36: ='část D zaměstnanci'!K40 -> 0 | H36: ='část E náklady'!$F$38 -> 0 | I36: ='část E náklady'!F50 -> 0 | J36: ='část E náklady'!F62 -> 0 | K36: =ROUND(('část D zaměstnanci'!E92),2) -> 0 | L36: =ROUND(('část D zaměstnanci'!G92),2) -> 0 | M36: =ROUND(('část D zaměstnanci'!I92),4) -> 0 | N36: =ROUND(('část D zaměstnanci'!J92),2) -> 0 | O36: =ROUND(('část D zaměstnanci'!K92),4) -> 0 | P36: =ROUND(('část E náklady'!E38),2) -> 0 | Q36: =ROUND(('část E náklady'!E50),2) -> 0 | R36: =ROUND(('část E náklady'!E62),2) -> 0 | T36: při komparaci síť s celkem jsou
A37: 2.1.1 | B37: Pracovníci - prádelna | C37: ='část D zaměstnanci'!E41 -> 0 | D37: ='část D zaměstnanci'!G41 -> 0 | E37: ='část D zaměstnanci'!I41 -> 0 | F37: ='část D zaměstnanci'!J41 -> 0 | G37: ='část D zaměstnanci'!K41 -> 0 | H37: --- | I37: --- | J37: --- | K37: =ROUND(('část D zaměstnanci'!E93),2) -> 0 | L37: =ROUND(('část D zaměstnanci'!G93),2) -> 0 | M37: =ROUND(('část D zaměstnanci'!I93),4) -> 0 | N37: =ROUND(('část D zaměstnanci'!J93),2) -> 0 | O37: =ROUND(('část D zaměstnanci'!K93),4) -> 0 | P37: --- | Q37: --- | R37: --- | T37: kontrastní barvy
A38: 2.1.2 | B38: Pracovníci - stravování | C38: ='část D zaměstnanci'!E42 -> 0 | D38: ='část D zaměstnanci'!G42 -> 0 | E38: ='část D zaměstnanci'!I42 -> 0 | F38: ='část D zaměstnanci'!J42 -> 0 | G38: ='část D zaměstnanci'!K42 -> 0 | H38: --- | I38: --- | J38: --- | K38: =ROUND(('část D zaměstnanci'!E94),2) -> 0 | L38: =ROUND(('část D zaměstnanci'!G94),2) -> 0 | M38: =ROUND(('část D zaměstnanci'!I94),4) -> 0 | N38: =ROUND(('část D zaměstnanci'!J94),2) -> 0 | O38: =ROUND(('část D zaměstnanci'!K94),4) -> 0 | P38: --- | Q38: --- | R38: ---
A39: 2.1.3 | B39: Pracovníci - údržba | C39: ='část D zaměstnanci'!E43 -> 0 | D39: ='část D zaměstnanci'!G43 -> 0 | E39: ='část D zaměstnanci'!I43 -> 0 | F39: ='část D zaměstnanci'!J43 -> 0 | G39: ='část D zaměstnanci'!K43 -> 0 | H39: --- | I39: --- | J39: --- | K39: =ROUND(('část D zaměstnanci'!E95),2) -> 0 | L39: =ROUND(('část D zaměstnanci'!G95),2) -> 0 | M39: =ROUND(('část D zaměstnanci'!I95),4) -> 0 | N39: =ROUND(('část D zaměstnanci'!J95),2) -> 0 | O39: =ROUND(('část D zaměstnanci'!K95),4) -> 0 | P39: --- | Q39: --- | R39: --- | T39: 1. pravidlo číslo zadané v úvazku je větší
A40: 2.1.4 | B40: Pracovníci - úklid | C40: ='část D zaměstnanci'!E44 -> 0 | D40: ='část D zaměstnanci'!G44 -> 0 | E40: ='část D zaměstnanci'!I44 -> 0 | F40: ='část D zaměstnanci'!J44 -> 0 | G40: ='část D zaměstnanci'!K44 -> 0 | H40: --- | I40: --- | J40: --- | K40: =ROUND(('část D zaměstnanci'!E96),2) -> 0 | L40: =ROUND(('část D zaměstnanci'!G96),2) -> 0 | M40: =ROUND(('část D zaměstnanci'!I96),4) -> 0 | N40: =ROUND(('část D zaměstnanci'!J96),2) -> 0 | O40: =ROUND(('část D zaměstnanci'!K96),4) -> 0 | P40: --- | Q40: --- | R40: --- | T40: než součin čísla zadaného v nákladech
A41: 2.1.5 | B41: Pracovníci - obslužný personál ostatní | C41: ='část D zaměstnanci'!E45 -> 0 | D41: ='část D zaměstnanci'!G45 -> 0 | E41: ='část D zaměstnanci'!I45 -> 0 | F41: ='část D zaměstnanci'!J45 -> 0 | G41: ='část D zaměstnanci'!K45 -> 0 | H41: --- | I41: --- | J41: --- | K41: =ROUND(('část D zaměstnanci'!E97),2) -> 0 | L41: =ROUND(('část D zaměstnanci'!G97),2) -> 0 | M41: =ROUND(('část D zaměstnanci'!I97),4) -> 0 | N41: =ROUND(('část D zaměstnanci'!J97),2) -> 0 | O41: =ROUND(('část D zaměstnanci'!K97),4) -> 0 | P41: --- | Q41: --- | R41: --- | T41: krát číslo zadané v úvazku krát 1000
A42: 2.2 | B42: Vedoucí pracovníci | C42: ='část D zaměstnanci'!E46 -> 0 | D42: ='část D zaměstnanci'!G46 -> 0 | E42: ='část D zaměstnanci'!I46 -> 0 | F42: ='část D zaměstnanci'!J46 -> 0 | G42: ='část D zaměstnanci'!K46 -> 0 | H42: ='část E náklady'!$F$39 -> 0 | I42: ='část E náklady'!F51 -> 0 | J42: ='část E náklady'!F63 -> 0 | K42: =ROUND(('část D zaměstnanci'!E98),2) -> 0 | L42: =ROUND(('část D zaměstnanci'!G98),2) -> 0 | M42: =ROUND(('část D zaměstnanci'!I98),4) -> 0 | N42: =ROUND(('část D zaměstnanci'!J98),2) -> 0 | O42: =ROUND(('část D zaměstnanci'!K98),4) -> 0 | P42: =ROUND(('část E náklady'!E39),2) -> 0 | Q42: =ROUND(('část E náklady'!E51),2) -> 0 | R42: =ROUND(('část E náklady'!E63),2) -> 0 | T42: 2. pravidlo číslo zadané v nákladech je
A43: 2.2.1 | B43: Vedoucí organizace | C43: ='část D zaměstnanci'!E47 -> 0 | D43: ='část D zaměstnanci'!G47 -> 0 | E43: ='část D zaměstnanci'!I47 -> 0 | F43: ='část D zaměstnanci'!J47 -> 0 | G43: ='část D zaměstnanci'!K47 -> 0 | H43: --- | I43: --- | J43: --- | K43: =ROUND(('část D zaměstnanci'!E99),2) -> 0 | L43: =ROUND(('část D zaměstnanci'!G99),2) -> 0 | M43: =ROUND(('část D zaměstnanci'!I99),4) -> 0 | N43: =ROUND(('část D zaměstnanci'!J99),2) -> 0 | O43: =ROUND(('část D zaměstnanci'!K99),4) -> 0 | P43: --- | Q43: --- | R43: --- | T43: větší než součin čísla zadaného
A44: 2.2.2 | B44: Vedoucí služby | C44: ='část D zaměstnanci'!E48 -> 0 | D44: ='část D zaměstnanci'!G48 -> 0 | E44: ='část D zaměstnanci'!I48 -> 0 | F44: ='část D zaměstnanci'!J48 -> 0 | G44: ='část D zaměstnanci'!K48 -> 0 | H44: --- | I44: --- | J44: --- | K44: =ROUND(('část D zaměstnanci'!E100),2) -> 0 | L44: =ROUND(('část D zaměstnanci'!G100),2) -> 0 | M44: =ROUND(('část D zaměstnanci'!I100),4) -> 0 | N44: =ROUND(('část D zaměstnanci'!J100),2) -> 0 | O44: =ROUND(('část D zaměstnanci'!K100),4) -> 0 | P44: --- | Q44: --- | R44: --- | T44: v úvazku krát číslo zadané v nákladech
A45: 2.2.3 | B45: Ostatní vedoucí pracovníci | C45: ='část D zaměstnanci'!E49 -> 0 | D45: ='část D zaměstnanci'!G49 -> 0 | E45: ='část D zaměstnanci'!I49 -> 0 | F45: ='část D zaměstnanci'!J49 -> 0 | G45: ='část D zaměstnanci'!K49 -> 0 | H45: --- | I45: --- | J45: --- | K45: =ROUND(('část D zaměstnanci'!E101),2) -> 0 | L45: =ROUND(('část D zaměstnanci'!G101),2) -> 0 | M45: =ROUND(('část D zaměstnanci'!I101),4) -> 0 | N45: =ROUND(('část D zaměstnanci'!J101),2) -> 0 | O45: =ROUND(('část D zaměstnanci'!K101),4) -> 0 | P45: --- | Q45: --- | R45: --- | T45: krát 1000
A46: 2.3 | B46: Administrativní pracovníci | C46: ='část D zaměstnanci'!E50 -> 0 | D46: ='část D zaměstnanci'!G50 -> 0 | E46: ='část D zaměstnanci'!I50 -> 0 | F46: ='část D zaměstnanci'!J50 -> 0 | G46: ='část D zaměstnanci'!K50 -> 0 | H46: ='část E náklady'!$F$40 -> 0 | I46: ='část E náklady'!F52 -> 0 | J46: ='část E náklady'!F64 -> 0 | K46: =ROUND(('část D zaměstnanci'!E102),2) -> 0 | L46: =ROUND(('část D zaměstnanci'!G102),2) -> 0 | M46: =ROUND(('část D zaměstnanci'!I102),4) -> 0 | N46: =ROUND(('část D zaměstnanci'!J102),2) -> 0 | O46: =ROUND(('část D zaměstnanci'!K102),4) -> 0 | P46: =ROUND(('část E náklady'!E40),2) -> 0 | Q46: =ROUND(('část E náklady'!E52),2) -> 0 | R46: =ROUND(('část E náklady'!E64),2) -> 0 | T46: hlídáno je pouze to, zda odpovídající
A47: 2.3.1 | B47: Pracovníci - sekretářské a asistenční pozice | C47: ='část D zaměstnanci'!E51 -> 0 | D47: ='část D zaměstnanci'!G51 -> 0 | E47: ='část D zaměstnanci'!I51 -> 0 | F47: ='část D zaměstnanci'!J51 -> 0 | G47: ='část D zaměstnanci'!K51 -> 0 | H47: --- | I47: --- | J47: --- | K47: =ROUND(('část D zaměstnanci'!E103),2) -> 0 | L47: =ROUND(('část D zaměstnanci'!G103),2) -> 0 | M47: =ROUND(('část D zaměstnanci'!I103),4) -> 0 | N47: =ROUND(('část D zaměstnanci'!J103),2) -> 0 | O47: =ROUND(('část D zaměstnanci'!K103),4) -> 0 | P47: --- | Q47: --- | R47: --- | T47: položka není nulová !
A48: 2.3.2 | B48: Účetní | C48: ='část D zaměstnanci'!E52 -> 0 | D48: ='část D zaměstnanci'!G52 -> 0 | E48: ='část D zaměstnanci'!I52 -> 0 | F48: ='část D zaměstnanci'!J52 -> 0 | G48: ='část D zaměstnanci'!K52 -> 0 | H48: --- | I48: --- | J48: --- | K48: =ROUND(('část D zaměstnanci'!E104),2) -> 0 | L48: =ROUND(('část D zaměstnanci'!G104),2) -> 0 | M48: =ROUND(('část D zaměstnanci'!I104),4) -> 0 | N48: =ROUND(('část D zaměstnanci'!J104),2) -> 0 | O48: =ROUND(('část D zaměstnanci'!K104),4) -> 0 | P48: --- | Q48: --- | R48: ---
A49: 2.3.3 | B49: Ostatní administrativní pracovníci | C49: ='část D zaměstnanci'!E53 -> 0 | D49: ='část D zaměstnanci'!G53 -> 0 | E49: ='část D zaměstnanci'!I53 -> 0 | F49: ='část D zaměstnanci'!J53 -> 0 | G49: ='část D zaměstnanci'!K53 -> 0 | H49: --- | I49: --- | J49: --- | K49: =ROUND(('část D zaměstnanci'!E105),2) -> 0 | L49: =ROUND(('část D zaměstnanci'!G105),2) -> 0 | M49: =ROUND(('část D zaměstnanci'!I105),4) -> 0 | N49: =ROUND(('část D zaměstnanci'!J105),2) -> 0 | O49: =ROUND(('část D zaměstnanci'!K105),4) -> 0 | P49: --- | Q49: --- | R49: ---
A50: 1.4 | B50: Jiné osobní náklady | C50: --- | D50: --- | E50: --- | F50: --- | G50: --- | H50: ='část E náklady'!F65 -> 0 | I50: --- | J50: --- | K50: --- | L50: --- | M50: --- | N50: --- | O50: --- | P50: ='část E náklady'!E65 -> 0 | Q50: --- | R50: ---
B51: Pracovníci celkem | C51: ='část D zaměstnanci'!E54 -> 0 | D51: ='část D zaměstnanci'!G54 -> 0 | E51: ='část D zaměstnanci'!I54 -> 0 | F51: ='část D zaměstnanci'!J54 -> 0 | G51: ='část D zaměstnanci'!K54 -> 0 | H51: --- | I51: --- | J51: --- | K51: =('část D zaměstnanci'!E106) -> 0 | L51: =('část D zaměstnanci'!G106) -> 0 | M51: =('část D zaměstnanci'!$I$106) -> 0 | N51: =('část D zaměstnanci'!J106) -> 0 | O51: =('část D zaměstnanci'!K106) -> 0 | P51: --- | Q51: --- | R51: ---
B53: Náklady | F53: celkem | G53: síť | T53: zabarvení buněk v malé tabulce Náklady
B54: 2.6.8 pracovníci v přímé péči (mimo prac.poměr, DPP, DPČ) | F54: =ROUND(('část E náklady'!E82),2) -> 0 | G54: =ROUND(('část E náklady'!F82),2) -> 0 | T54: sloupec celkem
B55: 2.6.9 ostatní pracovníci (mimo prac.poměr, DPP, DPČ) | F55: =ROUND(('část E náklady'!E83),2) -> 0 | G55: =ROUND(('část E náklady'!F83),2) -> 0 | T55: - červená - hodnota celkem je menší než
T56: hodnota síť (chyba)
B57: Výnosy | F57: ='část F zdroje'!E32 -> 0 | G57: ='část F zdroje'!E35 -> 0 | I57: =IF(F57<>G57,"Výnosy za celou službu a za její část se liší"," ") | T57: - zelená - hodnota celkem je stejná jako
B58: Náklady | F58: ='část F zdroje'!E31 -> 0 | G58: ='část F zdroje'!E34 -> 0 | I58: =IF(F58<>G58,"Náklady za celou službu a za její část se liší"," ") | T58: hodnota síť
T59: - žlutá - hodnota celkem je větší než
T60: hodnota síť (zkontrolovat, zda se liší
T61: úvazky)
T62: sloupec síť
T63: - červená - náklad na pracovníky nemá
T64: v tabulce odpovídající úvazek
T66: Významy barev zvýraznění buněk
T67: zelená - je to v pohodě - hodnoty jsou stejné
T68: žlutá - ještě něco je třeba zkontrolovat - hodnoty se liší
T69: červená - je to špatně

Sheet data
A1: nevybráno | D1: 0 | E1: vyberte druh sociální služby na úvodním listu formuláře | G1: 0 | H1: vyberte druh sociální služby na úvodním listu formuláře
A2: Azylové domy | B2: Pprev | C2: počet lůžek (indikátor 1) | D2: ='část B ind_P_prev'!$H$6 -> 0 | E2: hodnota z části B | F2: obložnost (indikátor 2) | G2: ='část B ind_P_prev'!$H$10 -> 0 | H2: hodnota z části B (vyjádřená desetinným číslem) | J2: Svátky v roce | L2: lůžka (max.) | M2: lůžka (min.) | N2: obložnost (min.)
A3: Centra denních služeb | B3: ATpéče | C3: úvazky pracovníků v přímé péči (indikátor 1) | D3: ='část D zaměstnanci'!$K$7 -> 0 | E3: hodnota z části D zaměstnanci, buňka J7 | F3: celkový počet uživatelů (indikátor 2) | G3: ='část B ind_AT_péče'!$H$8 -> 0 | H3: hodnota z části B | J3: 46388 | L3: úvazky pracovníků v přímé péči (max.) | M3: úvazky pracovníků v přímé péči (min.) | N3: uživatelé (min.)
A4: Denní stacionáře | B4: ATpéče | C4: úvazky pracovníků v přímé péči (indikátor 1) | D4: ='část D zaměstnanci'!$K$7 -> 0 | E4: hodnota z části D zaměstnanci, buňka J7 | F4: celkový počet uživatelů (indikátor 2) | G4: ='část B ind_AT_péče'!$H$8 -> 0 | H4: hodnota z části B | J4: 46472 | L4: úvazky pracovníků v přímé péči (max.) | M4: úvazky pracovníků v přímé péči (min.) | N4: uživatelé (min.)
A5: Domovy pro osoby se zdravotním postižením | B5: P péče | C5: počet lůžek (indikátor 1) | D5: ='část B ind_P_péče'!$H$6 -> 0 | E5: hodnota z části B | F5: obložnost (indikátor 2) | G5: ='část B ind_P_péče'!$H$10 -> 0 | H5: hodnota z části B (vyjádřená desetinným číslem) | J5: 46475 | L5: lůžka (max.) | M5: lůžka (min.) | N5: obložnost (min.)
A6: Domovy pro seniory | B6: P péče | C6: počet lůžek (indikátor 1) | D6: ='část B ind_P_péče'!$H$6 -> 0 | E6: hodnota z části B | F6: obložnost (indikátor 2) | G6: ='část B ind_P_péče'!$H$10 -> 0 | H6: hodnota z části B (vyjádřená desetinným číslem) | J6: 46573 | L6: lůžka (max.) | M6: lůžka (min.) | N6: obložnost (min.)
A7: Domovy se zvláštním režimem | B7: P péče | C7: počet lůžek (indikátor 1) | D7: ='část B ind_P_péče'!$H$6 -> 0 | E7: hodnota z části B | F7: obložnost (indikátor 2) | G7: ='část B ind_P_péče'!$H$10 -> 0 | H7: hodnota z části B (vyjádřená desetinným číslem) | J7: 46574 | L7: lůžka (max.) | M7: lůžka (min.) | N7: obložnost (min.)
A8: Domy na půl cesty | B8: Pprev | C8: počet lůžek (indikátor 1) | D8: ='část B ind_P_prev'!$H$6 -> 0 | E8: hodnota z části B | F8: obložnost (indikátor 2) | G8: ='část B ind_P_prev'!$H$10 -> 0 | H8: hodnota z části B (vyjádřená desetinným číslem) | J8: 46658 | L8: lůžka (max.) | M8: lůžka (min.) | N8: obložnost (min.)
A9: Chráněné bydlení | B9: P péče | C9: počet lůžek (indikátor 1) | D9: ='část B ind_P_péče'!$H$6 -> 0 | E9: hodnota z části B | F9: obložnost (indikátor 2) | G9: ='část B ind_P_péče'!$H$10 -> 0 | H9: hodnota z části B (vyjádřená desetinným číslem) | J9: 46688 | L9: lůžka (max.) | M9: lůžka (min.) | N9: obložnost (min.)
A10: Intervenční centra | B10: Atprev | C10: úvazky pracovníků v přímé péči (indikátor 1) | D10: ='část D zaměstnanci'!$K$7 -> 0 | E10: hodnota z části D zaměstnanci, buňka J7 | F10: celkový počet uživatelů (indikátor 2) | G10: ='část B ind_AT_prev'!$H$8 -> 0 | H10: hodnota z části B | J10: 46708 | L10: úvazky pracovníků v přímé péči (max.) | M10: úvazky pracovníků v přímé péči (min.) | N10: uživatelé (min.)
A11: Kontaktní centra | B11: Atprev | C11: úvazky pracovníků v přímé péči (indikátor 1) | D11: ='část D zaměstnanci'!$K$7 -> 0 | E11: hodnota z části D zaměstnanci, buňka J7 | F11: celkový počet uživatelů (indikátor 2) | G11: ='část B ind_AT_prev'!$H$8 -> 0 | H11: hodnota z části B | J11: 46745 | L11: úvazky pracovníků v přímé péči (max.) | M11: úvazky pracovníků v přímé péči (min.) | N11: uživatelé (min.)
A12: Krizová pomoc | B12: Atprev/Pprev | C12: úvazky pracovníků v přímé péči (indikátor 1) | D12: ='část D zaměstnanci'!$K$7 -> 0 | E12: hodnota z části D zaměstnanci, buňka J7 | F12: celkový počet uživatelů (indikátor 2) | G12: ='část B ind_AT_prev'!$H$8 -> 0 | H12: hodnota z části B | L12: úvazky pracovníků v přímé péči (max.) | M12: úvazky pracovníků v přímé péči (min.) | N12: uživatelé (min.)
A13: Nízkoprahová denní centra | B13: Atprev | C13: úvazky pracovníků v přímé péči (indikátor 1) | D13: ='část D zaměstnanci'!$K$7 -> 0 | E13: hodnota z části D zaměstnanci, buňka J7 | F13: celkový počet uživatelů (indikátor 2) | G13: ='část B ind_AT_prev'!$H$8 -> 0 | H13: hodnota z části B | L13: úvazky pracovníků v přímé péči (max.) | M13: úvazky pracovníků v přímé péči (min.) | N13: uživatelé (min.)
A14: Nízkoprahová zařízení pro děti a mládež | B14: Atprev | C14: úvazky pracovníků v přímé péči (indikátor 1) | D14: ='část D zaměstnanci'!$K$7 -> 0 | E14: hodnota z části D zaměstnanci, buňka J7 | F14: celkový počet uživatelů (indikátor 2) | G14: ='část B ind_AT_prev'!$H$8 -> 0 | H14: hodnota z části B | L14: úvazky pracovníků v přímé péči (max.) | M14: úvazky pracovníků v přímé péči (min.) | N14: uživatelé (min.)
A15: Noclehárny | B15: Atprev | C15: úvazky pracovníků v přímé péči (indikátor 1) | D15: ='část D zaměstnanci'!$K$7 -> 0 | E15: hodnota z části D zaměstnanci, buňka J7 | F15: celkový počet uživatelů (indikátor 2) | G15: ='část B ind_AT_prev'!$H$8 -> 0 | H15: hodnota z části B | L15: úvazky pracovníků v přímé péči (max.) | M15: úvazky pracovníků v přímé péči (min.) | N15: uživatelé (min.)
A16: Odborné sociální poradenství | B16: Atprev | C16: úvazky pracovníků v přímé péči (indikátor 1) | D16: ='část D zaměstnanci'!$K$7 -> 0 | E16: hodnota z části D zaměstnanci, buňka J7 | F16: celkový počet uživatelů (indikátor 2) | G16: ='část B ind_AT_prev'!$H$8 -> 0 | H16: hodnota z části B | L16: úvazky pracovníků v přímé péči (max.) | M16: úvazky pracovníků v přímé péči (min.) | N16: uživatelé (min.)
A17: Odlehčovací služby | B17: Atpéče/Ppéče | C17: úvazky pracovníků v přímé péči (indikátor 1) | D17: ='část D zaměstnanci'!$K$7 -> 0 | E17: hodnota z části D zaměstnanci, buňka J7 | F17: celkový počet uživatelů (indikátor 2) | G17: ='část B ind_AT_péče'!$H$8 -> 0 | H17: hodnota z části B | L17: úvazky pracovníků v přímé péči (max.) | M17: úvazky pracovníků v přímé péči (min.) | N17: uživatelé (min.)
A18: Osobní asistence | B18: ATpéče | C18: úvazky pracovníků v přímé péči (indikátor 1) | D18: ='část D zaměstnanci'!$K$7 -> 0 | E18: hodnota z části D zaměstnanci, buňka J7 | F18: celkový počet uživatelů (indikátor 2) | G18: ='část B ind_AT_péče'!$H$8 -> 0 | H18: hodnota z části B | L18: úvazky pracovníků v přímé péči (max.) | M18: úvazky pracovníků v přímé péči (min.) | N18: uživatelé (min.)
A19: Pečovatelská služba | B19: ATpéče | C19: úvazky pracovníků v přímé péči (indikátor 1) | D19: ='část D zaměstnanci'!$K$7 -> 0 | E19: hodnota z části D zaměstnanci, buňka J7 | F19: celkový počet uživatelů (indikátor 2) | G19: ='část B ind_AT_péče'!$H$8 -> 0 | H19: hodnota z části B | J19: Fond pracovní doby v roce (hod.) | L19: úvazky pracovníků v přímé péči (max.) | M19: úvazky pracovníků v přímé péči (min.) | N19: uživatelé (min.)
A20: Podpora samostatného bydlení | B20: ATpéče | C20: úvazky pracovníků v přímé péči (indikátor 1) | D20: ='část D zaměstnanci'!$K$7 -> 0 | E20: hodnota z části D zaměstnanci, buňka J7 | F20: celkový počet uživatelů (indikátor 2) | G20: ='část B ind_AT_péče'!$H$8 -> 0 | H20: hodnota z části B | J20: 2016 | L20: úvazky pracovníků v přímé péči (max.) | M20: úvazky pracovníků v přímé péči (min.) | N20: uživatelé (min.)
A21: Průvodcovské a předčitatelské služby | B21: ATpéče | C21: úvazky pracovníků v přímé péči (indikátor 1) | D21: ='část D zaměstnanci'!$K$7 -> 0 | E21: hodnota z části D zaměstnanci, buňka J7 | F21: celkový počet uživatelů (indikátor 2) | G21: ='část B ind_AT_péče'!$H$8 -> 0 | H21: hodnota z části B | L21: úvazky pracovníků v přímé péči (max.) | M21: úvazky pracovníků v přímé péči (min.) | N21: uživatelé (min.)
A22: Raná péče | B22: Atprev | C22: úvazky pracovníků v přímé péči (indikátor 1) | D22: ='část D zaměstnanci'!$K$7 -> 0 | E22: hodnota z části D zaměstnanci, buňka J7 | F22: celkový počet uživatelů (indikátor 2) | G22: ='část B ind_AT_prev'!$H$8 -> 0 | H22: hodnota z části B | L22: úvazky pracovníků v přímé péči (max.) | M22: úvazky pracovníků v přímé péči (min.) | N22: uživatelé (min.)
A23: Služby následné péče | B23: Atprev/Pprev | C23: úvazky pracovníků v přímé péči (indikátor 1) | D23: ='část D zaměstnanci'!$K$7 -> 0 | E23: hodnota z části D zaměstnanci, buňka J7 | F23: celkový počet uživatelů (indikátor 2) | G23: ='část B ind_AT_prev'!$H$8 -> 0 | H23: hodnota z části B | L23: úvazky pracovníků v přímé péči (max.) | M23: úvazky pracovníků v přímé péči (min.) | N23: uživatelé (min.)
A24: Sociálně aktivizační služby pro rodiny s dětmi | B24: Atprev | C24: úvazky pracovníků v přímé péči (indikátor 1) | D24: ='část D zaměstnanci'!$K$7 -> 0 | E24: hodnota z části D zaměstnanci, buňka J7 | F24: celkový počet uživatelů (indikátor 2) | G24: ='část B ind_AT_prev'!$H$8 -> 0 | H24: hodnota z části B | L24: úvazky pracovníků v přímé péči (max.) | M24: úvazky pracovníků v přímé péči (min.) | N24: uživatelé (min.)
A25: Sociálně aktivizační služby pro seniory a osoby se zdravotním postižením | B25: Atprev | C25: úvazky pracovníků v přímé péči (indikátor 1) | D25: ='část D zaměstnanci'!$K$7 -> 0 | E25: hodnota z části D zaměstnanci, buňka J7 | F25: celkový počet uživatelů (indikátor 2) | G25: ='část B ind_AT_prev'!$H$8 -> 0 | H25: hodnota z části B | J25: nevybráno | L25: úvazky pracovníků v přímé péči (max.) | M25: úvazky pracovníků v přímé péči (min.) | N25: uživatelé (min.)
A26: Sociálně terapeutické dílny | B26: Atprev | C26: úvazky pracovníků v přímé péči (indikátor 1) | D26: ='část D zaměstnanci'!$K$7 -> 0 | E26: hodnota z části D zaměstnanci, buňka J7 | F26: celkový počet uživatelů (indikátor 2) | G26: ='část B ind_AT_prev'!$H$8 -> 0 | H26: hodnota z části B | J26: Příjemce uplatnil odpočet DPH | L26: úvazky pracovníků v přímé péči (max.) | M26: úvazky pracovníků v přímé péči (min.) | N26: uživatelé (min.)
A27: Sociální rehabilitace | B27: Atprev/Pprev | C27: úvazky pracovníků v přímé péči (indikátor 1) | D27: ='část D zaměstnanci'!$K$7 -> 0 | E27: hodnota z části D zaměstnanci, buňka J7 | F27: celkový počet uživatelů (indikátor 2) | G27: ='část B ind_AT_prev'!$H$8 -> 0 | H27: hodnota z části B | J27: Příjemce neuplatnil odpočet DPH | L27: úvazky pracovníků v přímé péči (max.) | M27: úvazky pracovníků v přímé péči (min.) | N27: uživatelé (min.)
A28: Sociální služby poskytované ve zdravotnických zařízeních lůžkové péče | B28: P péče | C28: počet lůžek (indikátor 1) | D28: ='část B ind_P_péče'!$H$6 -> 0 | E28: hodnota z části B | F28: obložnost (indikátor 2) | G28: ='část B ind_P_péče'!$H$10 -> 0 | H28: hodnota z části B (vyjádřená desetinným číslem) | L28: lůžka (max.) | M28: lůžka (min.) | N28: obložnost (min.)
A29: Telefonická krizová pomoc | B29: Atprev | C29: úvazky pracovníků v přímé péči (indikátor 1) | D29: ='část D zaměstnanci'!$K$7 -> 0 | E29: hodnota z části D zaměstnanci, buňka J7 | F29: celkový počet hovorů (indikátor 2) | G29: ='část B ind_AT_prev'!$H$9 -> 0 | H29: hodnota z části B | L29: úvazky pracovníků v přímé péči (max.) | M29: úvazky pracovníků v přímé péči (min.) | N29: hovory (min.)
A30: Terapeutické komunity | B30: Pprev | C30: počet lůžek (indikátor 1) | D30: ='část B ind_P_prev'!$H$6 -> 0 | E30: hodnota z části B | F30: obložnost (indikátor 2) | G30: ='část B ind_P_prev'!$H$10 -> 0 | H30: hodnota z části B (vyjádřená desetinným číslem) | L30: lůžka (max.) | M30: lůžka (min.) | N30: obložnost (min.)
A31: Terénní programy | B31: Atprev | C31: úvazky pracovníků v přímé péči (indikátor 1) | D31: ='část D zaměstnanci'!$K$7 -> 0 | E31: hodnota z části D zaměstnanci, buňka J7 | F31: celkový počet uživatelů (indikátor 2) | G31: ='část B ind_AT_prev'!$H$8 -> 0 | H31: hodnota z části B | L31: úvazky pracovníků v přímé péči (max.) | M31: úvazky pracovníků v přímé péči (min.) | N31: uživatelé (min.)
A32: Tísňová péče | B32: ATpéče | C32: úvazky pracovníků v přímé péči (indikátor 1) | D32: ='část D zaměstnanci'!$K$7 -> 0 | E32: hodnota z části D zaměstnanci, buňka J7 | F32: celkový počet uživatelů (indikátor 2) | G32: ='část B ind_AT_péče'!$H$8 -> 0 | H32: hodnota z části B | L32: úvazky pracovníků v přímé péči (max.) | M32: úvazky pracovníků v přímé péči (min.) | N32: uživatelé (min.)
A33: Tlumočnické služby | B33: Atprev | C33: úvazky pracovníků v přímé péči (indikátor 1) | D33: ='část D zaměstnanci'!$K$7 -> 0 | E33: hodnota z části D zaměstnanci, buňka J7 | F33: celkový počet uživatelů (indikátor 2) | G33: ='část B ind_AT_prev'!$H$8 -> 0 | H33: hodnota z části B | L33: úvazky pracovníků v přímé péči (max.) | M33: úvazky pracovníků v přímé péči (min.) | N33: uživatelé (min.)
A34: Týdenní stacionáře | B34: P péče | C34: počet lůžek (indikátor 1) | D34: ='část B ind_P_péče'!$H$6 -> 0 | E34: hodnota z části B | F34: obložnost (indikátor 2) | G34: ='část B ind_P_péče'!$H$10 -> 0 | H34: hodnota z části B (vyjádřená desetinným číslem) | L34: lůžka (max.) | M34: lůžka (min.) | N34: obložnost (min.)
A35: Centrum duševního zdraví | B35: Atprev | C35: úvazky pracovníků v přímé péči (indikátor 1) | D35: ='část D zaměstnanci'!$K$7 -> 0 | E35: hodnota z části D zaměstnanci, buňka J7 | F35: celkový počet uživatelů (indikátor 2) | H35: hodnota z části B | L35: úvazky pracovníků v přímé péči (max.) | M35: úvazky pracovníků v přímé péči (min.) | N35: uživatelé (min.)
A37: Abertamy
A38: Andělská Hora
A39: Aš
A40: Bečov nad Teplou
A41: Bochov
A42: Boží Dar
A43: Božičany
A44: Bražec
A45: Březová (u Karlových Varů)
A46: Březová (u Sokolova)
A47: Bublava
A48: Bukovany
... A170: jiné - uveďte jaké

Sheet Sehrávání
A1: 1 | B1: Úvazky - pracovní smlouvy | C1: ='úvodní list'!$E$12 -> 0 | D1: ='úvodní list'!$E$13 -> 0 | E1: ='úvodní list'!$E$14 -> 0 | F1: ='úvodní list'!$E$15 -> nevybráno | G1: ='úvodní list'!$E$16 -> 0 | H1: ='část D zaměstnanci'!$E$7 -> 0 | I1: ='část D zaměstnanci'!$E$8 -> 0 | J1: ='část D zaměstnanci'!$E$9 -> 0 | K1: ='část D zaměstnanci'!$E$10 -> 0 | L1: ='část D zaměstnanci'!$E$11 -> 0 | M1: ='část D zaměstnanci'!$E$12 -> 0 | N1: ='část D zaměstnanci'!$E$13 -> 0 | O1: ='část D zaměstnanci'!$E$14 -> 0 | P1: ='část D zaměstnanci'!$E$15 -> 0 | Q1: ='část D zaměstnanci'!$E$16 -> 0 | R1: ='část D zaměstnanci'!$E$17 -> 0 | S1: ='část D zaměstnanci'!$E$18 -> 0 | T1: ='část D zaměstnanci'!$E$19 -> 0 | U1: ='část D zaměstnanci'!$E$20 -> 0 | V1: ='část D zaměstnanci'!$E$21 -> 0 | W1: ='část D zaměstnanci'!$E$22 -> 0 | X1: ='část D zaměstnanci'!$E$23 -> 0 | Y1: ='část D zaměstnanci'!$E$24 -> 0 | Z1: ='část D zaměstnanci'!$E$25 -> 0 | AA1: ='část D zaměstnanci'!$E$26 -> 0 | AB1: ='část D zaměstnanci'!$E$27 -> 0 | AC1: ='část D zaměstnanci'!$E$28 -> 0 | AD1: ='část D zaměstnanci'!$E$29 -> 0 | AE1: ='část D zaměstnanci'!$E$30 -> 0 | AF1: ='část D zaměstnanci'!$E$31 -> 0 | AG1: ='část D zaměstnanci'!$E$32 -> 0 | AH1: ='část D zaměstnanci'!$E$33 -> 0 | AI1: ='část D zaměstnanci'!$E$34 -> 0 | AJ1: ='část D zaměstnanci'!$E$35 -> 0 | AK1: ='část D zaměstnanci'!$E$36 -> 0 | AL1: ='část D zaměstnanci'!$E$37 -> 0 | AM1: ='část D zaměstnanci'!$E$38 -> 0 | AN1: ='část D zaměstnanci'!$E$39 -> 0 | AO1: ='část D zaměstnanci'!$E$40 -> 0 | AP1: ='část D zaměstnanci'!$E$41 -> 0 | AQ1: ='část D zaměstnanci'!$E$42 -> 0 | AR1: ='část D zaměstnanci'!$E$43 -> 0 | AS1: ='část D zaměstnanci'!$E$44 -> 0 | AT1: ='část D zaměstnanci'!$E$45 -> 0 | AU1: ='část D zaměstnanci'!$E$46 -> 0 | AV1: ='část D zaměstnanci'!$E$47 -> 0 | AW1: ='část D zaměstnanci'!$E$48 -> 0 | AX1: ='část D zaměstnanci'!$E$49 -> 0 | AY1: ='část D zaměstnanci'!$E$50 -> 0 | AZ1: ='část D zaměstnanci'!$E$51 -> 0 | BA1: ='část D zaměstnanci'!$E$52 -> 0 | BB1: ='část D zaměstnanci'!$E$53 -> 0 | BC1: ='část D zaměstnanci'!$E$54 -> 0 | BT1: {=SUM($H$44:$BP$44*H1:BP1)} -> 0 | BU1: =BT1*0.1 -> 0
A2: 2 | B2: Úvazky - dohody o pracovní činnosti | C2: ='úvodní list'!$E$12 -> 0 | D2: ='úvodní list'!$E$13 -> 0 | E2: ='úvodní list'!$E$14 -> 0 | F2: ='úvodní list'!$E$15 -> nevybráno | G2: ='úvodní list'!$E$16 -> 0 | H2: ='část D zaměstnanci'!$G$7 -> 0 | I2: ='část D zaměstnanci'!$G$8 -> 0 | J2: ='část D zaměstnanci'!$G$9 -> 0 | K2: ='část D zaměstnanci'!$G$10 -> 0 | L2: ='část D zaměstnanci'!$G$11 -> 0 | M2: ='část D zaměstnanci'!$G$12 -> 0 | N2: ='část D zaměstnanci'!$G$13 -> 0 | O2: ='část D zaměstnanci'!$G$14 -> 0 | P2: ='část D zaměstnanci'!$G$15 -> 0 | Q2: ='část D zaměstnanci'!$G$16 -> 0 | R2: ='část D zaměstnanci'!$G$17 -> 0 | S2: ='část D zaměstnanci'!$G$18 -> 0 | T2: ='část D zaměstnanci'!$G$19 -> 0 | U2: ='část D zaměstnanci'!$G$20 -> 0 | V2: ='část D zaměstnanci'!$G$21 -> 0 | W2: ='část D zaměstnanci'!$G$22 -> 0 | X2: ='část D zaměstnanci'!$G$23 -> 0 | Y2: ='část D zaměstnanci'!$G$24 -> 0 | Z2: ='část D zaměstnanci'!$G$25 -> 0 | AA2: ='část D zaměstnanci'!$G$26 -> 0 | AB2: ='část D zaměstnanci'!$G$27 -> 0 | AC2: ='část D zaměstnanci'!$G$28 -> 0 | AD2: ='část D zaměstnanci'!$G$29 -> 0 | AE2: ='část D zaměstnanci'!$G$30 -> 0 | AF2: ='část D zaměstnanci'!$G$31 -> 0 | AG2: ='část D zaměstnanci'!$G$32 -> 0 | AH2: ='část D zaměstnanci'!$G$33 -> 0 | AI2: ='část D zaměstnanci'!$G$34 -> 0 | AJ2: ='část D zaměstnanci'!$G$35 -> 0 | AK2: ='část D zaměstnanci'!$G$36 -> 0 | AL2: ='část D zaměstnanci'!$G$37 -> 0 | AM2: ='část D zaměstnanci'!$G$38 -> 0 | AN2: ='část D zaměstnanci'!$G$39 -> 0 | AO2: ='část D zaměstnanci'!$G$40 -> 0 | AP2: ='část D zaměstnanci'!$G$41 -> 0 | AQ2: ='část D zaměstnanci'!$G$42 -> 0 | AR2: ='část D zaměstnanci'!$G$43 -> 0 | AS2: ='část D zaměstnanci'!$G$44 -> 0 | AT2: ='část D zaměstnanci'!$G$45 -> 0 | AU2: ='část D zaměstnanci'!$G$46 -> 0 | AV2: ='část D zaměstnanci'!$G$47 -> 0 | AW2: ='část D zaměstnanci'!$G$48 -> 0 | AX2: ='část D zaměstnanci'!$G$49 -> 0 | AY2: ='část D zaměstnanci'!$G$50 -> 0 | AZ2: ='část D zaměstnanci'!$G$51 -> 0 | BA2: ='část D zaměstnanci'!$G$52 -> 0 | BB2: ='část D zaměstnanci'!$G$53 -> 0 | BC2: ='část D zaměstnanci'!$G$54 -> 0 | BT2: {=SUM($H$44:$BP$44*H2:BP2)} -> 0 | BU2: =BT2*0.2 -> 0
A3: 3 | B3: Rozsah práce (hod.) - dohody o provedení práce | C3: ='úvodní list'!$E$12 -> 0 | D3: ='úvodní list'!$E$13 -> 0 | E3: ='úvodní list'!$E$14 -> 0 | F3: ='úvodní list'!$E$15 -> nevybráno | G3: ='úvodní list'!$E$16 -> 0 | H3: ='část D zaměstnanci'!$H$7 -> 0 | I3: ='část D zaměstnanci'!$H$8 -> 0 | J3: ='část D zaměstnanci'!$H$9 -> 0 | K3: ='část D zaměstnanci'!$H$10 -> 0 | L3: ='část D zaměstnanci'!$H$11 -> 0 | M3: ='část D zaměstnanci'!$H$12 -> 0 | N3: ='část D zaměstnanci'!$H$13 -> 0 | O3: ='část D zaměstnanci'!$H$14 -> 0 | P3: ='část D zaměstnanci'!$H$15 -> 0 | Q3: ='část D zaměstnanci'!$H$16 -> 0 | R3: ='část D zaměstnanci'!$H$17 -> 0 | S3: ='část D zaměstnanci'!$H$18 -> 0 | T3: ='část D zaměstnanci'!$H$19 -> 0 | U3: ='část D zaměstnanci'!$H$20 -> 0 | V3: ='část D zaměstnanci'!$H$21 -> 0 | W3: ='část D zaměstnanci'!$H$22 -> 0 | X3: ='část D zaměstnanci'!$H$23 -> 0 | Y3: ='část D zaměstnanci'!$H$24 -> 0 | Z3: ='část D zaměstnanci'!$H$25 -> 0 | AA3: ='část D zaměstnanci'!$H$26 -> 0 | AB3: ='část D zaměstnanci'!$H$27 -> 0 | AC3: ='část D zaměstnanci'!$H$28 -> 0 | AD3: ='část D zaměstnanci'!$H$29 -> 0 | AE3: ='část D zaměstnanci'!$H$30 -> 0 | AF3: ='část D zaměstnanci'!$H$31 -> 0 | AG3: ='část D zaměstnanci'!$H$32 -> 0 | AH3: ='část D zaměstnanci'!$H$33 -> 0 | AI3: ='část D zaměstnanci'!$H$34 -> 0 | AJ3: ='část D zaměstnanci'!$H$35 -> 0 | AK3: ='část D zaměstnanci'!$H$36 -> 0 | AL3: ='část D zaměstnanci'!$H$37 -> 0 | AM3: ='část D zaměstnanci'!$H$38 -> 0 | AN3: ='část D zaměstnanci'!$H$39 -> 0 | AO3: ='část D zaměstnanci'!$H$40 -> 0 | AP3: ='část D zaměstnanci'!$H$41 -> 0 | AQ3: ='část D zaměstnanci'!$H$42 -> 0 | AR3: ='část D zaměstnanci'!$H$43 -> 0 | AS3: ='část D zaměstnanci'!$H$44 -> 0 | AT3: ='část D zaměstnanci'!$H$45 -> 0 | AU3: ='část D zaměstnanci'!$H$46 -> 0 | AV3: ='část D zaměstnanci'!$H$47 -> 0 | AW3: ='část D zaměstnanci'!$H$48 -> 0 | AX3: ='část D zaměstnanci'!$H$49 -> 0 | AY3: ='část D zaměstnanci'!$H$50 -> 0 | AZ3: ='část D zaměstnanci'!$H$51 -> 0 | BA3: ='část D zaměstnanci'!$H$52 -> 0 | BB3: ='část D zaměstnanci'!$H$53 -> 0 | BC3: ='část D zaměstnanci'!$H$54 -> 0 | BT3: {=SUM($H$44:$BP$44*H3:BP3)} -> 0 | BU3: =BT3*0.3 -> 0
A4: 4 | B4: Úvazky - dohody o provedení práce | C4: ='úvodní list'!$E$12 -> 0 | D4: ='úvodní list'!$E$13 -> 0 | E4: ='úvodní list'!$E$14 -> 0 | F4: ='úvodní list'!$E$15 -> nevybráno | G4: ='úvodní list'!$E$16 -> 0 | H4: ='část D zaměstnanci'!$I$7 -> 0 | I4: ='část D zaměstnanci'!$I$8 -> 0 | J4: ='část D zaměstnanci'!$I$9 -> 0 | K4: ='část D zaměstnanci'!$I$10 -> 0 | L4: ='část D zaměstnanci'!$I$11 -> 0 | M4: ='část D zaměstnanci'!$I$12 -> 0 | N4: ='část D zaměstnanci'!$I$13 -> 0 | O4: ='část D zaměstnanci'!$I$14 -> 0 | P4: ='část D zaměstnanci'!$I$15 -> 0 | Q4: ='část D zaměstnanci'!$I$16 -> 0 | R4: ='část D zaměstnanci'!$I$17 -> 0 | S4: ='část D zaměstnanci'!$I$18 -> 0 | T4: ='část D zaměstnanci'!$I$19 -> 0 | U4: ='část D zaměstnanci'!$I$20 -> 0 | V4: ='část D zaměstnanci'!$I$21 -> 0 | W4: ='část D zaměstnanci'!$I$22 -> 0 | X4: ='část D zaměstnanci'!$I$23 -> 0 | Y4: ='část D zaměstnanci'!$I$24 -> 0 | Z4: ='část D zaměstnanci'!$I$25 -> 0 | AA4: ='část D zaměstnanci'!$I$26 -> 0 | AB4: ='část D zaměstnanci'!$I$27 -> 0 | AC4: ='část D zaměstnanci'!$I$28 -> 0 | AD4: ='část D zaměstnanci'!$I$29 -> 0 | AE4: ='část D zaměstnanci'!$I$30 -> 0 | AF4: ='část D zaměstnanci'!$I$31 -> 0 | AG4: ='část D zaměstnanci'!$I$32 -> 0 | AH4: ='část D zaměstnanci'!$I$33 -> 0 | AI4: ='část D zaměstnanci'!$I$34 -> 0 | AJ4: ='část D zaměstnanci'!$I$35 -> 0 | AK4: ='část D zaměstnanci'!$I$36 -> 0 | AL4: ='část D zaměstnanci'!$I$37 -> 0 | AM4: ='část D zaměstnanci'!$I$38 -> 0 | AN4: ='část D zaměstnanci'!$I$39 -> 0 | AO4: ='část D zaměstnanci'!$I$40 -> 0 | AP4: ='část D zaměstnanci'!$I$41 -> 0 | AQ4: ='část D zaměstnanci'!$I$42 -> 0 | AR4: ='část D zaměstnanci'!$I$43 -> 0 | AS4: ='část D zaměstnanci'!$I$44 -> 0 | AT4: ='část D zaměstnanci'!$I$45 -> 0 | AU4: ='část D zaměstnanci'!$I$46 -> 0 | AV4: ='část D zaměstnanci'!$I$47 -> 0 | AW4: ='část D zaměstnanci'!$I$48 -> 0 | AX4: ='část D zaměstnanci'!$I$49 -> 0 | AY4: ='část D zaměstnanci'!$I$50 -> 0 | AZ4: ='část D zaměstnanci'!$I$51 -> 0 | BA4: ='část D zaměstnanci'!$I$52 -> 0 | BB4: ='část D zaměstnanci'!$I$53 -> 0 | BC4: ='část D zaměstnanci'!$I$54 -> 0 | BT4: {=SUM($H$44:$BP$44*H4:BP4)} -> 0 | BU4: =BT4*0.4 -> 0
A5: 5 | B5: Úvazky - obchodní smlouvy | C5: ='úvodní list'!$E$12 -> 0 | D5: ='úvodní list'!$E$13 -> 0 | E5: ='úvodní list'!$E$14 -> 0 | F5: ='úvodní list'!$E$15 -> nevybráno | G5: ='úvodní list'!$E$16 -> 0 | H5: ='část D zaměstnanci'!$J$7 -> 0 | I5: ='část D zaměstnanci'!$J$8 -> 0 | J5: ='část D zaměstnanci'!$J$9 -> 0 | K5: ='část D zaměstnanci'!$J$10 -> 0 | L5: ='část D zaměstnanci'!$J$11 -> 0 | M5: ='část D zaměstnanci'!$J$12 -> 0 | N5: ='část D zaměstnanci'!$J$13 -> 0 | O5: ='část D zaměstnanci'!$J$14 -> 0 | P5: ='část D zaměstnanci'!$J$15 -> 0 | Q5: ='část D zaměstnanci'!$J$16 -> 0 | R5: ='část D zaměstnanci'!$J$17 -> 0 | S5: ='část D zaměstnanci'!$J$18 -> 0 | T5: ='část D zaměstnanci'!$J$19 -> 0 | U5: ='část D zaměstnanci'!$J$20 -> 0 | V5: ='část D zaměstnanci'!$J$21 -> 0 | W5: ='část D zaměstnanci'!$J$22 -> 0 | X5: ='část D zaměstnanci'!$J$23 -> 0 | Y5: ='část D zaměstnanci'!$J$24 -> 0 | Z5: ='část D zaměstnanci'!$J$25 -> 0 | AA5: ='část D zaměstnanci'!$J$26 -> 0 | AB5: ='část D zaměstnanci'!$J$27 -> 0 | AC5: ='část D zaměstnanci'!$J$28 -> 0 | AD5: ='část D zaměstnanci'!$J$29 -> 0 | AE5: ='část D zaměstnanci'!$J$30 -> 0 | AF5: ='část D zaměstnanci'!$J$31 -> 0 | AG5: ='část D zaměstnanci'!$J$32 -> 0 | AH5: ='část D zaměstnanci'!$J$33 -> 0 | AI5: ='část D zaměstnanci'!$J$34 -> 0 | AJ5: ='část D zaměstnanci'!$J$35 -> 0 | AK5: ='část D zaměstnanci'!$J$36 -> 0 | AL5: ='část D zaměstnanci'!$J$37 -> 0 | AM5: ='část D zaměstnanci'!$J$38 -> 0 | AN5: ='část D zaměstnanci'!$J$39 -> 0 | AO5: ='část D zaměstnanci'!$J$40 -> 0 | AP5: ='část D zaměstnanci'!$J$41 -> 0 | AQ5: ='část D zaměstnanci'!$J$42 -> 0 | AR5: ='část D zaměstnanci'!$J$43 -> 0 | AS5: ='část D zaměstnanci'!$J$44 -> 0 | AT5: ='část D zaměstnanci'!$J$45 -> 0 | AU5: ='část D zaměstnanci'!$J$46 -> 0 | AV5: ='část D zaměstnanci'!$J$47 -> 0 | AW5: ='část D zaměstnanci'!$J$48 -> 0 | AX5: ='část D zaměstnanci'!$J$49 -> 0 | AY5: ='část D zaměstnanci'!$J$50 -> 0 | AZ5: ='část D zaměstnanci'!$J$51 -> 0 | BA5: ='část D zaměstnanci'!$J$52 -> 0 | BB5: ='část D zaměstnanci'!$J$53 -> 0 | BC5: ='část D zaměstnanci'!$J$54 -> 0 | BT5: {=SUM($H$44:$BP$44*H5:BP5)} -> 0 | BU5: =BT5*0.5 -> 0
A6: 6 | B6: Úvazky celkem | C6: ='úvodní list'!$E$12 -> 0 | D6: ='úvodní list'!$E$13 -> 0 | E6: ='úvodní list'!$E$14 -> 0 | F6: ='úvodní list'!$E$15 -> nevybráno | G6: ='úvodní list'!$E$16 -> 0 | H6: ='část D zaměstnanci'!$K$7 -> 0 | I6: ='část D zaměstnanci'!$K$8 -> 0 | J6: ='část D zaměstnanci'!$K$9 -> 0 | K6: ='část D zaměstnanci'!$K$10 -> 0 | L6: ='část D zaměstnanci'!$K$11 -> 0 | M6: ='část D zaměstnanci'!$K$12 -> 0 | N6: ='část D zaměstnanci'!$K$13 -> 0 | O6: ='část D zaměstnanci'!$K$14 -> 0 | P6: ='část D zaměstnanci'!$K$15 -> 0 | Q6: ='část D zaměstnanci'!$K$16 -> 0 | R6: ='část D zaměstnanci'!$K$17 -> 0 | S6: ='část D zaměstnanci'!$K$18 -> 0 | T6: ='část D zaměstnanci'!$K$19 -> 0 | U6: ='část D zaměstnanci'!$K$20 -> 0 | V6: ='část D zaměstnanci'!$K$21 -> 0 | W6: ='část D zaměstnanci'!$K$22 -> 0 | X6: ='část D zaměstnanci'!$K$23 -> 0 | Y6: ='část D zaměstnanci'!$K$24 -> 0 | Z6: ='část D zaměstnanci'!$K$25 -> 0 | AA6: ='část D zaměstnanci'!$K$26 -> 0 | AB6: ='část D zaměstnanci'!$K$27 -> 0 | AC6: ='část D zaměstnanci'!$K$28 -> 0 | AD6: ='část D zaměstnanci'!$K$29 -> 0 | AE6: ='část D zaměstnanci'!$K$30 -> 0 | AF6: ='část D zaměstnanci'!$K$31 -> 0 | AG6: ='část D zaměstnanci'!$K$32 -> 0 | AH6: ='část D zaměstnanci'!$K$33 -> 0 | AI6: ='část D zaměstnanci'!$K$34 -> 0 | AJ6: ='část D zaměstnanci'!$K$35 -> 0 | AK6: ='část D zaměstnanci'!$K$36 -> 0 | AL6: ='část D zaměstnanci'!$K$37 -> 0 | AM6: ='část D zaměstnanci'!$K$38 -> 0 | AN6: ='část D zaměstnanci'!$K$39 -> 0 | AO6: ='část D zaměstnanci'!$K$40 -> 0 | AP6: ='část D zaměstnanci'!$K$41 -> 0 | AQ6: ='část D zaměstnanci'!$K$42 -> 0 | AR6: ='část D zaměstnanci'!$K$43 -> 0 | AS6: ='část D zaměstnanci'!$K$44 -> 0 | AT6: ='část D zaměstnanci'!$K$45 -> 0 | AU6: ='část D zaměstnanci'!$K$46 -> 0 | AV6: ='část D zaměstnanci'!$K$47 -> 0 | AW6: ='část D zaměstnanci'!$K$48 -> 0 | AX6: ='část D zaměstnanci'!$K$49 -> 0 | AY6: ='část D zaměstnanci'!$K$50 -> 0 | AZ6: ='část D zaměstnanci'!$K$51 -> 0 | BA6: ='část D zaměstnanci'!$K$52 -> 0 | BB6: ='část D zaměstnanci'!$K$53 -> 0 | BC6: ='část D zaměstnanci'!$K$54 -> 0 | BT6: {=SUM($H$44:$BP$44*H6:BP6)} -> 0 | BU6: =BT6*0.6 -> 0
A7: 11 | B7: Úvazky - pracovní smlouvy | C7: ='úvodní list'!$E$12 -> 0 | D7: ='úvodní list'!$E$13 -> 0 | E7: ='úvodní list'!$E$14 -> 0 | F7: ='úvodní list'!$E$15 -> nevybráno | G7: ='úvodní list'!$E$16 -> 0 | H7: ='část D zaměstnanci'!$E$59 -> 0 | I7: ='část D zaměstnanci'!$E$60 -> 0 | J7: ='část D zaměstnanci'!$E$61 -> 0 | K7: ='část D zaměstnanci'!$E$62 -> 0 | L7: ='část D zaměstnanci'!$E$63 -> 0 | M7: ='část D zaměstnanci'!$E$64 -> 0 | N7: ='část D zaměstnanci'!$E$65 -> 0 | O7: ='část D zaměstnanci'!$E$66 -> 0 | P7: ='část D zaměstnanci'!$E$67 -> 0 | Q7: ='část D zaměstnanci'!$E$68 -> 0 | R7: ='část D zaměstnanci'!$E$69 -> 0 | S7: ='část D zaměstnanci'!$E$70 -> 0 | T7: ='část D zaměstnanci'!$E$71 -> 0 | U7: ='část D zaměstnanci'!$E$72 -> 0 | V7: ='část D zaměstnanci'!$E$73 -> 0 | W7: ='část D zaměstnanci'!$E$74 -> 0 | X7: ='část D zaměstnanci'!$E$75 -> 0 | Y7: ='část D zaměstnanci'!$E$76 -> 0 | Z7: ='část D zaměstnanci'!$E$77 -> 0 | AA7: ='část D zaměstnanci'!$E$78 -> 0 | AB7: ='část D zaměstnanci'!$E$79 -> 0 | AC7: ='část D zaměstnanci'!$E$80 -> 0 | AD7: ='část D zaměstnanci'!$E$81 -> 0 | AE7: ='část D zaměstnanci'!$E$82 -> 0 | AF7: ='část D zaměstnanci'!$E$83 -> 0 | AG7: ='část D zaměstnanci'!$E$84 -> 0 | AH7: ='část D zaměstnanci'!$E$85 -> 0 | AI7: ='část D zaměstnanci'!$E$86 -> 0 | AJ7: ='část D zaměstnanci'!$E$87 -> 0 | AK7: ='část D zaměstnanci'!$E$88 -> 0 | AL7: ='část D zaměstnanci'!$E$89 -> 0 | AM7: ='část D zaměstnanci'!$E$90 -> 0 | AN7: ='část D zaměstnanci'!$E$91 -> 0 | AO7: ='část D zaměstnanci'!$E$92 -> 0 | AP7: ='část D zaměstnanci'!$E$93 -> 0 | AQ7: ='část D zaměstnanci'!$E$94 -> 0 | AR7: ='část D zaměstnanci'!$E$95 -> 0 | AS7: ='část D zaměstnanci'!$E$96 -> 0 | AT7: ='část D zaměstnanci'!$E$97 -> 0 | AU7: ='část D zaměstnanci'!$E$98 -> 0 | AV7: ='část D zaměstnanci'!$E$99 -> 0 | AW7: ='část D zaměstnanci'!$E$100 -> 0 | AX7: ='část D zaměstnanci'!$E$101 -> 0 | AY7: ='část D zaměstnanci'!$E$102 -> 0 | AZ7: ='část D zaměstnanci'!$E$103 -> 0 | BA7: ='část D zaměstnanci'!$E$104 -> 0 | BB7: ='část D zaměstnanci'!$E$105 -> 0 | BC7: ='část D zaměstnanci'!$E$106 -> 0 | BT7: {=SUM($H$44:$BP$44*H7:BP7)} -> 0 | BU7: =BT7*0.7 -> 0
A8: 12 | B8: Úvazky - dohody o pracovní činnosti | C8: ='úvodní list'!$E$12 -> 0 | D8: ='úvodní list'!$E$13 -> 0 | E8: ='úvodní list'!$E$14 -> 0 | F8: ='úvodní list'!$E$15 -> nevybráno | G8: ='úvodní list'!$E$16 -> 0 | H8: ='část D zaměstnanci'!$G$59 -> 0 | I8: ='část D zaměstnanci'!$G$60 -> 0 | J8: ='část D zaměstnanci'!$G$61 -> 0 | K8: ='část D zaměstnanci'!$G$62 -> 0 | L8: ='část D zaměstnanci'!$G$63 -> 0 | M8: ='část D zaměstnanci'!$G$64 -> 0 | N8: ='část D zaměstnanci'!$G$65 -> 0 | O8: ='část D zaměstnanci'!$G$66 -> 0 | P8: ='část D zaměstnanci'!$G$67 -> 0 | Q8: ='část D zaměstnanci'!$G$68 -> 0 | R8: ='část D zaměstnanci'!$G$69 -> 0 | S8: ='část D zaměstnanci'!$G$70 -> 0 | T8: ='část D zaměstnanci'!$G$71 -> 0 | U8: ='část D zaměstnanci'!$G$72 -> 0 | V8: ='část D zaměstnanci'!$G$73 -> 0 | W8: ='část D zaměstnanci'!$G$74 -> 0 | X8: ='část D zaměstnanci'!$G$75 -> 0 | Y8: ='část D zaměstnanci'!$G$76 -> 0 | Z8: ='část D zaměstnanci'!$G$77 -> 0 | AA8: ='část D zaměstnanci'!$G$78 -> 0 | AB8: ='část D zaměstnanci'!$G$79 -> 0 | AC8: ='část D zaměstnanci'!$G$80 -> 0 | AD8: ='část D zaměstnanci'!$G$81 -> 0 | AE8: ='část D zaměstnanci'!$G$82 -> 0 | AF8: ='část D zaměstnanci'!$G$83 -> 0 | AG8: ='část D zaměstnanci'!$G$84 -> 0 | AH8: ='část D zaměstnanci'!$G$85 -> 0 | AI8: ='část D zaměstnanci'!$G$86 -> 0 | AJ8: ='část D zaměstnanci'!$G$87 -> 0 | AK8: ='část D zaměstnanci'!$G$88 -> 0 | AL8: ='část D zaměstnanci'!$G$89 -> 0 | AM8: ='část D zaměstnanci'!$G$90 -> 0 | AN8: ='část D zaměstnanci'!$G$91 -> 0 | AO8: ='část D zaměstnanci'!$G$92 -> 0 | AP8: ='část D zaměstnanci'!$G$93 -> 0 | AQ8: ='část D zaměstnanci'!$G$94 -> 0 | AR8: ='část D zaměstnanci'!$G$95 -> 0 | AS8: ='část D zaměstnanci'!$G$96 -> 0 | AT8: ='část D zaměstnanci'!$G$97 -> 0 | AU8: ='část D zaměstnanci'!$G$98 -> 0 | AV8: ='část D zaměstnanci'!$G$99 -> 0 | AW8: ='část D zaměstnanci'!$G$100 -> 0 | AX8: ='část D zaměstnanci'!$G$101 -> 0 | AY8: ='část D zaměstnanci'!$G$102 -> 0 | AZ8: ='část D zaměstnanci'!$G$103 -> 0 | BA8: ='část D zaměstnanci'!$G$104 -> 0 | BB8: ='část D zaměstnanci'!$G$105 -> 0 | BC8: ='část D zaměstnanci'!$G$106 -> 0 | BT8: {=SUM($H$44:$BP$44*H8:BP8)} -> 0 | BU8: =BT8*0.8 -> 0
A9: 13 | B9: Rozsah práce (hod.) - dohody o provedení práce | C9: ='úvodní list'!$E$12 -> 0 | D9: ='úvodní list'!$E$13 -> 0 | E9: ='úvodní list'!$E$14 -> 0 | F9: ='úvodní list'!$E$15 -> nevybráno | G9: ='úvodní list'!$E$16 -> 0 | H9: ='část D zaměstnanci'!$H$59 -> 0 | I9: ='část D zaměstnanci'!$H$60 -> 0 | J9: ='část D zaměstnanci'!$H$61 -> 0 | K9: ='část D zaměstnanci'!$H$62 -> 0 | L9: ='část D zaměstnanci'!$H$63 -> 0 | M9: ='část D zaměstnanci'!$H$64 -> 0 | N9: ='část D zaměstnanci'!$H$65 -> 0 | O9: ='část D zaměstnanci'!$H$66 -> 0 | P9: ='část D zaměstnanci'!$H$67 -> 0 | Q9: ='část D zaměstnanci'!$H$68 -> 0 | R9: ='část D zaměstnanci'!$H$69 -> 0 | S9: ='část D zaměstnanci'!$H$70 -> 0 | T9: ='část D zaměstnanci'!$H$71 -> 0 | U9: ='část D zaměstnanci'!$H$72 -> 0 | V9: ='část D zaměstnanci'!$H$73 -> 0 | W9: ='část D zaměstnanci'!$H$74 -> 0 | X9: ='část D zaměstnanci'!$H$75 -> 0 | Y9: ='část D zaměstnanci'!$H$76 -> 0 | Z9: ='část D zaměstnanci'!$H$77 -> 0 | AA9: ='část D zaměstnanci'!$H$78 -> 0 | AB9: ='část D zaměstnanci'!$H$79 -> 0 | AC9: ='část D zaměstnanci'!$H$80 -> 0 | AD9: ='část D zaměstnanci'!$H$81 -> 0 | AE9: ='část D zaměstnanci'!$H$82 -> 0 | AF9: ='část D zaměstnanci'!$H$83 -> 0 | AG9: ='část D zaměstnanci'!$H$84 -> 0 | AH9: ='část D zaměstnanci'!$H$85 -> 0 | AI9: ='část D zaměstnanci'!$H$86 -> 0 | AJ9: ='část D zaměstnanci'!$H$87 -> 0 | AK9: ='část D zaměstnanci'!$H$88 -> 0 | AL9: ='část D zaměstnanci'!$H$89 -> 0 | AM9: ='část D zaměstnanci'!$H$90 -> 0 | AN9: ='část D zaměstnanci'!$H$91 -> 0 | AO9: ='část D zaměstnanci'!$H$92 -> 0 | AP9: ='část D zaměstnanci'!$H$93 -> 0 | AQ9: ='část D zaměstnanci'!$H$94 -> 0 | AR9: ='část D zaměstnanci'!$H$95 -> 0 | AS9: ='část D zaměstnanci'!$H$96 -> 0 | AT9: ='část D zaměstnanci'!$H$97 -> 0 | AU9: ='část D zaměstnanci'!$H$98 -> 0 | AV9: ='část D zaměstnanci'!$H$99 -> 0 | AW9: ='část D zaměstnanci'!$H$100 -> 0 | AX9: ='část D zaměstnanci'!$H$101 -> 0 | AY9: ='část D zaměstnanci'!$H$102 -> 0 | AZ9: ='část D zaměstnanci'!$H$103 -> 0 | BA9: ='část D zaměstnanci'!$H$104 -> 0 | BB9: ='část D zaměstnanci'!$H$105 -> 0 | BC9: ='část D zaměstnanci'!$H$106 -> 0 | BT9: {=SUM($H$44:$BP$44*H9:BP9)} -> 0 | BU9: =BT9*0.9 -> 0
A10: 14 | B10: Úvazky - dohody o provedení práce | C10: ='úvodní list'!$E$12 -> 0 | D10: ='úvodní list'!$E$13 -> 0 | E10: ='úvodní list'!$E$14 -> 0 | F10: ='úvodní list'!$E$15 -> nevybráno | G10: ='úvodní list'!$E$16 -> 0 | H10: ='část D zaměstnanci'!$I$59 -> 0 | I10: ='část D zaměstnanci'!$I$60 -> 0 | J10: ='část D zaměstnanci'!$I$61 -> 0 | K10: ='část D zaměstnanci'!$I$62 -> 0 | L10: ='část D zaměstnanci'!$I$63 -> 0 | M10: ='část D zaměstnanci'!$I$64 -> 0 | N10: ='část D zaměstnanci'!$I$65 -> 0 | O10: ='část D zaměstnanci'!$I$66 -> 0 | P10: ='část D zaměstnanci'!$I$67 -> 0 | Q10: ='část D zaměstnanci'!$I$68 -> 0 | R10: ='část D zaměstnanci'!$I$69 -> 0 | S10: ='část D zaměstnanci'!$I$70 -> 0 | T10: ='část D zaměstnanci'!$I$71 -> 0 | U10: ='část D zaměstnanci'!$I$72 -> 0 | V10: ='část D zaměstnanci'!$I$73 -> 0 | W10: ='část D zaměstnanci'!$I$74 -> 0 | X10: ='část D zaměstnanci'!$I$75 -> 0 | Y10: ='část D zaměstnanci'!$I$76 -> 0 | Z10: ='část D zaměstnanci'!$I$77 -> 0 | AA10: ='část D zaměstnanci'!$I$78 -> 0 | AB10: ='část D zaměstnanci'!$I$79 -> 0 | AC10: ='část D zaměstnanci'!$I$80 -> 0 | AD10: ='část D zaměstnanci'!$I$81 -> 0 | AE10: ='část D zaměstnanci'!$I$82 -> 0 | AF10: ='část D zaměstnanci'!$I$83 -> 0 | AG10: ='část D zaměstnanci'!$I$84 -> 0 | AH10: ='část D zaměstnanci'!$I$85 -> 0 | AI10: ='část D zaměstnanci'!$I$86 -> 0 | AJ10: ='část D zaměstnanci'!$I$87 -> 0 | AK10: ='část D zaměstnanci'!$I$88 -> 0 | AL10: ='část D zaměstnanci'!$I$89 -> 0 | AM10: ='část D zaměstnanci'!$I$90 -> 0 | AN10: ='část D zaměstnanci'!$I$91 -> 0 | AO10: ='část D zaměstnanci'!$I$92 -> 0 | AP10: ='část D zaměstnanci'!$I$93 -> 0 | AQ10: ='část D zaměstnanci'!$I$94 -> 0 | AR10: ='část D zaměstnanci'!$I$95 -> 0 | AS10: ='část D zaměstnanci'!$I$96 -> 0 | AT10: ='část D zaměstnanci'!$I$97 -> 0 | AU10: ='část D zaměstnanci'!$I$98 -> 0 | AV10: ='část D zaměstnanci'!$I$99 -> 0 | AW10: ='část D zaměstnanci'!$I$100 -> 0 | AX10: ='část D zaměstnanci'!$I$101 -> 0 | AY10: ='část D zaměstnanci'!$I$102 -> 0 | AZ10: ='část D zaměstnanci'!$I$103 -> 0 | BA10: ='část D zaměstnanci'!$I$104 -> 0 | BB10: ='část D zaměstnanci'!$I$105 -> 0 | BC10: ='část D zaměstnanci'!$I$106 -> 0 | BT10: {=SUM($H$44:$BP$44*H10:BP10)} -> 0 | BU10: =BT10*0.11 -> 0
A11: 15 | B11: Úvazky - obchodní smlouvy | C11: ='úvodní list'!$E$12 -> 0 | D11: ='úvodní list'!$E$13 -> 0 | E11: ='úvodní list'!$E$14 -> 0 | F11: ='úvodní list'!$E$15 -> nevybráno | G11: ='úvodní list'!$E$16 -> 0 | H11: ='část D zaměstnanci'!$J$59 -> 0 | I11: ='část D zaměstnanci'!$J$60 -> 0 | J11: ='část D zaměstnanci'!$J$61 -> 0 | K11: ='část D zaměstnanci'!$J$62 -> 0 | L11: ='část D zaměstnanci'!$J$63 -> 0 | M11: ='část D zaměstnanci'!$J$64 -> 0 | N11: ='část D zaměstnanci'!$J$65 -> 0 | O11: ='část D zaměstnanci'!$J$66 -> 0 | P11: ='část D zaměstnanci'!$J$67 -> 0 | Q11: ='část D zaměstnanci'!$J$68 -> 0 | R11: ='část D zaměstnanci'!$J$69 -> 0 | S11: ='část D zaměstnanci'!$J$70 -> 0 | T11: ='část D zaměstnanci'!$J$71 -> 0 | U11: ='část D zaměstnanci'!$J$72 -> 0 | V11: ='část D zaměstnanci'!$J$73 -> 0 | W11: ='část D zaměstnanci'!$J$74 -> 0 | X11: ='část D zaměstnanci'!$J$75 -> 0 | Y11: ='část D zaměstnanci'!$J$76 -> 0 | Z11: ='část D zaměstnanci'!$J$77 -> 0 | AA11: ='část D zaměstnanci'!$J$78 -> 0 | AB11: ='část D zaměstnanci'!$J$79 -> 0 | AC11: ='část D zaměstnanci'!$J$80 -> 0 | AD11: ='část D zaměstnanci'!$J$81 -> 0 | AE11: ='část D zaměstnanci'!$J$82 -> 0 | AF11: ='část D zaměstnanci'!$J$83 -> 0 | AG11: ='část D zaměstnanci'!$J$84 -> 0 | AH11: ='část D zaměstnanci'!$J$85 -> 0 | AI11: ='část D zaměstnanci'!$J$86 -> 0 | AJ11: ='část D zaměstnanci'!$J$87 -> 0 | AK11: ='část D zaměstnanci'!$J$88 -> 0 | AL11: ='část D zaměstnanci'!$J$89 -> 0 | AM11: ='část D zaměstnanci'!$J$90 -> 0 | AN11: ='část D zaměstnanci'!$J$91 -> 0 | AO11: ='část D zaměstnanci'!$J$92 -> 0 | AP11: ='část D zaměstnanci'!$J$93 -> 0 | AQ11: ='část D zaměstnanci'!$J$94 -> 0 | AR11: ='část D zaměstnanci'!$J$95 -> 0 | AS11: ='část D zaměstnanci'!$J$96 -> 0 | AT11: ='část D zaměstnanci'!$J$97 -> 0 | AU11: ='část D zaměstnanci'!$J$98 -> 0 | AV11: ='část D zaměstnanci'!$J$99 -> 0 | AW11: ='část D zaměstnanci'!$J$100 -> 0 | AX11: ='část D zaměstnanci'!$J$101 -> 0 | AY11: ='část D zaměstnanci'!$J$102 -> 0 | AZ11: ='část D zaměstnanci'!$J$103 -> 0 | BA11: ='část D zaměstnanci'!$J$104 -> 0 | BB11: ='část D zaměstnanci'!$J$105 -> 0 | BC11: ='část D zaměstnanci'!$J$106 -> 0 | BT11: {=SUM($H$44:$BP$44*H11:BP11)} -> 0 | BU11: =BT11*0.12 -> 0
A12: 16 | B12: Úvazky celkem | C12: ='úvodní list'!$E$12 -> 0 | D12: ='úvodní list'!$E$13 -> 0 | E12: ='úvodní list'!$E$14 -> 0 | F12: ='úvodní list'!$E$15 -> nevybráno | G12: ='úvodní list'!$E$16 -> 0 | H12: ='část D zaměstnanci'!$K$59 -> 0 | I12: ='část D zaměstnanci'!$K$60 -> 0 | J12: ='část D zaměstnanci'!$K$61 -> 0 | K12: ='část D zaměstnanci'!$K$62 -> 0 | L12: ='část D zaměstnanci'!$K$63 -> 0 | M12: ='část D zaměstnanci'!$K$64 -> 0 | N12: ='část D zaměstnanci'!$K$65 -> 0 | O12: ='část D zaměstnanci'!$K$66 -> 0 | P12: ='část D zaměstnanci'!$K$67 -> 0 | Q12: ='část D zaměstnanci'!$K$68 -> 0 | R12: ='část D zaměstnanci'!$K$69 -> 0 | S12: ='část D zaměstnanci'!$K$70 -> 0 | T12: ='část D zaměstnanci'!$K$71 -> 0 | U12: ='část D zaměstnanci'!$K$72 -> 0 | V12: ='část D zaměstnanci'!$K$73 -> 0 | W12: ='část D zaměstnanci'!$K$74 -> 0 | X12: ='část D zaměstnanci'!$K$75 -> 0 | Y12: ='část D zaměstnanci'!$K$76 -> 0 | Z12: ='část D zaměstnanci'!$K$77 -> 0 | AA12: ='část D zaměstnanci'!$K$78 -> 0 | AB12: ='část D zaměstnanci'!$K$79 -> 0 | AC12: ='část D zaměstnanci'!$K$80 -> 0 | AD12: ='část D zaměstnanci'!$K$81 -> 0 | AE12: ='část D zaměstnanci'!$K$82 -> 0 | AF12: ='část D zaměstnanci'!$K$83 -> 0 | AG12: ='část D zaměstnanci'!$K$84 -> 0 | AH12: ='část D zaměstnanci'!$K$85 -> 0 | AI12: ='část D zaměstnanci'!$K$86 -> 0 | AJ12: ='část D zaměstnanci'!$K$87 -> 0 | AK12: ='část D zaměstnanci'!$K$88 -> 0 | AL12: ='část D zaměstnanci'!$K$89 -> 0 | AM12: ='část D zaměstnanci'!$K$90 -> 0 | AN12: ='část D zaměstnanci'!$K$91 -> 0 | AO12: ='část D zaměstnanci'!$K$92 -> 0 | AP12: ='část D zaměstnanci'!$K$93 -> 0 | AQ12: ='část D zaměstnanci'!$K$94 -> 0 | AR12: ='část D zaměstnanci'!$K$95 -> 0 | AS12: ='část D zaměstnanci'!$K$96 -> 0 | AT12: ='část D zaměstnanci'!$K$97 -> 0 | AU12: ='část D zaměstnanci'!$K$98 -> 0 | AV12: ='část D zaměstnanci'!$K$99 -> 0 | AW12: ='část D zaměstnanci'!$K$100 -> 0 | AX12: ='část D zaměstnanci'!$K$101 -> 0 | AY12: ='část D zaměstnanci'!$K$102 -> 0 | AZ12: ='část D zaměstnanci'!$K$103 -> 0 | BA12: ='část D zaměstnanci'!$K$104 -> 0 | BB12: ='část D zaměstnanci'!$K$105 -> 0 | BC12: ='část D zaměstnanci'!$K$106 -> 0 | BT12: {=SUM($H$44:$BP$44*H12:BP12)} -> 0 | BU12: =BT12*0.13 -> 0
A13: 21 | B13: náklady celkem (za celou sociální službu - identifikátor) | C13: ='úvodní list'!$E$12 -> 0 | D13: ='úvodní list'!$E$13 -> 0 | E13: ='úvodní list'!$E$14 -> 0 | F13: ='úvodní list'!$E$15 -> nevybráno | G13: ='úvodní list'!$E$16 -> 0 | H13: ='část E náklady'!$E$28 -> 0 | I13: ='část E náklady'!$E$29 -> 0 | J13: ='část E náklady'!$E$30 -> 0 | K13: ='část E náklady'!$E$31 -> 0 | L13: ='část E náklady'!$E$32 -> 0 | M13: ='část E náklady'!$E$33 -> 0 | N13: ='část E náklady'!$E$34 -> 0 | O13: ='část E náklady'!$E$35 -> 0 | P13: ='část E náklady'!$E$36 -> 0 | Q13: ='část E náklady'!$E$37 -> 0 | R13: ='část E náklady'!$E$38 -> 0 | S13: ='část E náklady'!$E$39 -> 0 | T13: ='část E náklady'!$E$40 -> 0 | U13: ='část E náklady'!$E$41 -> 0 | V13: ='část E náklady'!$E$42 -> 0 | W13: ='část E náklady'!$E$43 -> 0 | X13: ='část E náklady'!$E$44 -> 0 | Y13: ='část E náklady'!$E$45 -> 0 | Z13: ='část E náklady'!$E$46 -> 0 | AA13: ='část E náklady'!$E$47 -> 0 | AB13: ='část E náklady'!$E$48 -> 0 | AC13: ='část E náklady'!$E$49 -> 0 | AD13: ='část E náklady'!$E$50 -> 0 | AE13: ='část E náklady'!$E$51 -> 0 | AF13: ='část E náklady'!$E$52 -> 0 | AG13: ='část E náklady'!$E$53 -> 0 | AH13: ='část E náklady'!$E$54 -> 0 | AI13: ='část E náklady'!$E$55 -> 0 | AJ13: ='část E náklady'!$E$56 -> 0 | AK13: ='část E náklady'!$E$57 -> 0 | AL13: ='část E náklady'!$E$58 -> 0 | AM13: ='část E náklady'!$E$59 -> 0 | AN13: ='část E náklady'!$E$60 -> 0 | AO13: ='část E náklady'!$E$61 -> 0 | AP13: ='část E náklady'!$E$62 -> 0 | AQ13: ='část E náklady'!$E$63 -> 0 | AR13: ='část E náklady'!$E$64 -> 0 | AS13: ='část E náklady'!$E$65 -> 0 | AT13: ='část E náklady'!$E$66 -> 0 | AU13: ='část E náklady'!$E$67 -> 0 | AV13: ='část E náklady'!$E$68 -> 0 | AW13: ='část E náklady'!$E$69 -> 0 | AX13: ='část E náklady'!$E$70 -> 0 | AY13: ='část E náklady'!$E$71 -> 0 | AZ13: ='část E náklady'!$E$72 -> 0 | BA13: ='část E náklady'!$E$73 -> 0 | BB13: ='část E náklady'!$E$74 -> 0 | BC13: ='část E náklady'!$E$75 -> 0 | BD13: ='část E náklady'!$E$76 -> 0 | BE13: ='část E náklady'!$E$77 -> 0 | BF13: ='část E náklady'!$E$78 -> 0 | BG13: ='část E náklady'!$E$79 -> 0 | BH13: ='část E náklady'!$E$80 -> 0 | BI13: ='část E náklady'!$E$81 -> 0 | BJ13: ='část E náklady'!$E$82 -> 0 | BK13: ='část E náklady'!$E$83 -> 0 | BL13: ='část E náklady'!$E$84 -> 0 | BM13: ='část E náklady'!$E$85 -> 0 | BN13: ='část E náklady'!$E$86 -> 0 | BO13: ='část E náklady'!$E$87 -> 0 | BP13: ='část E náklady'!$E$88 -> 0 | BT13: {=SUM($H$44:$BP$44*H13:BP13)} -> 0 | BU13: =BT13*0.14 -> 0
A14: 22 | B14: náklady za část služby poskytovanou v rámci kategorie A sítě | C14: ='úvodní list'!$E$12 -> 0 | D14: ='úvodní list'!$E$13 -> 0 | E14: ='úvodní list'!$E$14 -> 0 | F14: ='úvodní list'!$E$15 -> nevybráno | G14: ='úvodní list'!$E$16 -> 0 | H14: ='část E náklady'!$F$28 -> 0 | I14: ='část E náklady'!$F$29 -> 0 | J14: ='část E náklady'!$F$30 -> 0 | K14: ='část E náklady'!$F$31 -> 0 | L14: ='část E náklady'!$F$32 -> 0 | M14: ='část E náklady'!$F$33 -> 0 | N14: ='část E náklady'!$F$34 -> 0 | O14: ='část E náklady'!$F$35 -> 0 | P14: ='část E náklady'!$F$36 -> 0 | Q14: ='část E náklady'!$F$37 -> 0 | R14: ='část E náklady'!$F$38 -> 0 | S14: ='část E náklady'!$F$39 -> 0 | T14: ='část E náklady'!$F$40 -> 0 | U14: ='část E náklady'!$F$41 -> 0 | V14: ='část E náklady'!$F$42 -> 0 | W14: ='část E náklady'!$F$43 -> 0 | X14: ='část E náklady'!$F$44 -> 0 | Y14: ='část E náklady'!$F$45 -> 0 | Z14: ='část E náklady'!$F$46 -> 0 | AA14: ='část E náklady'!$F$47 -> 0 | AB14: ='část E náklady'!$F$48 -> 0 | AC14: ='část E náklady'!$F$49 -> 0 | AD14: ='část E náklady'!$F$50 -> 0 | AE14: ='část E náklady'!$F$51 -> 0 | AF14: ='část E náklady'!$F$52 -> 0 | AG14: ='část E náklady'!$F$53 -> 0 | AH14: ='část E náklady'!$F$54 -> 0 | AI14: ='část E náklady'!$F$55 -> 0 | AJ14: ='část E náklady'!$F$56 -> 0 | AK14: ='část E náklady'!$F$57 -> 0 | AL14: ='část E náklady'!$F$58 -> 0 | AM14: ='část E náklady'!$F$59 -> 0 | AN14: ='část E náklady'!$F$60 -> 0 | AO14: ='část E náklady'!$F$61 -> 0 | AP14: ='část E náklady'!$F$62 -> 0 | AQ14: ='část E náklady'!$F$63 -> 0 | AR14: ='část E náklady'!$F$64 -> 0 | AS14: ='část E náklady'!$F$65 -> 0 | AT14: ='část E náklady'!$F$66 -> 0 | AU14: ='část E náklady'!$F$67 -> 0 | AV14: ='část E náklady'!$F$68 -> 0 | AW14: ='část E náklady'!$F$69 -> 0 | AX14: ='část E náklady'!$F$70 -> 0 | AY14: ='část E náklady'!$F$71 -> 0 | AZ14: ='část E náklady'!$F$72 -> 0 | BA14: ='část E náklady'!$F$73 -> 0 | BB14: ='část E náklady'!$F$74 -> 0 | BC14: ='část E náklady'!$F$75 -> 0 | BD14: ='část E náklady'!$F$76 -> 0 | BE14: ='část E náklady'!$F$77 -> 0 | BF14: ='část E náklady'!$F$78 -> 0 | BG14: ='část E náklady'!$F$79 -> 0 | BH14: ='část E náklady'!$F$80 -> 0 | BI14: ='část E náklady'!$F$81 -> 0 | BJ14: ='část E náklady'!$F$82 -> 0 | BK14: ='část E náklady'!$F$83 -> 0 | BL14: ='část E náklady'!$F$84 -> 0 | BM14: ='část E náklady'!$F$85 -> 0 | BN14: ='část E náklady'!$F$86 -> 0 | BO14: ='část E náklady'!$F$87 -> 0 | BP14: ='část E náklady'!$F$88 -> 0 | BT14: {=SUM($H$44:$BP$44*H14:BP14)} -> 0 | BU14: =BT14*0.15 -> 0
A15: 23 | B15: Čerpání neinvestiční dotace 1 | C15: ='úvodní list'!$E$12 -> 0 | D15: ='úvodní list'!$E$13 -> 0 | E15: ='úvodní list'!$E$14 -> 0 | F15: ='úvodní list'!$E$15 -> nevybráno | G15: ='úvodní list'!$E$16 -> 0 | H15: ='část E náklady'!$G$28 -> 0 | I15: ='část E náklady'!$G$29 -> 0 | J15: ='část E náklady'!$G$30 -> 0 | K15: ='část E náklady'!$G$31 -> 0 | L15: ='část E náklady'!$G$32 -> 0 | M15: ='část E náklady'!$G$33 -> 0 | N15: ='část E náklady'!$G$34 -> 0 | O15: ='část E náklady'!$G$35 -> 0 | P15: ='část E náklady'!$G$36 -> 0 | Q15: ='část E náklady'!$G$37 -> 0 | R15: ='část E náklady'!$G$38 -> 0 | S15: ='část E náklady'!$G$39 -> 0 | T15: ='část E náklady'!$G$40 -> 0 | U15: ='část E náklady'!$G$41 -> 0 | V15: ='část E náklady'!$G$42 -> 0 | W15: ='část E náklady'!$G$43 -> 0 | X15: ='část E náklady'!$G$44 -> 0 | Y15: ='část E náklady'!$G$45 -> 0 | Z15: ='část E náklady'!$G$46 -> 0 | AA15: ='část E náklady'!$G$47 -> 0 | AB15: ='část E náklady'!$G$48 -> 0 | AC15: ='část E náklady'!$G$49 -> 0 | AD15: ='část E náklady'!$G$50 -> 0 | AE15: ='část E náklady'!$G$51 -> 0 | AF15: ='část E náklady'!$G$52 -> 0 | AG15: ='část E náklady'!$G$53 -> 0 | AH15: ='část E náklady'!$G$54 -> 0 | AI15: ='část E náklady'!$G$55 -> 0 | AJ15: ='část E náklady'!$G$56 -> 0 | AK15: ='část E náklady'!$G$57 -> 0 | AL15: ='část E náklady'!$G$58 -> 0 | AM15: ='část E náklady'!$G$59 -> 0 | AN15: ='část E náklady'!$G$60 -> 0 | AO15: ='část E náklady'!$G$61 -> 0 | AP15: ='část E náklady'!$G$62 -> 0 | AQ15: ='část E náklady'!$G$63 -> 0 | AR15: ='část E náklady'!$G$64 -> 0 | AS15: ='část E náklady'!$G$65 -> 0 | AT15: ='část E náklady'!$G$66 -> 0 | AU15: ='část E náklady'!$G$67 -> 0 | AV15: ='část E náklady'!$G$68 -> 0 | AW15: ='část E náklady'!$G$69 -> 0 | AX15: ='část E náklady'!$G$70 -> 0 | AY15: ='část E náklady'!$G$71 -> 0 | AZ15: ='část E náklady'!$G$72 -> 0 | BA15: ='část E náklady'!$G$73 -> 0 | BB15: ='část E náklady'!$G$74 -> 0 | BC15: ='část E náklady'!$G$75 -> 0 | BD15: ='část E náklady'!$G$76 -> 0 | BE15: ='část E náklady'!$G$77 -> 0 | BF15: ='část E náklady'!$G$78 -> 0 | BG15: ='část E náklady'!$G$79 -> 0 | BH15: ='část E náklady'!$G$80 -> 0 | BI15: ='část E náklady'!$G$81 -> 0 | BJ15: ='část E náklady'!$G$82 -> 0 | BK15: ='část E náklady'!$G$83 -> 0 | BL15: ='část E náklady'!$G$84 -> 0 | BM15: ='část E náklady'!$G$85 -> 0 | BN15: ='část E náklady'!$G$86 -> 0 | BO15: ='část E náklady'!$G$87 -> 0 | BP15: ='část E náklady'!$G$88 -> 0 | BT15: {=SUM($H$44:$BP$44*H15:BP15)} -> 0 | BU15: =BT15*0.16 -> 0
A16: 24 | B16: Čerpání neinvestiční dotace 2 | C16: ='úvodní list'!$E$12 -> 0 | D16: ='úvodní list'!$E$13 -> 0 | E16: ='úvodní list'!$E$14 -> 0 | F16: ='úvodní list'!$E$15 -> nevybráno | G16: ='úvodní list'!$E$16 -> 0 | H16: ='část E náklady'!$I$28 -> 0 | I16: ='část E náklady'!$I$29 -> 0 | J16: ='část E náklady'!$I$30 -> 0 | K16: ='část E náklady'!$I$31 -> 0 | L16: ='část E náklady'!$I$32 -> 0 | M16: ='část E náklady'!$I$33 -> 0 | N16: ='část E náklady'!$I$34 -> 0 | O16: ='část E náklady'!$I$35 -> 0 | P16: ='část E náklady'!$I$36 -> 0 | Q16: ='část E náklady'!$I$37 -> 0 | R16: ='část E náklady'!$I$38 -> 0 | S16: ='část E náklady'!$I$39 -> 0 | T16: ='část E náklady'!$I$40 -> 0 | U16: ='část E náklady'!$I$41 -> 0 | V16: ='část E náklady'!$I$42 -> 0 | W16: ='část E náklady'!$I$43 -> 0 | X16: ='část E náklady'!$I$44 -> 0 | Y16: ='část E náklady'!$I$45 -> 0 | Z16: ='část E náklady'!$I$46 -> 0 | AA16: ='část E náklady'!$I$47 -> 0 | AB16: ='část E náklady'!$I$48 -> 0 | AC16: ='část E náklady'!$I$49 -> 0 | AD16: ='část E náklady'!$I$50 -> 0 | AE16: ='část E náklady'!$I$51 -> 0 | AF16: ='část E náklady'!$I$52 -> 0 | AG16: ='část E náklady'!$I$53 -> 0 | AH16: ='část E náklady'!$I$54 -> 0 | AI16: ='část E náklady'!$I$55 -> 0 | AJ16: ='část E náklady'!$I$56 -> 0 | AK16: ='část E náklady'!$I$57 -> 0 | AL16: ='část E náklady'!$I$58 -> 0 | AM16: ='část E náklady'!$I$59 -> 0 | AN16: ='část E náklady'!$I$60 -> 0 | AO16: ='část E náklady'!$I$61 -> 0 | AP16: ='část E náklady'!$I$62 -> 0 | AQ16: ='část E náklady'!$I$63 -> 0 | AR16: ='část E náklady'!$I$64 -> 0 | AS16: ='část E náklady'!$I$65 -> 0 | AT16: ='část E náklady'!$I$66 -> 0 | AU16: ='část E náklady'!$I$67 -> 0 | AV16: ='část E náklady'!$I$68 -> 0 | AW16: ='část E náklady'!$I$69 -> 0 | AX16: ='část E náklady'!$I$70 -> 0 | AY16: ='část E náklady'!$I$71 -> 0 | AZ16: ='část E náklady'!$I$72 -> 0 | BA16: ='část E náklady'!$I$73 -> 0 | BB16: ='část E náklady'!$I$74 -> 0 | BC16: ='část E náklady'!$I$75 -> 0 | BD16: ='část E náklady'!$I$76 -> 0 | BE16: ='část E náklady'!$I$77 -> 0 | BF16: ='část E náklady'!$I$78 -> 0 | BG16: ='část E náklady'!$I$79 -> 0 | BH16: ='část E náklady'!$I$80 -> 0 | BI16: ='část E náklady'!$I$81 -> 0 | BJ16: ='část E náklady'!$I$82 -> 0 | BK16: ='část E náklady'!$I$83 -> 0 | BL16: ='část E náklady'!$I$84 -> 0 | BM16: ='část E náklady'!$I$85 -> 0 | BN16: ='část E náklady'!$I$86 -> 0 | BO16: ='část E náklady'!$I$87 -> 0 | BP16: ='část E náklady'!$I$88 -> 0 | BT16: {=SUM($H$44:$BP$44*H16:BP16)} -> 0 | BU16: =BT16*0.17 -> 0
A17: 25 | B17: Čerpání dofinancování | C17: ='úvodní list'!$E$12 -> 0 | D17: ='úvodní list'!$E$13 -> 0 | E17: ='úvodní list'!$E$14 -> 0 | F17: ='úvodní list'!$E$15 -> nevybráno | G17: ='úvodní list'!$E$16 -> 0 | H17: ='část E náklady'!$J$28 -> 0 | I17: ='část E náklady'!$J$29 -> 0 | J17: ='část E náklady'!$J$30 -> 0 | K17: ='část E náklady'!$J$31 -> 0 | L17: ='část E náklady'!$J$32 -> 0 | M17: ='část E náklady'!$J$33 -> 0 | N17: ='část E náklady'!$J$34 -> 0 | O17: ='část E náklady'!$J$35 -> 0 | P17: ='část E náklady'!$J$36 -> 0 | Q17: ='část E náklady'!$J$37 -> 0 | R17: ='část E náklady'!$J$38 -> 0 | S17: ='část E náklady'!$J$39 -> 0 | T17: ='část E náklady'!$J$40 -> 0 | U17: ='část E náklady'!$J$41 -> 0 | V17: ='část E náklady'!$J$42 -> 0 | W17: ='část E náklady'!$J$43 -> 0 | X17: ='část E náklady'!$J$44 -> 0 | Y17: ='část E náklady'!$J$45 -> 0 | Z17: ='část E náklady'!$J$46 -> 0 | AA17: ='část E náklady'!$J$47 -> 0 | AB17: ='část E náklady'!$J$48 -> 0 | AC17: ='část E náklady'!$J$49 -> 0 | AD17: ='část E náklady'!$J$50 -> 0 | AE17: ='část E náklady'!$J$51 -> 0 | AF17: ='část E náklady'!$J$52 -> 0 | AG17: ='část E náklady'!$J$53 -> 0 | AH17: ='část E náklady'!$J$54 -> 0 | AI17: ='část E náklady'!$J$55 -> 0 | AJ17: ='část E náklady'!$J$56 -> 0 | AK17: ='část E náklady'!$J$57 -> 0 | AL17: ='část E náklady'!$J$58 -> 0 | AM17: ='část E náklady'!$J$59 -> 0 | AN17: ='část E náklady'!$J$60 -> 0 | AO17: ='část E náklady'!$J$61 -> 0 | AP17: ='část E náklady'!$J$62 -> 0 | AQ17: ='část E náklady'!$J$63 -> 0 | AR17: ='část E náklady'!$J$64 -> 0 | AS17: ='část E náklady'!$J$65 -> 0 | AT17: ='část E náklady'!$J$66 -> 0 | AU17: ='část E náklady'!$J$67 -> 0 | AV17: ='část E náklady'!$J$68 -> 0 | AW17: ='část E náklady'!$J$69 -> 0 | AX17: ='část E náklady'!$J$70 -> 0 | AY17: ='část E náklady'!$J$71 -> 0 | AZ17: ='část E náklady'!$J$72 -> 0 | BA17: ='část E náklady'!$J$73 -> 0 | BB17: ='část E náklady'!$J$74 -> 0 | BC17: ='část E náklady'!$J$75 -> 0 | BD17: ='část E náklady'!$J$76 -> 0 | BE17: ='část E náklady'!$J$77 -> 0 | BF17: ='část E náklady'!$J$78 -> 0 | BG17: ='část E náklady'!$J$79 -> 0 | BH17: ='část E náklady'!$J$80 -> 0 | BI17: ='část E náklady'!$J$81 -> 0 | BJ17: ='část E náklady'!$J$82 -> 0 | BK17: ='část E náklady'!$J$83 -> 0 | BL17: ='část E náklady'!$J$84 -> 0 | BM17: ='část E náklady'!$J$85 -> 0 | BN17: ='část E náklady'!$J$86 -> 0 | BO17: ='část E náklady'!$J$87 -> 0 | BP17: ='část E náklady'!$J$88 -> 0 | BT17: {=SUM($H$44:$BP$44*H17:BP17)} -> 0 | BU17: =BT17*0.18 -> 0
A18: 26 | B18: Čerpání neinvestiční dotace 3 | C18: ='úvodní list'!$E$12 -> 0 | D18: ='úvodní list'!$E$13 -> 0 | E18: ='úvodní list'!$E$14 -> 0 | F18: ='úvodní list'!$E$15 -> nevybráno | G18: ='úvodní list'!$E$16 -> 0 | H18: ='část E náklady'!$H$28 -> 0 | I18: ='část E náklady'!$H$29 -> 0 | J18: ='část E náklady'!$H$30 -> 0 | K18: ='část E náklady'!$H$31 -> 0 | L18: ='část E náklady'!$H$32 -> 0 | M18: ='část E náklady'!$H$33 -> 0 | N18: ='část E náklady'!$H$34 -> 0 | O18: ='část E náklady'!$H$35 -> 0 | P18: ='část E náklady'!$H$36 -> 0 | Q18: ='část E náklady'!$H$37 -> 0 | R18: ='část E náklady'!$H$38 -> 0 | S18: ='část E náklady'!$H$39 -> 0 | T18: ='část E náklady'!$H$40 -> 0 | U18: ='část E náklady'!$H$41 -> 0 | V18: ='část E náklady'!$H$42 -> 0 | W18: ='část E náklady'!$H$43 -> 0 | X18: ='část E náklady'!$H$44 -> 0 | Y18: ='část E náklady'!$H$45 -> 0 | Z18: ='část E náklady'!$H$46 -> 0 | AA18: ='část E náklady'!$H$47 -> 0 | AB18: ='část E náklady'!$H$48 -> 0 | AC18: ='část E náklady'!$H$49 -> 0 | AD18: ='část E náklady'!$H$50 -> 0 | AE18: ='část E náklady'!$H$51 -> 0 | AF18: ='část E náklady'!$H$52 -> 0 | AG18: ='část E náklady'!$H$53 -> 0 | AH18: ='část E náklady'!$H$54 -> 0 | AI18: ='část E náklady'!$H$55 -> 0 | AJ18: ='část E náklady'!$H$56 -> 0 | AK18: ='část E náklady'!$H$57 -> 0 | AL18: ='část E náklady'!$H$58 -> 0 | AM18: ='část E náklady'!$H$59 -> 0 | AN18: ='část E náklady'!$H$60 -> 0 | AO18: ='část E náklady'!$H$61 -> 0 | AP18: ='část E náklady'!$H$62 -> 0 | AQ18: ='část E náklady'!$H$63 -> 0 | AR18: ='část E náklady'!$H$64 -> 0 | AS18: ='část E náklady'!$H$65 -> 0 | AT18: ='část E náklady'!$H$66 -> 0 | AU18: ='část E náklady'!$H$67 -> 0 | AV18: ='část E náklady'!$H$68 -> 0 | AW18: ='část E náklady'!$H$69 -> 0 | AX18: ='část E náklady'!$H$70 -> 0 | AY18: ='část E náklady'!$H$71 -> 0 | AZ18: ='část E náklady'!$H$72 -> 0 | BA18: ='část E náklady'!$H$73 -> 0 | BB18: ='část E náklady'!$H$74 -> 0 | BC18: ='část E náklady'!$H$75 -> 0 | BD18: ='část E náklady'!$H$76 -> 0 | BE18: ='část E náklady'!$H$77 -> 0 | BF18: ='část E náklady'!$H$78 -> 0 | BG18: ='část E náklady'!$H$79 -> 0 | BH18: ='část E náklady'!$H$80 -> 0 | BI18: ='část E náklady'!$H$81 -> 0 | BJ18: ='část E náklady'!$H$82 -> 0 | BK18: ='část E náklady'!$H$83 -> 0 | BL18: ='část E náklady'!$H$84 -> 0 | BM18: ='část E náklady'!$H$85 -> 0 | BN18: ='část E náklady'!$H$86 -> 0 | BO18: ='část E náklady'!$H$87 -> 0 | BP18: ='část E náklady'!$H$88 -> 0 | BT18: {=SUM($H$44:$BP$44*H18:BP18)} -> 0 | BU18: =BT18*0.19 -> 0
A19: 26.1 | B19: Čerpání neinvestiční dotace 3.1 | C19: ='úvodní list'!$E$12 -> 0 | D19: ='úvodní list'!$E$13 -> 0 | E19: ='úvodní list'!$E$14 -> 0 | F19: ='úvodní list'!$E$15 -> nevybráno | G19: ='úvodní list'!$E$16 -> 0 | H19: Pro nový projekt | BU19: =BT19*0.21 -> 0
A20: 35 | B20: Část E - Náklady služby | C20: ='úvodní list'!$E$12 -> 0 | D20: ='úvodní list'!$E$13 -> 0 | E20: ='úvodní list'!$E$14 -> 0 | F20: ='úvodní list'!$E$15 -> nevybráno | G20: ='úvodní list'!$E$16 -> 0 | H20: ='část E náklady'!$E$4 -> 0 | I20: ='část E náklady'!$E$5 -> 0 | J20: ='část E náklady'!$E$6 -> 0 | K20: ='část E náklady'!$E$7 -> 0 | L20: ='část E náklady'!$E$8 -> 0 | M20: ='část E náklady'!$E$14 -> 0 | N20: ='část E náklady'!$E$15 -> 0 | O20: ='část E náklady'!$E$16 -> 0 | P20: ='část E náklady'!$E$17 -> 0 | Q20: ='část E náklady'!$E$19 -> 0 | R20: ='část E náklady'!$E$20 -> 0 | S20: ='část E náklady'!$E$21 -> 0 | T20: ='část E náklady'!$E$22 -> 0 | U20: ='část E náklady'!$E$10 -> 0 | V20: ='část E náklady'!$E$11 -> 0 | W20: ='část E náklady'!$E$12 -> 0 | BT20: {=SUM($H$44:$BP$44*H20:BP20)} -> 0 | BU20: =BT20*0.22 -> 0
A21: 41 | B21: část F zdroje celkem (za celou sociální službu ) | C21: ='úvodní list'!$E$12 -> 0 | D21: ='úvodní list'!$E$13 -> 0 | E21: ='úvodní list'!$E$14 -> 0 | F21: ='úvodní list'!$E$15 -> nevybráno | G21: ='úvodní list'!$E$16 -> 0 | H21: ='část F zdroje'!$E$6 -> 0 | I21: ='část F zdroje'!$E$7 -> 0 | K21: ='část F zdroje'!$E$8 -> 0 | L21: ='část F zdroje'!$E$9 -> 0 | M21: ='část F zdroje'!$E$10 -> 0 | N21: ='část F zdroje'!$E$11 -> 0 | O21: ='část F zdroje'!$E$12 -> 0 | P21: ='část F zdroje'!$E$13 -> 0 | Q21: ='část F zdroje'!$E$14 -> 0 | R21: ='část F zdroje'!$E$15 -> 0 | S21: ='část F zdroje'!$E$16 -> 0 | T21: ='část F zdroje'!$E$17 -> 0 | U21: ='část F zdroje'!$E$18 -> 0 | V21: ='část F zdroje'!$E$19 -> 0 | W21: ='část F zdroje'!$E$20 -> 0 | X21: ='část F zdroje'!$E$21 -> 0 | Y21: ='část F zdroje'!$E$22 -> 0 | Z21: ='část F zdroje'!$E$23 -> 0 | AA21: ='část F zdroje'!$E$24 -> 0 | AB21: ='část F zdroje'!$E$25 -> 0 | AC21: ='část F zdroje'!$E$26 -> 0 | AD21: ='část F zdroje'!$E$27 -> 0 | BT21: {=SUM($H$44:$BP$44*H21:BP21)} -> 0 | BU21: =BT21*0.23 -> 0
A22: 42 | B22: část F zdroje za část služby poskytovanou v rámci kategorie A sítě sociálních služeb v Karlovarském kraji | C22: ='úvodní list'!$E$12 -> 0 | D22: ='úvodní list'!$E$13 -> 0 | E22: ='úvodní list'!$E$14 -> 0 | F22: ='úvodní list'!$E$15 -> nevybráno | G22: ='úvodní list'!$E$16 -> 0 | H22: ='část F zdroje'!$F$6 -> 0 | I22: ='část F zdroje'!$F$7 -> 0 | K22: ='část F zdroje'!$F$8 -> 0 | L22: ='část F zdroje'!$F$9 -> 0 | M22: ='část F zdroje'!$F$10 -> 0 | N22: ='část F zdroje'!$F$11 -> 0 | O22: ='část F zdroje'!$F$12 -> 0 | P22: ='část F zdroje'!$F$13 -> 0 | Q22: ='část F zdroje'!$F$14 -> 0 | R22: ='část F zdroje'!$F$15 -> 0 | S22: ='část F zdroje'!$F$16 -> 0 | T22: ='část F zdroje'!$F$17 -> 0 | U22: ='část F zdroje'!$F$18 -> 0 | V22: ='část F zdroje'!$F$19 -> 0 | W22: ='část F zdroje'!$F$20 -> 0 | X22: ='část F zdroje'!$F$21 -> 0 | Y22: ='část F zdroje'!$F$22 -> 0 | Z22: ='část F zdroje'!$F$23 -> 0 | AA22: ='část F zdroje'!$F$24 -> 0 | AB22: ='část F zdroje'!$F$25 -> 0 | AC22: ='část F zdroje'!$F$26 -> 0 | AD22: ='část F zdroje'!$F$27 -> 0 | AE22: ='část F zdroje'!$H$32 -> 0 | AF22: ='část F zdroje'!$H$33 -> 0 | AG22: ='část F zdroje'!$H$34 -> 0 | AI22: ='část F zdroje'!$H$35 -> 0 | BT22: {=SUM($H$44:$BP$44*H22:BP22)} -> 0 | BU22: =BT22*0.24 -> 0
A23: 51 | B23: část B int_AT_péče | C23: ='úvodní list'!$E$12 -> 0 | D23: ='úvodní list'!$E$13 -> 0 | E23: ='úvodní list'!$E$14 -> 0 | F23: ='úvodní list'!$E$15 -> nevybráno | G23: ='úvodní list'!$E$16 -> 0 | H23: ='část B ind_AT_péče'!$E$6 -> 0 | I23: ='část B ind_AT_péče'!$E$7 -> 0 | J23: ='část B ind_AT_péče'!$E$8 -> 0 | K23: ='část B ind_AT_péče'!$E$9 -> 0 | L23: ='část B ind_AT_péče'!$E$10 -> 0 | M23: ='část B ind_AT_péče'!$E$11 -> 0 | N23: ='část B ind_AT_péče'!$E$12 -> 0 | O23: ='část B ind_AT_péče'!$E$13 -> 0 | P23: ='část B ind_AT_péče'!E14 -> 0 | Q23: ='část B ind_AT_péče'!$F$6 -> 0 | R23: ='část B ind_AT_péče'!$F$7 -> 0 | S23: ='část B ind_AT_péče'!$F$8 -> 0 | T23: ='část B ind_AT_péče'!$F$9 -> 0 | U23: ='část B ind_AT_péče'!$F$10 -> 0 | V23: ='část B ind_AT_péče'!$F$11 -> 0 | W23: ='část B ind_AT_péče'!$F$12 -> 0 | X23: ='část B ind_AT_péče'!$F$13 -> 0 | Y23: ='část B ind_AT_péče'!$F$14 -> 0 | Z23: ='část B ind_AT_péče'!$G$6 -> 0 | AA23: ='část B ind_AT_péče'!$G$7 -> 0 | AB23: ='část B ind_AT_péče'!$G$8 -> 0 | AC23: ='část B ind_AT_péče'!$G$9 -> 0 | AD23: ='část B ind_AT_péče'!$G$10 -> 0 | AE23: ='část B ind_AT_péče'!$G$11 -> 0 | AF23: ='část B ind_AT_péče'!$G$12 -> 0 | AG23: ='část B ind_AT_péče'!$G$13 -> 0 | AH23: ='část B ind_AT_péče'!$G$14 -> 0 | AI23: ='část B ind_AT_péče'!$H$6 -> 0 | AJ23: ='část B ind_AT_péče'!$H$7 -> 0 | AK23: ='část B ind_AT_péče'!$H$8 -> 0 | AL23: ='část B ind_AT_péče'!$H$9 -> 0 | AM23: ='část B ind_AT_péče'!$H$10 -> 0 | AN23: ='část B ind_AT_péče'!$H$11 -> 0 | AO23: ='část B ind_AT_péče'!$H$12 -> 0 | AP23: ='část B ind_AT_péče'!$H$13 -> 0 | AQ23: ='část B ind_AT_péče'!$H$14 -> 0 | AR23: ='část B ind_AT_péče'!$I$6 -> 0 | AS23: ='část B ind_AT_péče'!$I$7 -> 0 | AT23: ='část B ind_AT_péče'!$I$8 -> 0 | BT23: {=SUM($H$44:$BP$44*H23:BP23)} -> 0 | BU23: =BT23*0.25 -> 0
A24: 51.1 | B24: část B int_AT_péče PROJEKT 1. část roku | C24: ='úvodní list'!$E$12 -> 0 | D24: ='úvodní list'!$E$13 -> 0 | E24: ='úvodní list'!$E$14 -> 0 | F24: ='úvodní list'!$E$15 -> nevybráno | G24: ='úvodní list'!$E$16 -> 0 | H24: ='část B ind_AT_péče'!$E$35 -> 0 | I24: ='část B ind_AT_péče'!$E$36 -> 0 | J24: ='část B ind_AT_péče'!$E$37 -> 0 | K24: ='část B ind_AT_péče'!$E$38 -> 0 | L24: ='část B ind_AT_péče'!$E$39 -> 0 | Q24: ='část B ind_AT_péče'!$F$35 -> 0 | R24: ='část B ind_AT_péče'!$F$36 -> 0 | S24: ='část B ind_AT_péče'!$F$37 -> 0 | T24: ='část B ind_AT_péče'!$F$38 -> 0 | U24: ='část B ind_AT_péče'!$F$39 -> 0 | AI24: ='část B ind_AT_péče'!$H$35 -> 0 | AJ24: ='část B ind_AT_péče'!$H$36 -> 0 | AK24: ='část B ind_AT_péče'!$H$37 -> 0 | AL24: ='část B ind_AT_péče'!$H$38 -> 0 | AM24: ='část B ind_AT_péče'!$H$39 -> 0 | AR24: ='část B ind_AT_péče'!$I$35 -> 0 | AS24: ='část B ind_AT_péče'!$I$36 -> 0 | AT24: ='část B ind_AT_péče'!$I$37 -> 0 | BT24: {=SUM($H$44:$BP$44*H24:BP24)} -> 0 | BU24: =BT24*0.26 -> 0
A25: 56 | B25: část B int_AT_péče | C25: ='úvodní list'!$E$12 -> 0 | D25: ='úvodní list'!$E$13 -> 0 | E25: ='úvodní list'!$E$14 -> 0 | F25: ='úvodní list'!$E$15 -> nevybráno | G25: ='úvodní list'!$E$16 -> 0 | H25: ='část B ind_AT_péče'!$E$19 -> 0 | I25: ='část B ind_AT_péče'!$E$20 -> 0 | J25: ='část B ind_AT_péče'!$E$21 -> 0 | K25: ='část B ind_AT_péče'!$E$22 -> 0 | L25: ='část B ind_AT_péče'!$E$23 -> 0 | M25: ='část B ind_AT_péče'!$E$24 -> 0 | N25: ='část B ind_AT_péče'!$F$19 -> 0 | O25: ='část B ind_AT_péče'!$F$20 -> 0 | P25: ='část B ind_AT_péče'!$F$21 -> 0 | Q25: ='část B ind_AT_péče'!$F$22 -> 0 | R25: ='část B ind_AT_péče'!$F$23 -> 0 | S25: ='část B ind_AT_péče'!$F$24 -> 0 | T25: ='část B ind_AT_péče'!$G$19 -> 0 | U25: ='část B ind_AT_péče'!$G$20 -> 0 | V25: ='část B ind_AT_péče'!$G$21 -> 0 | W25: ='část B ind_AT_péče'!$G$22 -> 0 | X25: ='část B ind_AT_péče'!$G$23 -> 0 | Y25: ='část B ind_AT_péče'!$G$24 -> 0 | Z25: ='část B ind_AT_péče'!$H$19 -> 0 | AA25: ='část B ind_AT_péče'!$H$20 -> 0 | AB25: ='část B ind_AT_péče'!$H$21 -> 0 | AC25: ='část B ind_AT_péče'!$H$22 -> 0 | AD25: ='část B ind_AT_péče'!$H$23 -> 0 | AE25: ='část B ind_AT_péče'!$H$24 -> 0 | BT25: {=SUM($H$44:$BP$44*H25:BP25)} -> 0 | BU25: =BT25*0.27 -> 0
A26: 56 | B26: část B ind AT prev | C26: ='úvodní list'!$E$12 -> 0 | D26: ='úvodní list'!$E$13 -> 0 | E26: ='úvodní list'!$E$14 -> 0 | F26: ='úvodní list'!$E$15 -> nevybráno | G26: ='úvodní list'!$E$16 -> 0 | H26: ='část B ind_AT_prev'!$E$19 -> 0 | I26: ='část B ind_AT_prev'!$E$20 -> 0 | J26: ='část B ind_AT_prev'!$E$21 -> 0 | K26: ='část B ind_AT_prev'!$E$22 -> 0 | L26: ='část B ind_AT_prev'!$E$23 -> 0 | M26: ='část B ind_AT_prev'!$E$24 -> 0 | N26: ='část B ind_AT_prev'!$F$19 -> 0 | O26: ='část B ind_AT_prev'!$F$20 -> 0 | P26: ='část B ind_AT_prev'!$F$21 -> 0 | Q26: ='část B ind_AT_prev'!$F$22 -> 0 | R26: ='část B ind_AT_prev'!$F$23 -> 0 | S26: ='část B ind_AT_prev'!$F$24 -> 0 | T26: ='část B ind_AT_prev'!$G$19 -> 0 | U26: ='část B ind_AT_prev'!$G$20 -> 0 | V26: ='část B ind_AT_prev'!$G$21 -> 0 | W26: ='část B ind_AT_prev'!$G$22 -> 0 | X26: ='část B ind_AT_prev'!$G$23 -> 0 | Y26: ='část B ind_AT_prev'!$G$24 -> 0 | Z26: ='část B ind_AT_prev'!$H$19 -> 0 | AA26: ='část B ind_AT_prev'!$H$20 -> 0 | AB26: ='část B ind_AT_prev'!$H$21 -> 0 | AC26: ='část B ind_AT_prev'!$H$22 -> 0 | AD26: ='část B ind_AT_prev'!$H$23 -> 0 | AE26: ='část B ind_AT_prev'!$H$24 -> 0 | BT26: {=SUM($H$44:$BP$44*H26:BP26)} -> 0 | BU26: =BT26*0.28 -> 0
A27: 56 | B27: část B ind_P_péče | C27: ='úvodní list'!$E$12 -> 0 | D27: ='úvodní list'!$E$13 -> 0 | E27: ='úvodní list'!$E$14 -> 0 | F27: ='úvodní list'!$E$15 -> nevybráno | G27: ='úvodní list'!$E$16 -> 0 | H27: ='část B ind_P_péče'!$E$16 -> 0 | I27: ='část B ind_P_péče'!$E$17 -> 0 | J27: ='část B ind_P_péče'!$E$18 -> 0 | K27: ='část B ind_P_péče'!$E$19 -> 0 | L27: ='část B ind_P_péče'!$E$20 -> 0 | M27: ='část B ind_P_péče'!$E$21 -> 0 | N27: ='část B ind_P_péče'!$F$16 -> 0 | O27: ='část B ind_P_péče'!$F$17 -> 0 | P27: ='část B ind_P_péče'!$F$18 -> 0 | Q27: ='část B ind_P_péče'!$F$19 -> 0 | R27: ='část B ind_P_péče'!$F$20 -> 0 | S27: ='část B ind_P_péče'!$F$21 -> 0 | T27: ='část B ind_P_péče'!$G$16 -> 0 | U27: ='část B ind_P_péče'!$G$17 -> 0 | V27: ='část B ind_P_péče'!$G$18 -> 0 | W27: ='část B ind_P_péče'!$G$19 -> 0 | X27: ='část B ind_P_péče'!$G$20 -> 0 | Y27: ='část B ind_P_péče'!$G$21 -> 0 | Z27: ='část B ind_P_péče'!$H$16 -> 0 | AA27: ='část B ind_P_péče'!$H$17 -> 0 | AB27: ='část B ind_P_péče'!$H$18 -> 0 | AC27: ='část B ind_P_péče'!$H$19 -> 0 | AD27: ='část B ind_P_péče'!$H$20 -> 0 | AE27: ='část B ind_P_péče'!$H$21 -> 0 | BT27: {=SUM($H$44:$BP$44*H27:BP27)} -> 0 | BU27: =BT27*0.29 -> 0
A28: 56.1 | B28: část B int_AT_péče PROJEKT 1. část roku | C28: ='úvodní list'!$E$12 -> 0 | D28: ='úvodní list'!$E$13 -> 0 | E28: ='úvodní list'!$E$14 -> 0 | F28: ='úvodní list'!$E$15 -> nevybráno | G28: ='úvodní list'!$E$16 -> 0 | H28: ='část B ind_AT_péče'!$E$44 -> 0 | I28: ='část B ind_AT_péče'!$E$45 -> 0 | J28: ='část B ind_AT_péče'!$E$46 -> 0 | K28: ='část B ind_AT_péče'!$E$47 -> 0 | L28: ='část B ind_AT_péče'!$E$48 -> 0 | M28: ='část B ind_AT_péče'!$E$49 -> 0 | N28: ='část B ind_AT_péče'!$F$44 -> 0 | O28: ='část B ind_AT_péče'!$F$45 -> 0 | P28: ='část B ind_AT_péče'!$F$46 -> 0 | Q28: ='část B ind_AT_péče'!$F$47 -> 0 | R28: ='část B ind_AT_péče'!$F$48 -> 0 | S28: ='část B ind_AT_péče'!$F$49 -> 0 | T28: ='část B ind_AT_péče'!$G$44 -> 0 | U28: ='část B ind_AT_péče'!$G$45 -> 0 | V28: ='část B ind_AT_péče'!$G$46 -> 0 | W28: ='část B ind_AT_péče'!$G$47 -> 0 | X28: ='část B ind_AT_péče'!$G$48 -> 0 | Y28: ='část B ind_AT_péče'!$G$49 -> 0 | Z28: ='část B ind_AT_péče'!$H$44 -> 0 | AA28: ='část B ind_AT_péče'!$H$45 -> 0 | AB28: ='část B ind_AT_péče'!$H$46 -> 0 | AC28: ='část B ind_AT_péče'!$H$47 -> 0 | AD28: ='část B ind_AT_péče'!$H$48 -> 0 | AE28: ='část B ind_AT_péče'!$H$49 -> 0 | BT28: {=SUM($H$44:$BP$44*H28:BP28)} -> 0 | BU28: =BT28*0.31 -> 0
A29: 56.2 | B29: část B ind AT prev PROJEKT 1. část roku | C29: ='úvodní list'!$E$12 -> 0 | D29: ='úvodní list'!$E$13 -> 0 | E29: ='úvodní list'!$E$14 -> 0 | F29: ='úvodní list'!$E$15 -> nevybráno | G29: ='úvodní list'!$E$16 -> 0 | H29: ='část B ind_AT_prev'!$E$44 -> 0 | I29: ='část B ind_AT_prev'!$E$45 -> 0 | J29: ='část B ind_AT_prev'!$E$46 -> 0 | K29: ='část B ind_AT_prev'!$E$47 -> 0 | L29: ='část B ind_AT_prev'!$E$48 -> 0 | M29: ='část B ind_AT_prev'!$E$49 -> 0 | N29: ='část B ind_AT_prev'!$F$44 -> 0 | O29: ='část B ind_AT_prev'!$F$45 -> 0 | P29: ='část B ind_AT_prev'!$F$46 -> 0 | Q29: ='část B ind_AT_prev'!$F$47 -> 0 | R29: ='část B ind_AT_prev'!$F$48 -> 0 | S29: ='část B ind_AT_prev'!$F$49 -> 0 | T29: ='část B ind_AT_prev'!$G$44 -> 0 | U29: ='část B ind_AT_prev'!$G$45 -> 0 | V29: ='část B ind_AT_prev'!$G$46 -> 0 | W29: ='část B ind_AT_prev'!$G$47 -> 0 | X29: ='část B ind_AT_prev'!$G$48 -> 0 | Y29: ='část B ind_AT_prev'!$G$49 -> 0 | Z29: ='část B ind_AT_prev'!$H$44 -> 0 | AA29: ='část B ind_AT_prev'!$H$45 -> 0 | AB29: ='část B ind_AT_prev'!$H$46 -> 0 | AC29: ='část B ind_AT_prev'!$H$47 -> 0 | AD29: ='část B ind_AT_prev'!$H$48 -> 0 | AE29: ='část B ind_AT_prev'!$H$49 -> 0 | BT29: {=SUM($H$44:$BP$44*H29:BP29)} -> 0 | BU29: =BT29*0.32 -> 0
A30: 61 | B30: část B ind AT prev | C30: ='úvodní list'!$E$12 -> 0 | D30: ='úvodní list'!$E$13 -> 0 | E30: ='úvodní list'!$E$14 -> 0 | F30: ='úvodní list'!$E$15 -> nevybráno | G30: ='úvodní list'!$E$16 -> 0 | H30: ='část B ind_AT_prev'!$E$7 -> 0 | I30: ='část B ind_AT_prev'!$E$6 -> 0 | J30: ='část B ind_AT_prev'!$E$8 -> 0 | K30: ='část B ind_AT_prev'!$E$9 -> 0 | L30: ='část B ind_AT_prev'!$E$10 -> 0 | M30: ='část B ind_AT_prev'!$E$11 -> 0 | N30: ='část B ind_AT_prev'!$E$12 -> 0 | O30: ='část B ind_AT_prev'!$E$13 -> 0 | P30: ='část B ind_AT_prev'!$E$14 -> 0 | Q30: ='část B ind_AT_prev'!$F$7 -> 0 | R30: ='část B ind_AT_prev'!$F$6 -> 0 | S30: ='část B ind_AT_prev'!$F$8 -> 0 | T30: ='část B ind_AT_prev'!$F$9 -> 0 | U30: ='část B ind_AT_prev'!$F$10 -> 0 | V30: ='část B ind_AT_prev'!$F$11 -> 0 | W30: ='část B ind_AT_prev'!$F$12 -> 0 | X30: ='část B ind_AT_prev'!$F$13 -> 0 | Y30: ='část B ind_AT_prev'!$F$14 -> 0 | Z30: ='část B ind_AT_prev'!$G$7 -> 0 | AA30: ='část B ind_AT_prev'!$G$6 -> 0 | AB30: ='část B ind_AT_prev'!$G$8 -> 0 | AC30: ='část B ind_AT_prev'!$G$9 -> 0 | AD30: ='část B ind_AT_prev'!$G$10 -> 0 | AE30: ='část B ind_AT_prev'!$G$11 -> 0 | AF30: ='část B ind_AT_prev'!$G$12 -> 0 | AG30: ='část B ind_AT_prev'!$G$13 -> 0 | AH30: ='část B ind_AT_prev'!$G$14 -> 0 | AI30: ='část B ind_AT_prev'!$H$7 -> 0 | AJ30: ='část B ind_AT_prev'!$H$6 -> 0 | AK30: ='část B ind_AT_prev'!$H$8 -> 0 | AL30: ='část B ind_AT_prev'!$H$9 -> 0 | AM30: ='část B ind_AT_prev'!$H$10 -> 0 | AN30: ='část B ind_AT_prev'!$H$11 -> 0 | AO30: ='část B ind_AT_prev'!$H$12 -> 0 | AP30: ='část B ind_AT_prev'!$H$13 -> 0 | AQ30: ='část B ind_AT_prev'!$H$14 -> 0 | AR30: ='část B ind_AT_prev'!$I$7 -> 0 | AS30: ='část B ind_AT_prev'!$I$6 -> 0 | AT30: ='část B ind_AT_prev'!$I$8 -> 0 | AU30: ='část B ind_AT_prev'!$I$9 -> 0 | AV30: ='část B ind_AT_prev'!$I$10 -> 0 | BT30: {=SUM($H$44:$BP$44*H30:BP30)} -> 0 | BU30: =BT30*0.33 -> 0
A31: 61.1 | B31: část B ind AT prev PROJEKT 1. část roku | C31: ='úvodní list'!$E$12 -> 0 | D31: ='úvodní list'!$E$13 -> 0 | E31: ='úvodní list'!$E$14 -> 0 | F31: ='úvodní list'!$E$15 -> nevybráno | G31: ='úvodní list'!$E$16 -> 0 | H31: ='část B ind_AT_prev'!$E$33 -> 0 | I31: ='část B ind_AT_prev'!$E$34 -> 0 | J31: ='část B ind_AT_prev'!$E$35 -> 0 | M31: ='část B ind_AT_prev'!$E$36 -> 0 | N31: ='část B ind_AT_prev'!$E$37 -> 0 | O31: ='část B ind_AT_prev'!$E$38 -> 0 | P31: ='část B ind_AT_prev'!$E$39 -> 0 | Q31: ='část B ind_AT_prev'!$F$33 -> 0 | R31: ='část B ind_AT_prev'!$F$34 -> 0 | S31: ='část B ind_AT_prev'!$F$35 -> 0 | V31: ='část B ind_AT_prev'!$F$36 -> 0 | W31: ='část B ind_AT_prev'!$F$37 -> 0 | X31: ='část B ind_AT_prev'!$F$38 -> 0 | Y31: ='část B ind_AT_prev'!$F$39 -> 0 | AI31: ='část B ind_AT_prev'!$H$33 -> 0 | AJ31: ='část B ind_AT_prev'!$H$34 -> 0 | AK31: ='část B ind_AT_prev'!$H$35 -> 0 | AN31: ='část B ind_AT_prev'!$H$36 -> 0 | AO31: ='část B ind_AT_prev'!$H$37 -> 0 | AP31: ='část B ind_AT_prev'!$H$38 -> 0 | AQ31: ='část B ind_AT_prev'!$H$39 -> 0 | AR31: ='část B ind_AT_prev'!$I$33 -> 0 | AS31: ='část B ind_AT_prev'!$I$34 -> 0 | AT31: ='část B ind_AT_prev'!$I$35 -> 0 | BT31: {=SUM($H$44:$BP$44*H31:BP31)} -> 0 | BU31: =BT31*0.34 -> 0
A32: 66 | B32: část B ind_P_péče | C32: ='úvodní list'!$E$12 -> 0 | D32: ='úvodní list'!$E$13 -> 0 | E32: ='úvodní list'!$E$14 -> 0 | F32: ='úvodní list'!$E$15 -> nevybráno | G32: ='úvodní list'!$E$16 -> 0 | H32: ='část B ind_P_péče'!$E$6 -> 0 | I32: ='část B ind_P_péče'!$E$7 -> 0 | J32: ='část B ind_P_péče'!$E$8 -> 0 | K32: ='část B ind_P_péče'!$E$9 -> 0 | L32: ='část B ind_P_péče'!$E$10 -> 0 | M32: ='část B ind_P_péče'!$E$11 -> 0 | N32: ='část B ind_P_péče'!$F$6 -> 0 | O32: ='část B ind_P_péče'!$F$7 -> 0 | P32: ='část B ind_P_péče'!$F$8 -> 0 | Q32: ='část B ind_P_péče'!$F$9 -> 0 | R32: ='část B ind_P_péče'!$F$10 -> 0 | S32: ='část B ind_P_péče'!$F$11 -> 0 | T32: ='část B ind_P_péče'!$G$6 -> 0 | U32: ='část B ind_P_péče'!$G$7 -> 0 | V32: ='část B ind_P_péče'!$G$8 -> 0 | W32: ='část B ind_P_péče'!$G$9 -> 0 | X32: ='část B ind_P_péče'!$G$10 -> 0 | Y32: ='část B ind_P_péče'!$G$11 -> 0 | Z32: ='část B ind_P_péče'!$H$6 -> 0 | AA32: ='část B ind_P_péče'!$H$7 -> 0 | AB32: ='část B ind_P_péče'!$H$8 -> 0 | AC32: ='část B ind_P_péče'!$H$9 -> 0 | AD32: ='část B ind_P_péče'!$H$10 -> 0 | AE32: ='část B ind_P_péče'!$H$11 -> 0 | AF32: ='část B ind_P_péče'!$I$6 -> 0 | AG32: ='část B ind_P_péče'!$I$7 -> 0 | AH32: ='část B ind_P_péče'!$I$8 -> 0 | AI32: ='část B ind_P_péče'!$I$9 -> 0 | AJ32: ='část B ind_P_péče'!$I$10 -> 0 | AK32: ='část B ind_P_péče'!$I$11 -> 0 | BT32: {=SUM($H$44:$BP$44*H32:BP32)} -> 0 | BU32: =BT32*0.35 -> 0
A33: 71 | B33: část B ind P prev | C33: ='úvodní list'!$E$12 -> 0 | D33: ='úvodní list'!$E$13 -> 0 | E33: ='úvodní list'!$E$14 -> 0 | F33: ='úvodní list'!$E$15 -> nevybráno | G33: ='úvodní list'!$E$16 -> 0 | H33: ='část B ind_P_prev'!$E$6 -> 0 | I33: ='část B ind_P_prev'!$E$7 -> 0 | J33: ='část B ind_P_prev'!$E$8 -> 0 | K33: ='část B ind_P_prev'!$E$9 -> 0 | L33: ='část B ind_P_prev'!$E$10 -> 0 | M33: ='část B ind_P_prev'!$E$11 -> 0 | N33: ='část B ind_P_prev'!$E$12 -> 0 | O33: ='část B ind_P_prev'!$F$6 -> 0 | P33: ='část B ind_P_prev'!$F$7 -> 0 | Q33: ='část B ind_P_prev'!$F$8 -> 0 | R33: ='část B ind_P_prev'!$F$9 -> 0 | S33: ='část B ind_P_prev'!$F$10 -> 0 | T33: ='část B ind_P_prev'!$F$11 -> 0 | U33: ='část B ind_P_prev'!$F$12 -> 0 | V33: ='část B ind_P_prev'!$G$6 -> 0 | W33: ='část B ind_P_prev'!$G$7 -> 0 | X33: ='část B ind_P_prev'!$G$8 -> 0 | Y33: ='část B ind_P_prev'!$G$9 -> 0 | Z33: ='část B ind_P_prev'!$G$10 -> 0 | AA33: ='část B ind_P_prev'!$G$11 -> 0 | AB33: ='část B ind_P_prev'!$G$12 -> 0 | AC33: ='část B ind_P_prev'!$H$6 -> 0 | AD33: ='část B ind_P_prev'!$H$7 -> 0 | AE33: ='část B ind_P_prev'!$H$8 -> 0 | AF33: ='část B ind_P_prev'!$H$9 -> 0 | AG33: ='část B ind_P_prev'!$H$10 -> 0 | AH33: ='část B ind_P_prev'!$H$11 -> 0 | AI33: ='část B ind_P_prev'!$H$12 -> 0 | AJ33: ='část B ind_P_prev'!$I$6 -> 0 | AK33: ='část B ind_P_prev'!$I$7 -> 0 | AL33: ='část B ind_P_prev'!$I$8 -> 0 | AM33: ='část B ind_P_prev'!$I$9 -> 0 | AN33: ='část B ind_P_prev'!$I$10 -> 0 | AO33: ='část B ind_P_prev'!$I$11 -> 0 | AP33: ='část B ind_P_prev'!$I$12 -> 0 | BT33: {=SUM($H$44:$BP$44*H33:BP33)} -> 0 | BU33: =BT33*0.36 -> 0
A34: 71.1 | B34: část B ind P prev PROJEKT 1. část roku | C34: ='úvodní list'!$E$12 -> 0 | D34: ='úvodní list'!$E$13 -> 0 | E34: ='úvodní list'!$E$14 -> 0 | F34: ='úvodní list'!$E$15 -> nevybráno | G34: ='úvodní list'!$E$16 -> 0 | H34: ='část B ind_P_prev'!$E$22 -> 0 | I34: ='část B ind_P_prev'!$E$23 -> 0 | J34: ='část B ind_P_prev'!$E$24 -> 0 | K34: ='část B ind_P_prev'!$E$25 -> 0 | L34: ='část B ind_P_prev'!$E$26 -> 0 | M34: ='část B ind_P_prev'!$E$27 -> 0 | N34: ='část B ind_P_prev'!$E$28 -> 0 | O34: ='část B ind_P_prev'!$F$22 -> 0 | P34: ='část B ind_P_prev'!$F$23 -> 0 | Q34: ='část B ind_P_prev'!$F$24 -> 0 | R34: ='část B ind_P_prev'!$F$25 -> 0 | S34: ='část B ind_P_prev'!$F$26 -> 0 | T34: ='část B ind_P_prev'!$F$27 -> 0 | U34: ='část B ind_P_prev'!$F$28 -> 0 | AC34: ='část B ind_P_prev'!$H$22 -> 0 | AD34: ='část B ind_P_prev'!$H$23 -> 0 | AE34: ='část B ind_P_prev'!$H$24 -> 0 | AF34: ='část B ind_P_prev'!$H$25 -> 0 | AG34: ='část B ind_P_prev'!$H$26 -> 0 | AH34: ='část B ind_P_prev'!$H$27 -> 0 | AI34: ='část B ind_P_prev'!$H$28 -> 0 | AJ34: ='část B ind_P_prev'!$I$22 -> 0 | AK34: ='část B ind_P_prev'!$I$23 -> 0 | AL34: ='část B ind_P_prev'!$I$24 -> 0 | AM34: ='část B ind_P_prev'!$I$25 -> 0 | AN34: ='část B ind_P_prev'!$I$26 -> 0 | AO34: ='část B ind_P_prev'!$I$27 -> 0 | AP34: ='část B ind_P_prev'!$I$28 -> 0 | BT34: {=SUM($H$44:$BP$44*H34:BP34)} -> 0 | BU34: =BT34*0.37 -> 0
A35: 80 | B35: Obec | H35: ='část G obce'!$B$6 | I35: ='část G obce'!$B$7 | J35: ='část G obce'!$B$8 | K35: ='část G obce'!$B$9 | L35: ='část G obce'!$B$10 | M35: ='část G obce'!$B$11 | N35: ='část G obce'!$B$12 | O35: ='část G obce'!$B$13 | P35: ='část G obce'!$B$14 | Q35: ='část G obce'!$B$15 | R35: ='část G obce'!$B$16 | S35: ='část G obce'!$B$17 | T35: ='část G obce'!$B$18 | U35: ='část G obce'!$B$19 | V35: ='část G obce'!$B$20 | W35: ='část G obce'!$B$21 | X35: ='část G obce'!$B$22 | Y35: ='část G obce'!$B$23 | Z35: ='část G obce'!$B$24 | AA35: ='část G obce'!$B$25 | AB35: ='část G obce'!$B$26 | AC35: ='část G obce'!$B$27 | AD35: ='část G obce'!$B$28 | AE35: ='část G obce'!$B$29 | AF35: =T('část G obce'!$B$30) | AG35: =T('část G obce'!$B$31) | AH35: =T('část G obce'!$B$32) | BU35: =BT35*0.38 -> 0
A36: 81 | B36: Dotace z rozpočtu obce | C36: ='úvodní list'!$E$12 -> 0 | D36: ='úvodní list'!$E$13 -> 0 | E36: ='úvodní list'!$E$14 -> 0 | F36: ='úvodní list'!$E$15 -> nevybráno | G36: ='úvodní list'!$E$16 -> 0 | H36: ='část G obce'!$C$6 -> 0 | I36: ='část G obce'!$C$7 -> 0 | J36: ='část G obce'!$C$8 -> 0 | K36: ='část G obce'!$C$9 -> 0 | L36: ='část G obce'!$C$10 -> 0 | M36: ='část G obce'!$C$11 -> 0 | N36: ='část G obce'!$C$12 -> 0 | O36: ='část G obce'!$C$13 -> 0 | P36: ='část G obce'!$C$14 -> 0 | Q36: ='část G obce'!$C$15 -> 0 | R36: ='část G obce'!$C$16 -> 0 | S36: ='část G obce'!$C$17 -> 0 | T36: ='část G obce'!$C$18 -> 0 | U36: ='část G obce'!$C$19 -> 0 | V36: ='část G obce'!$C$20 -> 0 | W36: ='část G obce'!$C$21 -> 0 | X36: ='část G obce'!$C$22 -> 0 | Y36: ='část G obce'!$C$23 -> 0 | Z36: ='část G obce'!$C$24 -> 0 | AA36: ='část G obce'!$C$25 -> 0 | AB36: ='část G obce'!$C$26 -> 0 | AC36: ='část G obce'!$C$27 -> 0 | AD36: ='část G obce'!$C$28 -> 0 | AE36: ='část G obce'!$C$29 -> 0 | AF36: ='část G obce'!$C$30 -> 0 | AG36: ='část G obce'!$C$31 -> 0 | AH36: ='část G obce'!$C$32 -> 0 | BT36: {=SUM($H$44:$BP$44*H36:BP36)} -> 0 | BU36: =BT36*0.39 -> 0
A37: 82 | B37: Příspěvek zřizovatele | C37: ='úvodní list'!$E$12 -> 0 | D37: ='úvodní list'!$E$13 -> 0 | E37: ='úvodní list'!$E$14 -> 0 | F37: ='úvodní list'!$E$15 -> nevybráno | G37: ='úvodní list'!$E$16 -> 0 | H37: ='část G obce'!$D$6 -> 0 | I37: ='část G obce'!$D$7 -> 0 | J37: ='část G obce'!$D$8 -> 0 | K37: ='část G obce'!$D$9 -> 0 | L37: ='část G obce'!$D$10 -> 0 | M37: ='část G obce'!$D$11 -> 0 | N37: ='část G obce'!$D$12 -> 0 | O37: ='část G obce'!$D$13 -> 0 | P37: ='část G obce'!$D$14 -> 0 | Q37: ='část G obce'!$D$15 -> 0 | R37: ='část G obce'!$D$16 -> 0 | S37: ='část G obce'!$D$17 -> 0 | T37: ='část G obce'!$D$18 -> 0 | U37: ='část G obce'!$D$19 -> 0 | V37: ='část G obce'!$D$20 -> 0 | W37: ='část G obce'!$D$21 -> 0 | X37: ='část G obce'!$D$22 -> 0 | Y37: ='část G obce'!$D$23 -> 0 | Z37: ='část G obce'!$D$24 -> 0 | AA37: ='část G obce'!$D$25 -> 0 | AB37: ='část G obce'!$D$26 -> 0 | AC37: ='část G obce'!$D$27 -> 0 | AD37: ='část G obce'!$D$28 -> 0 | AE37: ='část G obce'!$D$29 -> 0 | AF37: ='část G obce'!$D$30 -> 0 | AG37: ='část G obce'!$D$31 -> 0 | AH37: ='část G obce'!$D$32 -> 0 | BT37: {=SUM($H$44:$BP$44*H37:BP37)} -> 0 | BU37: =BT37*0.41 -> 0
BT40: =SUM(BT1:BT39) -> 0 | BU40: =SUM(BU1:BU39) -> 0
H44: =COLUMN(H44) -> 8 | I44: =COLUMN(I44) -> 9 | J44: =COLUMN(J44) -> 10 | K44: =COLUMN(K44) -> 11 | L44: =COLUMN(L44) -> 12 | M44: =COLUMN(M44) -> 13 | N44: =COLUMN(N44) -> 14 | O44: =COLUMN(O44) -> 15 | ... BP44: =COLUMN(BP44) -> 68 | BT44: =BT40*100000000 -> 0 | BU44: =BU40*100000000 -> 0
F49: část D zaměstnanci (1 - 6, 11 - 16) | H49: Pracovníci v přímé péči celkem | I49: Sociální pracovníci | J49: Pracovníci v sociálních službách | K49: Přímá obslužná péče | L49: Základní výchovná nepedagogická činnost | M49: Pečovatelská činnost | N49: Činnosti pod dohledem sociálního pracovníka | O49: Zdravotničtí pracovníci | P49: Lékař | Q49: Nelékařští zdravotničtí pracovníci | R49: Všeobecná sestra | S49: Zdravotnický asistent | T49: Fyzioterapeut | U49: Ergoterapeut | V49: Zdravotně-sociální pracovník | W49: Nutriční terapeut | X49: Adiktolog | Y49: Ošetřovatel | Z49: Sanitář | AA49: Jiný odborný pracovník | AB49: Jiný výše neuvedený pracovník | AC49: Pedagogičtí pracovníci | AD49: Učitel | AE49: Vychovatel | AF49: Speciální pedagog | AG49: Psycholog | AH49: Pedagog volného času | AI49: Asistent pedagoga | AJ49: Trenér | AK49: Vedoucí pedagogický pracovník | AL49: Manželští a rodinní poradci | AM49: Další odborní pracovníci, kteří přímo poskytují sociální služby | AN49: Ostatní pracovníci celkem | AO49: Ostatní pracovníci (obslužný personál) | AP49: Pracovníci - prádelna | AQ49: Pracovníci - stravování | AR49: Pracovníci - údržba | AS49: Pracovníci - úklid | AT49: Pracovníci - obslužný personál ostatní | AU49: Vedoucí pracovníci | AV49: Vedoucí organizace | AW49: Vedoucí služby | AX49: Ostatní vedoucí pracovníci | AY49: Administrativní pracovníci | AZ49: Pracovníci - sekretářské a asistenční pozice | BA49: Účetní | BB49: Ostatní administrativní pracovníci | BC49: Pracovníci celkem
F51: část E náklady (21-26) | H51: Osobní náklady | I51: Pracovní smlouvy | J51: Pracovníci v přímé péči celkem | K51: Sociální pracovníci | L51: Pracovníci v sociálních službách | M51: Zdravotničtí pracovníci | N51: Pedagogičtí pracovníci | O51: Manželští a rodinní poradci | P51: Další odborní pracovníci, kteří přímo poskytují sociální služby | Q51: Ostatní pracovníci celkem | R51: Ostatní pracovníci (obslužný personál) | S51: Vedoucí pracovníci | T51: Administrativní pracovníci | U51: Dohody o pracovní činnosti | V51: Pracovníci v přímé péči celkem | W51: Sociální pracovníci | X51: Pracovníci v sociálních službách | Y51: Zdravotničtí pracovníci | Z51: Pedagogičtí pracovníci | AA51: Manželští a rodinní poradci | AB51: Další odborní pracovníci, kteří přímo poskytují sociální služby | AC51: Ostatní pracovníci celkem | AD51: Ostatní pracovníci (obslužný personál) | AE51: Vedoucí pracovníci | AF51: Administrativní pracovníci | AG51: Dohody o provedení práce | AH51: Pracovníci v přímé péči celkem | AI51: Sociální pracovníci | AJ51: Pracovníci v sociálních službách | AK51: Zdravotničtí pracovníci | AL51: Pedagogičtí pracovníci | AM51: Manželští a rodinní poradci | AN51: Další odborní pracovníci, kteří přímo poskytují sociální služby | AO51: Ostatní pracovníci celkem | AP51: Ostatní pracovníci (obslužný personál) | AQ51: Vedoucí pracovníci | AR51: Administrativní pracovníci | AS51: Jiné osobní náklady | AT51: Provozní náklady | AU51: Dlouhodobý majetek | AV51: Dlouhodobý nehmotný majetek do 60 tis. Kč | AW51: Dlouhodobý hmotný majetek do 40 tis. Kč | AX51: potraviny | AY51: kancelářské potřeby | AZ51: pohonné hmoty | BA51: jiné spotřebované nákupy | BB51: Služby | BC51: energie | BD51: telefony, internet, poštovné, ostatní spoje | BE51: nájemné | BF51: právní a ekonomické služby | BG51: školení a kurzy | BH51: opravy a udržování | BI51: cestovní náhrady | BJ51: pracovníci v přímé péči (mimo prac.poměr, DPP, DPČ) | BK51: ostatní pracovníci (mimo prac.poměr, DPP, DPČ) | BL51: jiné | BM51: odpisy | BN51: ostatní náklady | BO51: Nevyčerpané prostředky z dotace z důvodu nesplnění stanovené hodnoty plnění indikátorů uvedené v příloze č. 1 smlouvy | BP51: Celkem
F53: část E náklady (35) | H53: Požadavek na neinvestiční dotaci 1 | I53: Poskytnutá výše neinvestiční dotace 1 | J53: Vyčerpaná výše neinvestiční dotace 1 | K53: Vratka neinvestiční dotace 1 celkem (vratka dle ustanovení Čl. VI. odst. 16 / Čl. VI. odst. 17 smlouvy) | L53: - z toho vratka neinvestiční dotace 1 na mzdy, platy a jejich navýšení | M53: Požadavek na neinvestiční dotaci 2 | N53: Poskytnutá výše neinvestiční dotace 2 | O53: Vyčerpaná výše neinvestiční dotace 2 | P53: Vratka neinvestiční dotace 2 | Q53: Požadavek na dofinancování dle Průběžné zprávy o poskytování sociální služby za 1. pololetí 2019 | R53: Poskytnutá výše dofinancování sociálních služeb z rozpočtu Karlovarského kraje | S53: Vyčerpaná výše dofinancování sociálních služeb z rozpočtu Karlovarského kraje | T53: Vratka | U53: Poskytnutá výše neinvestiční dotace 3 | V53: Vyčerpaná výše neinvestiční dotace 3 | W53: Vratka
AE55: jen u sloupce za část služby poskytovanou v rámci kategorie A sítě sociálních služeb (42)
F56: část F zdroje (41-42) | H56: Neinvestiční dotace 2 - dotace z rozpočtu Karlovarského kraje dle ustanovení § 105 zákona o sociálních službách (nevyplňují příspěvkové organizace zřízené krajem) | I56: Neinvestiční dotace 1 - dotace z rozpočtu Karlovarského kraje dle ustanovení § 101a zákona o sociálních službách | J56: Karlovarský kraj - dotace z rozpočtu kraje v rámci projektu Podpora vybraných služeb sociální prevence (neinvestiční dotace 3) | K56: Karlovarský kraj - dotace z rozpočtu kraje v rámci projektu Podpora vybraných služeb sociální prevence II (neinvestiční dotace 3.1) | L56: Karlovarský kraj - dofinancování sociálních služeb z rozpočtu Karlovarského kraje | M56: Karlovarský kraj - příspěvek zřizovatele (vyplňují pouze příspěvkové organizace zřízené krajem) | N56: Ostatní kraje - dotace z rozpočtů krajů (rozepište konkrétní částky od jednotlivých krajů, včetně názvu kraje) | O56: Obce - dotace z rozpočtů obcí (rozepište konkrétní částky od jednotlivých obcí, včetně názvu obce) | P56: Obce - příspěvky zřizovatele (rozepište konkrétní částky od jednotlivých obcí, včetně názvu obce) | Q56: Dotace Úřad vlády ČR | R56: Dotace ostatní resorty státní správy (uveďte jaké, včetně konkrétních částek) | S56: Úřad práce ČR | T56: Pěstounská péče - dohoda o výkonu | U56: Strukturální fondy (vlastní projekty poskytovatele sociálních služeb) | V56: Strukturální fondy (projekt Karlovarského kraje) | W56: Strukturální fondy (projekt obce) | X56: Strukturální fondy (ostatní) | Y56: Úhrady od uživatelů (za základní činnosti sociální služby) | Z56: Úhrady od uživatelů (za fakultativní činnosti) | AA56: Fondy zdravotních pojišťoven | AB56: Nadace, sponzoři | AC56: Jiné zdroje (uveďte jaké) | AD56: Celkem | AE56: vratka neinvestiční dotace 1 | AF56: vratka neinvestiční dotace 2 | AG56: vratka dofinancování | AH56: vratka neinvestiční dotace 3 | AI56: vratka celkem | AK56: pozor - u projektů změnit odkaz vratka dotace1 - dotace3
F58: část B int_AT_péče (51, 51.1) | H58: skutečná hodnota (1. pololetí 2018) provozní doba - celkový počet hodin | I58: skutečná hodnota (1. pololetí 2018) provozní doba - celkový počet dnů | J58: skutečná hodnota (1. pololetí 2018) celkový počet uživatelů | K58: skutečná hodnota (1. pololetí 2018) celkový počet uživatel-dnů (všechny druhy sociálních služeb kromě tísňové péče) | L58: skutečná hodnota (1. pololetí 2018) celkový počet uživatel-hodin (všechny druhy sociálních služeb kromě tísňové péče) | M58: skutečná hodnota (1. pololetí 2018) počet poskytnutých úkonů (pouze pečovatelská služba) | N58: skutečná hodnota (1. pololetí 2018) počet hodin poskytování přímé péče v rámci setkání (pouze pečovatelská služba) | O58: skutečná hodnota (1. pololetí 2018) počet hodin pracovní pohotovosti (pouze tísňová péče) | P58: skutečná hodnota (1. pololetí 2018) počet využití zařízení tísňové péče (pouze tísňová péče) | Q58: skutečná hodnota (3. čtvrtletí 2018) provozní doba - celkový počet hodin | R58: skutečná hodnota (3. čtvrtletí 2018) provozní doba - celkový počet dnů | S58: skutečná hodnota (3. čtvrtletí 2018) celkový počet uživatelů | T58: skutečná hodnota (3. čtvrtletí 2018) celkový počet uživatel-dnů (všechny druhy sociálních služeb kromě tísňové péče) | U58: skutečná hodnota (3. čtvrtletí 2018) celkový počet uživatel-hodin (všechny druhy sociálních služeb kromě tísňové péče) | V58: skutečná hodnota (3. čtvrtletí 2018) počet poskytnutých úkonů (pouze pečovatelská služba) | W58: skutečná hodnota (3. čtvrtletí 2018) počet hodin poskytování přímé péče v rámci setkání (pouze pečovatelská služba) | X58: skutečná hodnota (3. čtvrtletí 2018) počet hodin pracovní pohotovosti (pouze tísňová péče) | Y58: skutečná hodnota (3. čtvrtletí 2018) počet využití zařízení tísňové péče (pouze tísňová péče) | Z58: skutečná hodnota (4. čtvrtletí 2018) provozní doba - celkový počet hodin | AA58: skutečná hodnota (4. čtvrtletí 2018) provozní doba - celkový počet dnů | AB58: skutečná hodnota (4. čtvrtletí 2018) celkový počet uživatelů | AC58: skutečná hodnota (4. čtvrtletí 2018) celkový počet uživatel-dnů (všechny druhy sociálních služeb kromě tísňové péče) | AD58: skutečná hodnota (4. čtvrtletí 2018) celkový počet uživatel-hodin (všechny druhy sociálních služeb kromě tísňové péče) | AE58: skutečná hodnota (4. čtvrtletí 2018) počet poskytnutých úkonů (pouze pečovatelská služba) | AF58: skutečná hodnota (4. čtvrtletí 2018) počet hodin poskytování přímé péče v rámci setkání (pouze pečovatelská služba) | AG58: skutečná hodnota (4. čtvrtletí 2018) počet hodin pracovní pohotovosti (pouze tísňová péče) | AH58: skutečná hodnota (4. čtvrtletí 2018) počet využití zařízení tísňové péče (pouze tísňová péče) | AI58: skutečná hodnota (rok 2018) provozní doba - celkový počet hodin | AJ58: skutečná hodnota (rok 2018) provozní doba - celkový počet dnů | AK58: skutečná hodnota (rok 2018) celkový počet uživatelů | AL58: skutečná hodnota (rok 2018) celkový počet uživatel-dnů (všechny druhy sociálních služeb kromě tísňové péče) | AM58: skutečná hodnota (rok 2018) celkový počet uživatel-hodin (všechny druhy sociálních služeb kromě tísňové péče) | AN58: skutečná hodnota (rok 2018) počet poskytnutých úkonů (pouze pečovatelská služba) | AO58: skutečná hodnota (rok 2018) počet hodin poskytování přímé péče v rámci setkání (pouze pečovatelská služba) | AP58: skutečná hodnota (rok 2018) počet hodin pracovní pohotovosti (pouze tísňová péče) | AQ58: skutečná hodnota (rok 2018) počet využití zařízení tísňové péče (pouze tísňová péče) | AR58: skutečná hodnota (rok 2018, za celou sociální službu - identifikátor) provozní doba - celkový počet hodin | AS58: skutečná hodnota (rok 2018, za celou sociální službu - identifikátor) provozní doba - celkový počet dnů | AT58: skutečná hodnota (rok 2018, za celou sociální službu - identifikátor) celkový počet uživatelů
F60: část B int_AT_péče, AT_prevence (pouze rok 2018 a 2019), P_péče (56, 56.1) | H60: osoby do 18 let - stupeň 1 | I60: osoby do 18 let - stupeň 2 | J60: osoby do 18 let - stupeň 3 | K60: osoby do 18 let - stupeň 4 | L60: osoby do 18 let - ostatní | M60: osoby do 18 let - celkem | N60: osoby nad 18 let - stupeň 1 | O60: osoby nad 18 let - stupeň 2 | P60: osoby nad 18 let - stupeň 3 | Q60: osoby nad 18 let - stupeň 4 | R60: osoby nad 18 let - ostatní | S60: osoby nad 18 let - celkem | T60: celkem - stupeň 1 | U60: celkem - stupeň 2 | V60: celkem - stupeň 3 | W60: celkem - stupeň 4 | X60: celkem - ostatní | Y60: celkem - celkem | Z60: procentní složení uživatelů - stupeň 1 | AA60: procentní složení uživatelů - stupeň 2 | AB60: procentní složení uživatelů - stupeň 3 | AC60: procentní složení uživatelů - stupeň 4 | AD60: procentní složení uživatelů - ostatní | AE60: procentní složení uživatelů - celkem
J61: pozor, došlo k přehození buňek (hodiny, dny - rok 20,21)
F62: část B ind AT prev (61, 61.1) | H62: skutečná hodnota (1. pololetí 2018) - provozní doba - celkový počet dnů | I62: skutečná hodnota (1. pololetí 2018) - provozní doba - celkový počet hodin | J62: skutečná hodnota (1. pololetí 2018) - celkový počet uživatelů (všechny druhy sociálních služeb kromě telefonické krizové pomoci) | K62: skutečná hodnota (1. pololetí 2018) - celkový počet hovorů (pouze telefonická krizová pomoc) | L62: skutečná hodnota (1. pololetí 2018) - počet lůžek (pouze noclehárny) | M62: skutečná hodnota (1. pololetí 2018) - celkový počet uživatel-dnů | N62: skutečná hodnota (1. pololetí 2018) - celkový počet uživatel-hodin (pouze sociálně terapeutické dílny) | O62: skutečná hodnota (1. pololetí 2018) - celkový počet intervencí (všechny druhy sociálních služeb kromě sociálně terapeutických dílen) | P62: skutečná hodnota (1. pololetí 2018) - celkový počet kontaktů (všechny druhy sociálních služeb kromě sociálně terapeutických dílen) | Q62: skutečná hodnota (3. čtvrtletí 2018) - provozní doba - celkový počet dnů | R62: skutečná hodnota (3. čtvrtletí 2018) - provozní doba - celkový počet hodin | S62: skutečná hodnota (3. čtvrtletí 2018) - celkový počet uživatelů (všechny druhy sociálních služeb kromě telefonické krizové pomoci) | T62: skutečná hodnota (3. čtvrtletí 2018) - celkový počet hovorů (pouze telefonická krizová pomoc) | U62: skutečná hodnota (3. čtvrtletí 2018) - počet lůžek (pouze noclehárny) | V62: skutečná hodnota (3. čtvrtletí 2018) - celkový počet uživatel-dnů | W62: skutečná hodnota (3. čtvrtletí 2018) - celkový počet uživatel-hodin (pouze sociálně terapeutické dílny) | X62: skutečná hodnota (3. čtvrtletí 2018) - celkový počet intervencí (všechny druhy sociálních služeb kromě sociálně terapeutických dílen) | Y62: skutečná hodnota (3. čtvrtletí 2018) - celkový počet kontaktů (všechny druhy sociálních služeb kromě sociálně terapeutických dílen) | Z62: skutečná hodnota (4. čtvrtletí 2018) - provozní doba - celkový počet dnů | AA62: skutečná hodnota (4. čtvrtletí 2018) - provozní doba - celkový počet hodin | AB62: skutečná hodnota (4. čtvrtletí 2018) - celkový počet uživatelů (všechny druhy sociálních služeb kromě telefonické krizové pomoci) | AC62: skutečná hodnota (4. čtvrtletí 2018) - celkový počet hovorů (pouze telefonická krizová pomoc) | AD62: skutečná hodnota (4. čtvrtletí 2018) - počet lůžek (pouze noclehárny) | AE62: skutečná hodnota (4. čtvrtletí 2018) - celkový počet uživatel-dnů | AF62: skutečná hodnota (4. čtvrtletí 2018) - celkový počet uživatel-hodin (pouze sociálně terapeutické dílny) | AG62: skutečná hodnota (4. čtvrtletí 2018) - celkový počet intervencí (všechny druhy sociálních služeb kromě sociálně terapeutických dílen) | AH62: skutečná hodnota (4. čtvrtletí 2018) - celkový počet kontaktů (všechny druhy sociálních služeb kromě sociálně terapeutických dílen) | AI62: skutečná hodnota (rok 2018) - provozní doba - celkový počet dnů | AJ62: skutečná hodnota (rok 2018) - provozní doba - celkový počet hodin | AK62: skutečná hodnota (rok 2018) - celkový počet uživatelů (všechny druhy sociálních služeb kromě telefonické krizové pomoci) | AL62: skutečná hodnota (rok 2018) - celkový počet hovorů (pouze telefonická krizová pomoc) | AM62: skutečná hodnota (rok 2018) - počet lůžek (pouze noclehárny) | AN62: skutečná hodnota (rok 2018) - celkový počet uživatel-dnů | AO62: skutečná hodnota (rok 2018) - celkový počet uživatel-hodin (pouze sociálně terapeutické dílny) | AP62: skutečná hodnota (rok 2018) - celkový počet intervencí (všechny druhy sociálních služeb kromě sociálně terapeutických dílen) | AQ62: skutečná hodnota (rok 2018) - celkový počet kontaktů (všechny druhy sociálních služeb kromě sociálně terapeutických dílen) | AR62: skutečná hodnota (rok 2018, za celou sociální službu - identifikátor) - provozní doba - celkový počet dnů | AS62: skutečná hodnota (rok 2018, za celou sociální službu - identifikátor) - provozní doba - celkový počet hodin | AT62: skutečná hodnota (rok 2018, za celou sociální službu - identifikátor) - celkový počet uživatelů (všechny druhy sociálních služeb kromě telefonické krizové pomoci) | AU62: skutečná hodnota (rok 2018, za celou sociální službu - identifikátor) - celkový počet hovorů (pouze telefonická krizová pomoc) | AV62: skutečná hodnota (rok 2018, za celou sociální službu - identifikátor) - počet lůžek (pouze noclehárny)
F64: část B ind_P_péče (66) | H64: skutečná hodnota (1. pololetí 2018) - počet lůžek | I64: skutečná hodnota (1. pololetí 2018) - počet dnů poskytování (provozu) služby | J64: skutečná hodnota (1. pololetí 2018) - celková kapacita počtu lůžko-dnů | K64: skutečná hodnota (1. pololetí 2018) - celkový skutečný využitý počet lůžko-dnů | L64: skutečná hodnota (1. pololetí 2018) - obložnost | M64: skutečná hodnota (1. pololetí 2018) - celkový počet uživatelů | N64: skutečná hodnota (3. čtvrtletí 2018) - počet lůžek | O64: skutečná hodnota (3. čtvrtletí 2018) - počet dnů poskytování (provozu) služby | P64: skutečná hodnota (3. čtvrtletí 2018) - celková kapacita počtu lůžko-dnů | Q64: skutečná hodnota (3. čtvrtletí 2018) - celkový skutečný využitý počet lůžko-dnů | R64: skutečná hodnota (3. čtvrtletí 2018) - obložnost | S64: skutečná hodnota (3. čtvrtletí 2018) - celkový počet uživatelů | T64: skutečná hodnota (4. čtvrtletí 2018) - počet lůžek | U64: skutečná hodnota (4. čtvrtletí 2018) - počet dnů poskytování (provozu) služby | V64: skutečná hodnota (4. čtvrtletí 2018) - celková kapacita počtu lůžko-dnů | W64: skutečná hodnota (4. čtvrtletí 2018) - celkový skutečný využitý počet lůžko-dnů | X64: skutečná hodnota (4. čtvrtletí 2018) - obložnost | Y64: skutečná hodnota (4. čtvrtletí 2018) - celkový počet uživatelů | Z64: skutečná hodnota (rok 2018) - počet lůžek | AA64: skutečná hodnota (rok 2018) - počet dnů poskytování (provozu) služby | AB64: skutečná hodnota (rok 2018) - celková kapacita počtu lůžko-dnů | AC64: skutečná hodnota (rok 2018) - celkový skutečný využitý počet lůžko-dnů | AD64: skutečná hodnota (rok 2018) - obložnost | AE64: skutečná hodnota (rok 2018) - celkový počet uživatelů | AF64: skutečná hodnota (rok 2018, za celou sociální službu - identifikátor) - počet lůžek | AG64: skutečná hodnota (rok 2018, za celou sociální službu - identifikátor) - počet dnů poskytování (provozu) služby | AH64: skutečná hodnota (rok 2018, za celou sociální službu - identifikátor) - celková kapacita počtu lůžko-dnů | AI64: skutečná hodnota (rok 2018, za celou sociální službu - identifikátor) - celkový skutečný využitý počet lůžko-dnů | AJ64: skutečná hodnota (rok 2018, za celou sociální službu - identifikátor) - obložnost | AK64: skutečná hodnota (rok 2018, za celou sociální službu - identifikátor) - celkový počet uživatelů
